Workbook

Sheet Report_Table
D1: Gallons | O1: Acre-Feet
A2: Year | B2: Week | C2: # Days | D2: Well #1 | E2: Well #6 | F2: Well #9 | G2: Well #11 | H2: Well #12 | I2: Well #13 | J2: Well #14 | K2: Well #15 | L2: Farm Well | M2: Potable Total | N2: All Wells Total | O2: All Wells Total
A3: 2015 | B3: 1 | C3: =COUNTIFS(ALL_WELLS!$C$2:$C$732,Report_Table!$B3,ALL_WELLS!$A$2:$A$732,Report_Table!$A3) -> 3 | D3: =SUMIFS(ALL_WELLS!F$2:F$732,ALL_WELLS!$C$2:$C$732,Report_Table!$B3,ALL_WELLS!$A$2:$A$732,Report_Table!$A3) -> 2954257 | E3: =SUMIFS(ALL_WELLS!G$2:G$732,ALL_WELLS!$C$2:$C$732,Report_Table!$B3,ALL_WELLS!$A$2:$A$732,Report_Table!$A3) -> 0 | F3: =SUMIFS(ALL_WELLS!H$2:H$732,ALL_WELLS!$C$2:$C$732,Report_Table!$B3,ALL_WELLS!$A$2:$A$732,Report_Table!$A3) -> 0 | G3: =SUMIFS(ALL_WELLS!I$2:I$732,ALL_WELLS!$C$2:$C$732,Report_Table!$B3,ALL_WELLS!$A$2:$A$732,Report_Table!$A3) -> 0 | H3: =SUMIFS(ALL_WELLS!J$2:J$732,ALL_WELLS!$C$2:$C$732,Report_Table!$B3,ALL_WELLS!$A$2:$A$732,Report_Table!$A3) -> 0 | I3: =SUMIFS(ALL_WELLS!K$2:K$732,ALL_WELLS!$C$2:$C$732,Report_Table!$B3,ALL_WELLS!$A$2:$A$732,Report_Table!$A3) -> 517500 | J3: =SUMIFS(ALL_WELLS!L$2:L$732,ALL_WELLS!$C$2:$C$732,Report_Table!$B3,ALL_WELLS!$A$2:$A$732,Report_Table!$A3) -> 0 | K3: =SUMIFS(ALL_WELLS!M$2:M$732,ALL_WELLS!$C$2:$C$732,Report_Table!$B3,ALL_WELLS!$A$2:$A$732,Report_Table!$A3) -> 0 | ... N3: =SUMIFS(ALL_WELLS!P$2:P$732,ALL_WELLS!$C$2:$C$732,Report_Table!$B3,ALL_WELLS!$A$2:$A$732,Report_Table!$A3) -> 3471757 | O3: =N3/7.48/43560 -> 10.655157
A4: 2015 | B4: 2 | C4: =COUNTIFS(ALL_WELLS!$C$2:$C$732,Report_Table!$B4,ALL_WELLS!$A$2:$A$732,Report_Table!$A4) -> 7 | D4: =SUMIFS(ALL_WELLS!F$2:F$732,ALL_WELLS!$C$2:$C$732,Report_Table!$B4,ALL_WELLS!$A$2:$A$732,Report_Table!$A4) -> 7386638 | E4: =SUMIFS(ALL_WELLS!G$2:G$732,ALL_WELLS!$C$2:$C$732,Report_Table!$B4,ALL_WELLS!$A$2:$A$732,Report_Table!$A4) -> 0 | F4: =SUMIFS(ALL_WELLS!H$2:H$732,ALL_WELLS!$C$2:$C$732,Report_Table!$B4,ALL_WELLS!$A$2:$A$732,Report_Table!$A4) -> 0 | G4: =SUMIFS(ALL_WELLS!I$2:I$732,ALL_WELLS!$C$2:$C$732,Report_Table!$B4,ALL_WELLS!$A$2:$A$732,Report_Table!$A4) -> 0 | H4: =SUMIFS(ALL_WELLS!J$2:J$732,ALL_WELLS!$C$2:$C$732,Report_Table!$B4,ALL_WELLS!$A$2:$A$732,Report_Table!$A4) -> 0 | I4: =SUMIFS(ALL_WELLS!K$2:K$732,ALL_WELLS!$C$2:$C$732,Report_Table!$B4,ALL_WELLS!$A$2:$A$732,Report_Table!$A4) -> 1435270 | J4: =SUMIFS(ALL_WELLS!L$2:L$732,ALL_WELLS!$C$2:$C$732,Report_Table!$B4,ALL_WELLS!$A$2:$A$732,Report_Table!$A4) -> 0 | K4: =SUMIFS(ALL_WELLS!M$2:M$732,ALL_WELLS!$C$2:$C$732,Report_Table!$B4,ALL_WELLS!$A$2:$A$732,Report_Table!$A4) -> 0 | ... N4: =SUMIFS(ALL_WELLS!P$2:P$732,ALL_WELLS!$C$2:$C$732,Report_Table!$B4,ALL_WELLS!$A$2:$A$732,Report_Table!$A4) -> 8821908 | O4: =N4/7.48/43560 -> 27.075286
A5: 2015 | B5: 3 | C5: =COUNTIFS(ALL_WELLS!$C$2:$C$732,Report_Table!$B5,ALL_WELLS!$A$2:$A$732,Report_Table!$A5) -> 7 | D5: =SUMIFS(ALL_WELLS!F$2:F$732,ALL_WELLS!$C$2:$C$732,Report_Table!$B5,ALL_WELLS!$A$2:$A$732,Report_Table!$A5) -> 7076231 | E5: =SUMIFS(ALL_WELLS!G$2:G$732,ALL_WELLS!$C$2:$C$732,Report_Table!$B5,ALL_WELLS!$A$2:$A$732,Report_Table!$A5) -> 0 | F5: =SUMIFS(ALL_WELLS!H$2:H$732,ALL_WELLS!$C$2:$C$732,Report_Table!$B5,ALL_WELLS!$A$2:$A$732,Report_Table!$A5) -> 0 | G5: =SUMIFS(ALL_WELLS!I$2:I$732,ALL_WELLS!$C$2:$C$732,Report_Table!$B5,ALL_WELLS!$A$2:$A$732,Report_Table!$A5) -> 0 | H5: =SUMIFS(ALL_WELLS!J$2:J$732,ALL_WELLS!$C$2:$C$732,Report_Table!$B5,ALL_WELLS!$A$2:$A$732,Report_Table!$A5) -> 0 | I5: =SUMIFS(ALL_WELLS!K$2:K$732,ALL_WELLS!$C$2:$C$732,Report_Table!$B5,ALL_WELLS!$A$2:$A$732,Report_Table!$A5) -> 1475410 | J5: =SUMIFS(ALL_WELLS!L$2:L$732,ALL_WELLS!$C$2:$C$732,Report_Table!$B5,ALL_WELLS!$A$2:$A$732,Report_Table!$A5) -> 0 | K5: =SUMIFS(ALL_WELLS!M$2:M$732,ALL_WELLS!$C$2:$C$732,Report_Table!$B5,ALL_WELLS!$A$2:$A$732,Report_Table!$A5) -> 0 | ... N5: =SUMIFS(ALL_WELLS!P$2:P$732,ALL_WELLS!$C$2:$C$732,Report_Table!$B5,ALL_WELLS!$A$2:$A$732,Report_Table!$A5) -> 8551641 | O5: =N5/7.48/43560 -> 26.245811
A6: 2015 | B6: 4 | C6: =COUNTIFS(ALL_WELLS!$C$2:$C$732,Report_Table!$B6,ALL_WELLS!$A$2:$A$732,Report_Table!$A6) -> 7 | D6: =SUMIFS(ALL_WELLS!F$2:F$732,ALL_WELLS!$C$2:$C$732,Report_Table!$B6,ALL_WELLS!$A$2:$A$732,Report_Table!$A6) -> 7170175 | E6: =SUMIFS(ALL_WELLS!G$2:G$732,ALL_WELLS!$C$2:$C$732,Report_Table!$B6,ALL_WELLS!$A$2:$A$732,Report_Table!$A6) -> 0 | F6: =SUMIFS(ALL_WELLS!H$2:H$732,ALL_WELLS!$C$2:$C$732,Report_Table!$B6,ALL_WELLS!$A$2:$A$732,Report_Table!$A6) -> 0 | G6: =SUMIFS(ALL_WELLS!I$2:I$732,ALL_WELLS!$C$2:$C$732,Report_Table!$B6,ALL_WELLS!$A$2:$A$732,Report_Table!$A6) -> 0 | H6: =SUMIFS(ALL_WELLS!J$2:J$732,ALL_WELLS!$C$2:$C$732,Report_Table!$B6,ALL_WELLS!$A$2:$A$732,Report_Table!$A6) -> 0 | I6: =SUMIFS(ALL_WELLS!K$2:K$732,ALL_WELLS!$C$2:$C$732,Report_Table!$B6,ALL_WELLS!$A$2:$A$732,Report_Table!$A6) -> 1269450 | J6: =SUMIFS(ALL_WELLS!L$2:L$732,ALL_WELLS!$C$2:$C$732,Report_Table!$B6,ALL_WELLS!$A$2:$A$732,Report_Table!$A6) -> 0 | K6: =SUMIFS(ALL_WELLS!M$2:M$732,ALL_WELLS!$C$2:$C$732,Report_Table!$B6,ALL_WELLS!$A$2:$A$732,Report_Table!$A6) -> 0 | ... N6: =SUMIFS(ALL_WELLS!P$2:P$732,ALL_WELLS!$C$2:$C$732,Report_Table!$B6,ALL_WELLS!$A$2:$A$732,Report_Table!$A6) -> 8439625 | O6: =N6/7.48/43560 -> 25.902023
A7: 2015 | B7: 5 | C7: =COUNTIFS(ALL_WELLS!$C$2:$C$732,Report_Table!$B7,ALL_WELLS!$A$2:$A$732,Report_Table!$A7) -> 7 | D7: =SUMIFS(ALL_WELLS!F$2:F$732,ALL_WELLS!$C$2:$C$732,Report_Table!$B7,ALL_WELLS!$A$2:$A$732,Report_Table!$A7) -> 7182651 | E7: =SUMIFS(ALL_WELLS!G$2:G$732,ALL_WELLS!$C$2:$C$732,Report_Table!$B7,ALL_WELLS!$A$2:$A$732,Report_Table!$A7) -> 0 | F7: =SUMIFS(ALL_WELLS!H$2:H$732,ALL_WELLS!$C$2:$C$732,Report_Table!$B7,ALL_WELLS!$A$2:$A$732,Report_Table!$A7) -> 0 | G7: =SUMIFS(ALL_WELLS!I$2:I$732,ALL_WELLS!$C$2:$C$732,Report_Table!$B7,ALL_WELLS!$A$2:$A$732,Report_Table!$A7) -> 0 | H7: =SUMIFS(ALL_WELLS!J$2:J$732,ALL_WELLS!$C$2:$C$732,Report_Table!$B7,ALL_WELLS!$A$2:$A$732,Report_Table!$A7) -> 0 | I7: =SUMIFS(ALL_WELLS!K$2:K$732,ALL_WELLS!$C$2:$C$732,Report_Table!$B7,ALL_WELLS!$A$2:$A$732,Report_Table!$A7) -> 1090990 | J7: =SUMIFS(ALL_WELLS!L$2:L$732,ALL_WELLS!$C$2:$C$732,Report_Table!$B7,ALL_WELLS!$A$2:$A$732,Report_Table!$A7) -> 151000 | K7: =SUMIFS(ALL_WELLS!M$2:M$732,ALL_WELLS!$C$2:$C$732,Report_Table!$B7,ALL_WELLS!$A$2:$A$732,Report_Table!$A7) -> 0 | ... N7: =SUMIFS(ALL_WELLS!P$2:P$732,ALL_WELLS!$C$2:$C$732,Report_Table!$B7,ALL_WELLS!$A$2:$A$732,Report_Table!$A7) -> 8424641 | O7: =N7/7.48/43560 -> 25.856035
A8: 2015 | B8: 6 | C8: =COUNTIFS(ALL_WELLS!$C$2:$C$732,Report_Table!$B8,ALL_WELLS!$A$2:$A$732,Report_Table!$A8) -> 7 | D8: =SUMIFS(ALL_WELLS!F$2:F$732,ALL_WELLS!$C$2:$C$732,Report_Table!$B8,ALL_WELLS!$A$2:$A$732,Report_Table!$A8) -> 7169953 | E8: =SUMIFS(ALL_WELLS!G$2:G$732,ALL_WELLS!$C$2:$C$732,Report_Table!$B8,ALL_WELLS!$A$2:$A$732,Report_Table!$A8) -> 0 | F8: =SUMIFS(ALL_WELLS!H$2:H$732,ALL_WELLS!$C$2:$C$732,Report_Table!$B8,ALL_WELLS!$A$2:$A$732,Report_Table!$A8) -> 0 | G8: =SUMIFS(ALL_WELLS!I$2:I$732,ALL_WELLS!$C$2:$C$732,Report_Table!$B8,ALL_WELLS!$A$2:$A$732,Report_Table!$A8) -> 0 | H8: =SUMIFS(ALL_WELLS!J$2:J$732,ALL_WELLS!$C$2:$C$732,Report_Table!$B8,ALL_WELLS!$A$2:$A$732,Report_Table!$A8) -> 0 | I8: =SUMIFS(ALL_WELLS!K$2:K$732,ALL_WELLS!$C$2:$C$732,Report_Table!$B8,ALL_WELLS!$A$2:$A$732,Report_Table!$A8) -> 819220 | J8: =SUMIFS(ALL_WELLS!L$2:L$732,ALL_WELLS!$C$2:$C$732,Report_Table!$B8,ALL_WELLS!$A$2:$A$732,Report_Table!$A8) -> 210000 | K8: =SUMIFS(ALL_WELLS!M$2:M$732,ALL_WELLS!$C$2:$C$732,Report_Table!$B8,ALL_WELLS!$A$2:$A$732,Report_Table!$A8) -> 0 | ... N8: =SUMIFS(ALL_WELLS!P$2:P$732,ALL_WELLS!$C$2:$C$732,Report_Table!$B8,ALL_WELLS!$A$2:$A$732,Report_Table!$A8) -> 8199173 | O8: =N8/7.48/43560 -> 25.164052
A9: 2015 | B9: 7 | C9: =COUNTIFS(ALL_WELLS!$C$2:$C$732,Report_Table!$B9,ALL_WELLS!$A$2:$A$732,Report_Table!$A9) -> 7 | D9: =SUMIFS(ALL_WELLS!F$2:F$732,ALL_WELLS!$C$2:$C$732,Report_Table!$B9,ALL_WELLS!$A$2:$A$732,Report_Table!$A9) -> 6989894 | E9: =SUMIFS(ALL_WELLS!G$2:G$732,ALL_WELLS!$C$2:$C$732,Report_Table!$B9,ALL_WELLS!$A$2:$A$732,Report_Table!$A9) -> 0 | F9: =SUMIFS(ALL_WELLS!H$2:H$732,ALL_WELLS!$C$2:$C$732,Report_Table!$B9,ALL_WELLS!$A$2:$A$732,Report_Table!$A9) -> 0 | G9: =SUMIFS(ALL_WELLS!I$2:I$732,ALL_WELLS!$C$2:$C$732,Report_Table!$B9,ALL_WELLS!$A$2:$A$732,Report_Table!$A9) -> 0 | H9: =SUMIFS(ALL_WELLS!J$2:J$732,ALL_WELLS!$C$2:$C$732,Report_Table!$B9,ALL_WELLS!$A$2:$A$732,Report_Table!$A9) -> 0 | I9: =SUMIFS(ALL_WELLS!K$2:K$732,ALL_WELLS!$C$2:$C$732,Report_Table!$B9,ALL_WELLS!$A$2:$A$732,Report_Table!$A9) -> 980160 | J9: =SUMIFS(ALL_WELLS!L$2:L$732,ALL_WELLS!$C$2:$C$732,Report_Table!$B9,ALL_WELLS!$A$2:$A$732,Report_Table!$A9) -> 199000 | K9: =SUMIFS(ALL_WELLS!M$2:M$732,ALL_WELLS!$C$2:$C$732,Report_Table!$B9,ALL_WELLS!$A$2:$A$732,Report_Table!$A9) -> 0 | ... N9: =SUMIFS(ALL_WELLS!P$2:P$732,ALL_WELLS!$C$2:$C$732,Report_Table!$B9,ALL_WELLS!$A$2:$A$732,Report_Table!$A9) -> 8169054 | O9: =N9/7.48/43560 -> 25.071614
A10: 2015 | B10: 8 | C10: =COUNTIFS(ALL_WELLS!$C$2:$C$732,Report_Table!$B10,ALL_WELLS!$A$2:$A$732,Report_Table!$A10) -> 7 | D10: =SUMIFS(ALL_WELLS!F$2:F$732,ALL_WELLS!$C$2:$C$732,Report_Table!$B10,ALL_WELLS!$A$2:$A$732,Report_Table!$A10) -> 6955610 | E10: =SUMIFS(ALL_WELLS!G$2:G$732,ALL_WELLS!$C$2:$C$732,Report_Table!$B10,ALL_WELLS!$A$2:$A$732,Report_Table!$A10) -> 0 | F10: =SUMIFS(ALL_WELLS!H$2:H$732,ALL_WELLS!$C$2:$C$732,Report_Table!$B10,ALL_WELLS!$A$2:$A$732,Report_Table!$A10) -> 0 | G10: =SUMIFS(ALL_WELLS!I$2:I$732,ALL_WELLS!$C$2:$C$732,Report_Table!$B10,ALL_WELLS!$A$2:$A$732,Report_Table!$A10) -> 0 | H10: =SUMIFS(ALL_WELLS!J$2:J$732,ALL_WELLS!$C$2:$C$732,Report_Table!$B10,ALL_WELLS!$A$2:$A$732,Report_Table!$A10) -> 0 | I10: =SUMIFS(ALL_WELLS!K$2:K$732,ALL_WELLS!$C$2:$C$732,Report_Table!$B10,ALL_WELLS!$A$2:$A$732,Report_Table!$A10) -> 891270 | J10: =SUMIFS(ALL_WELLS!L$2:L$732,ALL_WELLS!$C$2:$C$732,Report_Table!$B10,ALL_WELLS!$A$2:$A$732,Report_Table!$A10) -> 318000 | K10: =SUMIFS(ALL_WELLS!M$2:M$732,ALL_WELLS!$C$2:$C$732,Report_Table!$B10,ALL_WELLS!$A$2:$A$732,Report_Table!$A10) -> 0 | ... N10: =SUMIFS(ALL_WELLS!P$2:P$732,ALL_WELLS!$C$2:$C$732,Report_Table!$B10,ALL_WELLS!$A$2:$A$732,Report_Table!$A10) -> 8164880 | O10: =N10/7.48/43560 -> 25.058804
A11: 2015 | B11: 9 | C11: =COUNTIFS(ALL_WELLS!$C$2:$C$732,Report_Table!$B11,ALL_WELLS!$A$2:$A$732,Report_Table!$A11) -> 7 | D11: =SUMIFS(ALL_WELLS!F$2:F$732,ALL_WELLS!$C$2:$C$732,Report_Table!$B11,ALL_WELLS!$A$2:$A$732,Report_Table!$A11) -> 6871054 | E11: =SUMIFS(ALL_WELLS!G$2:G$732,ALL_WELLS!$C$2:$C$732,Report_Table!$B11,ALL_WELLS!$A$2:$A$732,Report_Table!$A11) -> 0 | F11: =SUMIFS(ALL_WELLS!H$2:H$732,ALL_WELLS!$C$2:$C$732,Report_Table!$B11,ALL_WELLS!$A$2:$A$732,Report_Table!$A11) -> 0 | G11: =SUMIFS(ALL_WELLS!I$2:I$732,ALL_WELLS!$C$2:$C$732,Report_Table!$B11,ALL_WELLS!$A$2:$A$732,Report_Table!$A11) -> 0 | H11: =SUMIFS(ALL_WELLS!J$2:J$732,ALL_WELLS!$C$2:$C$732,Report_Table!$B11,ALL_WELLS!$A$2:$A$732,Report_Table!$A11) -> 0 | I11: =SUMIFS(ALL_WELLS!K$2:K$732,ALL_WELLS!$C$2:$C$732,Report_Table!$B11,ALL_WELLS!$A$2:$A$732,Report_Table!$A11) -> 542810 | J11: =SUMIFS(ALL_WELLS!L$2:L$732,ALL_WELLS!$C$2:$C$732,Report_Table!$B11,ALL_WELLS!$A$2:$A$732,Report_Table!$A11) -> 446000 | K11: =SUMIFS(ALL_WELLS!M$2:M$732,ALL_WELLS!$C$2:$C$732,Report_Table!$B11,ALL_WELLS!$A$2:$A$732,Report_Table!$A11) -> 0 | ... N11: =SUMIFS(ALL_WELLS!P$2:P$732,ALL_WELLS!$C$2:$C$732,Report_Table!$B11,ALL_WELLS!$A$2:$A$732,Report_Table!$A11) -> 7859864 | O11: =N11/7.48/43560 -> 24.12268
A12: 2015 | B12: 10 | C12: =COUNTIFS(ALL_WELLS!$C$2:$C$732,Report_Table!$B12,ALL_WELLS!$A$2:$A$732,Report_Table!$A12) -> 7 | D12: =SUMIFS(ALL_WELLS!F$2:F$732,ALL_WELLS!$C$2:$C$732,Report_Table!$B12,ALL_WELLS!$A$2:$A$732,Report_Table!$A12) -> 6922706 | E12: =SUMIFS(ALL_WELLS!G$2:G$732,ALL_WELLS!$C$2:$C$732,Report_Table!$B12,ALL_WELLS!$A$2:$A$732,Report_Table!$A12) -> 0 | F12: =SUMIFS(ALL_WELLS!H$2:H$732,ALL_WELLS!$C$2:$C$732,Report_Table!$B12,ALL_WELLS!$A$2:$A$732,Report_Table!$A12) -> 0 | G12: =SUMIFS(ALL_WELLS!I$2:I$732,ALL_WELLS!$C$2:$C$732,Report_Table!$B12,ALL_WELLS!$A$2:$A$732,Report_Table!$A12) -> 0 | H12: =SUMIFS(ALL_WELLS!J$2:J$732,ALL_WELLS!$C$2:$C$732,Report_Table!$B12,ALL_WELLS!$A$2:$A$732,Report_Table!$A12) -> 0 | I12: =SUMIFS(ALL_WELLS!K$2:K$732,ALL_WELLS!$C$2:$C$732,Report_Table!$B12,ALL_WELLS!$A$2:$A$732,Report_Table!$A12) -> 1108490 | J12: =SUMIFS(ALL_WELLS!L$2:L$732,ALL_WELLS!$C$2:$C$732,Report_Table!$B12,ALL_WELLS!$A$2:$A$732,Report_Table!$A12) -> 448000 | K12: =SUMIFS(ALL_WELLS!M$2:M$732,ALL_WELLS!$C$2:$C$732,Report_Table!$B12,ALL_WELLS!$A$2:$A$732,Report_Table!$A12) -> 0 | ... N12: =SUMIFS(ALL_WELLS!P$2:P$732,ALL_WELLS!$C$2:$C$732,Report_Table!$B12,ALL_WELLS!$A$2:$A$732,Report_Table!$A12) -> 8479196 | O12: =N12/7.48/43560 -> 26.02347
A13: 2015 | B13: 11 | C13: =COUNTIFS(ALL_WELLS!$C$2:$C$732,Report_Table!$B13,ALL_WELLS!$A$2:$A$732,Report_Table!$A13) -> 7 | D13: =SUMIFS(ALL_WELLS!F$2:F$732,ALL_WELLS!$C$2:$C$732,Report_Table!$B13,ALL_WELLS!$A$2:$A$732,Report_Table!$A13) -> 7416951 | E13: =SUMIFS(ALL_WELLS!G$2:G$732,ALL_WELLS!$C$2:$C$732,Report_Table!$B13,ALL_WELLS!$A$2:$A$732,Report_Table!$A13) -> 0 | F13: =SUMIFS(ALL_WELLS!H$2:H$732,ALL_WELLS!$C$2:$C$732,Report_Table!$B13,ALL_WELLS!$A$2:$A$732,Report_Table!$A13) -> 0 | G13: =SUMIFS(ALL_WELLS!I$2:I$732,ALL_WELLS!$C$2:$C$732,Report_Table!$B13,ALL_WELLS!$A$2:$A$732,Report_Table!$A13) -> 0 | H13: =SUMIFS(ALL_WELLS!J$2:J$732,ALL_WELLS!$C$2:$C$732,Report_Table!$B13,ALL_WELLS!$A$2:$A$732,Report_Table!$A13) -> 0 | I13: =SUMIFS(ALL_WELLS!K$2:K$732,ALL_WELLS!$C$2:$C$732,Report_Table!$B13,ALL_WELLS!$A$2:$A$732,Report_Table!$A13) -> 2851560 | J13: =SUMIFS(ALL_WELLS!L$2:L$732,ALL_WELLS!$C$2:$C$732,Report_Table!$B13,ALL_WELLS!$A$2:$A$732,Report_Table!$A13) -> 447000 | K13: =SUMIFS(ALL_WELLS!M$2:M$732,ALL_WELLS!$C$2:$C$732,Report_Table!$B13,ALL_WELLS!$A$2:$A$732,Report_Table!$A13) -> 0 | ... N13: =SUMIFS(ALL_WELLS!P$2:P$732,ALL_WELLS!$C$2:$C$732,Report_Table!$B13,ALL_WELLS!$A$2:$A$732,Report_Table!$A13) -> 10715511 | O13: =N13/7.48/43560 -> 32.886936
A14: 2015 | B14: 12 | C14: =COUNTIFS(ALL_WELLS!$C$2:$C$732,Report_Table!$B14,ALL_WELLS!$A$2:$A$732,Report_Table!$A14) -> 7 | D14: =SUMIFS(ALL_WELLS!F$2:F$732,ALL_WELLS!$C$2:$C$732,Report_Table!$B14,ALL_WELLS!$A$2:$A$732,Report_Table!$A14) -> 7749062 | E14: =SUMIFS(ALL_WELLS!G$2:G$732,ALL_WELLS!$C$2:$C$732,Report_Table!$B14,ALL_WELLS!$A$2:$A$732,Report_Table!$A14) -> 0 | F14: =SUMIFS(ALL_WELLS!H$2:H$732,ALL_WELLS!$C$2:$C$732,Report_Table!$B14,ALL_WELLS!$A$2:$A$732,Report_Table!$A14) -> 0 | G14: =SUMIFS(ALL_WELLS!I$2:I$732,ALL_WELLS!$C$2:$C$732,Report_Table!$B14,ALL_WELLS!$A$2:$A$732,Report_Table!$A14) -> 0 | H14: =SUMIFS(ALL_WELLS!J$2:J$732,ALL_WELLS!$C$2:$C$732,Report_Table!$B14,ALL_WELLS!$A$2:$A$732,Report_Table!$A14) -> 0 | I14: =SUMIFS(ALL_WELLS!K$2:K$732,ALL_WELLS!$C$2:$C$732,Report_Table!$B14,ALL_WELLS!$A$2:$A$732,Report_Table!$A14) -> 3829610 | J14: =SUMIFS(ALL_WELLS!L$2:L$732,ALL_WELLS!$C$2:$C$732,Report_Table!$B14,ALL_WELLS!$A$2:$A$732,Report_Table!$A14) -> 439000 | K14: =SUMIFS(ALL_WELLS!M$2:M$732,ALL_WELLS!$C$2:$C$732,Report_Table!$B14,ALL_WELLS!$A$2:$A$732,Report_Table!$A14) -> 0 | ... N14: =SUMIFS(ALL_WELLS!P$2:P$732,ALL_WELLS!$C$2:$C$732,Report_Table!$B14,ALL_WELLS!$A$2:$A$732,Report_Table!$A14) -> 12017672 | O14: =N14/7.48/43560 -> 36.883394
... A108: 2016 | B108: 53 | C108: =COUNTIFS(ALL_WELLS!$C$2:$C$732,Report_Table!$B108,ALL_WELLS!$A$2:$A$732,Report_Table!$A108) -> 7 | D108: =SUMIFS(ALL_WELLS!F$2:F$732,ALL_WELLS!$C$2:$C$732,Report_Table!$B108,ALL_WELLS!$A$2:$A$732,Report_Table!$A108) -> 7054988 | E108: =SUMIFS(ALL_WELLS!G$2:G$732,ALL_WELLS!$C$2:$C$732,Report_Table!$B108,ALL_WELLS!$A$2:$A$732,Report_Table!$A108) -> 0 | F108: =SUMIFS(ALL_WELLS!H$2:H$732,ALL_WELLS!$C$2:$C$732,Report_Table!$B108,ALL_WELLS!$A$2:$A$732,Report_Table!$A108) -> 0 | G108: =SUMIFS(ALL_WELLS!I$2:I$732,ALL_WELLS!$C$2:$C$732,Report_Table!$B108,ALL_WELLS!$A$2:$A$732,Report_Table!$A108) -> 0 | H108: =SUMIFS(ALL_WELLS!J$2:J$732,ALL_WELLS!$C$2:$C$732,Report_Table!$B108,ALL_WELLS!$A$2:$A$732,Report_Table!$A108) -> 0 | I108: =SUMIFS(ALL_WELLS!K$2:K$732,ALL_WELLS!$C$2:$C$732,Report_Table!$B108,ALL_WELLS!$A$2:$A$732,Report_Table!$A108) -> 1705000 | J108: =SUMIFS(ALL_WELLS!L$2:L$732,ALL_WELLS!$C$2:$C$732,Report_Table!$B108,ALL_WELLS!$A$2:$A$732,Report_Table!$A108) -> 389000 | K108: =SUMIFS(ALL_WELLS!M$2:M$732,ALL_WELLS!$C$2:$C$732,Report_Table!$B108,ALL_WELLS!$A$2:$A$732,Report_Table!$A108) -> 0 | ... N108: =SUMIFS(ALL_WELLS!P$2:P$732,ALL_WELLS!$C$2:$C$732,Report_Table!$B108,ALL_WELLS!$A$2:$A$732,Report_Table!$A108) -> 9148988 | O108: =N108/7.48/43560 -> 28.079126
G110: Total Volume Pumped
D111: Year | E111: Irrig. Max Wk | F111: Non Max Wk. | G111: Irrigation | H111: Non-irrig.
D112: All Well (Acre-Feet)
D113: 2015 | E113: =ALL_WELLS!V19 -> 261.60606 | F113: =ALL_WELLS!W19 -> 30.433639 | G113: =ALL_WELLS!X19 -> 5216.7098 | H113: =ALL_WELLS!Y19 -> 613.24424
D114: 2016 | E114: =ALL_WELLS!V20 -> 265.78916 | F114: =ALL_WELLS!W20 -> 28.079126 | G114: =ALL_WELLS!X20 -> 4928.4441 | H114: =ALL_WELLS!Y20 -> 590.33331

Sheet ALL_WELLS
A1: Year | B1: Month | C1: Week | D1: Day | E1: Date | F1: Well #1 | G1: Well #6 | H1: Well #9 | I1: Well #11 | J1: Well #12 | K1: Well #13 | L1: Well #14 | M1: Well #15 | N1: Farm Well | O1: Potable Total | P1: All Wells Total
A2: =YEAR(E2) -> 2015 | B2: =MONTH(E2) -> 1 | C2: =WEEKNUM(E2) -> 1 | D2: =DAY(E2) -> 1 | E2: 42005 | F2: ='Well #1'!D271 -> 960617 | G2: ='Well #6'!D271 -> 0 | H2: ='Well #9'!D201 -> 0 | I2: ='Well #11'!D275 -> 0 | J2: ='Well #12'!D276 -> 0 | K2: ='Well #13'!D276 -> 149780 | L2: ='Well #14'!D276 -> 0 | M2: ='Well #15'!D201 -> 0 | O2: =SUM(F2:M2) -> 1110397 | P2: =SUM(F2:N2) -> 1110397 | AD2: Total Volume Pumped
A3: =YEAR(E3) -> 2015 | B3: =MONTH(E3) -> 1 | C3: =WEEKNUM(E3) -> 1 | D3: =DAY(E3) -> 2 | E3: 42006 | F3: ='Well #1'!D272 -> 897288 | G3: ='Well #6'!D272 -> 0 | H3: ='Well #9'!D202 -> 0 | I3: ='Well #11'!D276 -> 0 | J3: ='Well #12'!D277 -> 0 | K3: ='Well #13'!D277 -> 136910 | L3: ='Well #14'!D277 -> 0 | M3: ='Well #15'!D202 -> 0 | O3: =SUM(F3:M3) -> 1034198 | P3: =SUM(F3:N3) -> 1034198 | AA3: Year | AB3: Max Week | AC3: Winter Max Week | AD3: Irrigation Season | AE3: Non-irrigation Season
A4: =YEAR(E4) -> 2015 | B4: =MONTH(E4) -> 1 | C4: =WEEKNUM(E4) -> 1 | D4: =DAY(E4) -> 3 | E4: 42007 | F4: ='Well #1'!D273 -> 1096352 | G4: ='Well #6'!D273 -> 0 | H4: ='Well #9'!D203 -> 0 | I4: ='Well #11'!D277 -> 0 | J4: ='Well #12'!D278 -> 0 | K4: ='Well #13'!D278 -> 230810 | L4: ='Well #14'!D278 -> 0 | M4: ='Well #15'!D203 -> 0 | O4: =SUM(F4:M4) -> 1327162 | P4: =SUM(F4:N4) -> 1327162 | R4: Row Labels | S4: Sum of Potable Total | T4: Sum of All Wells Total | U4: All Wells (gal) | AA4: All Wells (Acre-Feet)
A5: =YEAR(E5) -> 2015 | B5: =MONTH(E5) -> 1 | C5: =WEEKNUM(E5) -> 2 | D5: =DAY(E5) -> 4 | E5: 42008 | F5: ='Well #1'!D274 -> 1089502 | G5: ='Well #6'!D274 -> 0 | H5: ='Well #9'!D204 -> 0 | I5: ='Well #11'!D278 -> 0 | J5: ='Well #12'!D279 -> 0 | K5: ='Well #13'!D279 -> 317050 | L5: ='Well #14'!D279 -> 0 | M5: ='Well #15'!D204 -> 0 | O5: =SUM(F5:M5) -> 1406552 | P5: =SUM(F5:N5) -> 1406552 | R5: 2015 | S5: 1.6341769e+09 | T5: 1.8995669e+09 | X5: Total Volume Pumped | AA5: 2015 | AB5: =V19 -> 261.60606 | AC5: =W19 -> 30.433639 | AD5: =X19 -> 5216.7098 | AE5: =Y19 -> 613.24424
A6: =YEAR(E6) -> 2015 | B6: =MONTH(E6) -> 1 | C6: =WEEKNUM(E6) -> 2 | D6: =DAY(E6) -> 5 | E6: 42009 | F6: ='Well #1'!D275 -> 1051307 | G6: ='Well #6'!D275 -> 0 | H6: ='Well #9'!D205 -> 0 | I6: ='Well #11'!D279 -> 0 | J6: ='Well #12'!D280 -> 0 | K6: ='Well #13'!D280 -> 149570 | L6: ='Well #14'!D280 -> 0 | M6: ='Well #15'!D205 -> 0 | O6: =SUM(F6:M6) -> 1200877 | P6: =SUM(F6:N6) -> 1200877 | R6: 1 | S6: 3471757 | T6: 3471757 | V6: Max Week | W6: Winter Max Week | X6: Irrigation Season | Y6: Non-irrigation Season | AA6: 2016 | AB6: =V20 -> 265.78916 | AC6: =W20 -> 28.079126 | AD6: =X20 -> 4928.4441 | AE6: =Y20 -> 590.33331
A7: =YEAR(E7) -> 2015 | B7: =MONTH(E7) -> 1 | C7: =WEEKNUM(E7) -> 2 | D7: =DAY(E7) -> 6 | E7: 42010 | F7: ='Well #1'!D276 -> 1061768 | G7: ='Well #6'!D276 -> 0 | H7: ='Well #9'!D206 -> 0 | I7: ='Well #11'!D280 -> 0 | J7: ='Well #12'!D281 -> 0 | K7: ='Well #13'!D281 -> 352070 | L7: ='Well #14'!D281 -> 0 | M7: ='Well #15'!D206 -> 0 | O7: =SUM(F7:M7) -> 1413838 | P7: =SUM(F7:N7) -> 1413838 | R7: 2 | S7: 8821908 | T7: 8821908 | U7: 2015 | V7: =SUM(P180:P186) -> 85238789 | W7: =SUM(P334:P340) -> 9916156 | X7: =SUM(P92:P305) -> 1.6997543e+09 | Y7: =SUM(P2:P91,P306:P366) -> 1.9981264e+08
A8: =YEAR(E8) -> 2015 | B8: =MONTH(E8) -> 1 | C8: =WEEKNUM(E8) -> 2 | D8: =DAY(E8) -> 7 | E8: 42011 | F8: ='Well #1'!D277 -> 1015061 | G8: ='Well #6'!D277 -> 0 | H8: ='Well #9'!D207 -> 0 | I8: ='Well #11'!D281 -> 0 | J8: ='Well #12'!D282 -> 0 | K8: ='Well #13'!D282 -> 154860 | L8: ='Well #14'!D282 -> 0 | M8: ='Well #15'!D207 -> 0 | O8: =SUM(F8:M8) -> 1169921 | P8: =SUM(F8:N8) -> 1169921 | R8: 3 | S8: 8551641 | T8: 8551641 | U8: 2016 | V8: =SUM(P572:P578) -> 86601762 | W8: =SUM(P726:P732) -> 9148988 | X8: =SUM(P458:P671) -> 1.605829e+09 | Y8: =SUM(P367:P457,P672:P732) -> 1.9234759e+08
A9: =YEAR(E9) -> 2015 | B9: =MONTH(E9) -> 1 | C9: =WEEKNUM(E9) -> 2 | D9: =DAY(E9) -> 8 | E9: 42012 | F9: ='Well #1'!D278 -> 1043538 | G9: ='Well #6'!D278 -> 0 | H9: ='Well #9'!D208 -> 0 | I9: ='Well #11'!D282 -> 0 | J9: ='Well #12'!D283 -> 0 | K9: ='Well #13'!D283 -> 157220 | L9: ='Well #14'!D283 -> 0 | M9: ='Well #15'!D208 -> 0 | O9: =SUM(F9:M9) -> 1200758 | P9: =SUM(F9:N9) -> 1200758 | R9: 4 | S9: 8439625 | T9: 8439625
A10: =YEAR(E10) -> 2015 | B10: =MONTH(E10) -> 1 | C10: =WEEKNUM(E10) -> 2 | D10: =DAY(E10) -> 9 | E10: 42013 | F10: ='Well #1'!D279 -> 1236521 | G10: ='Well #6'!D279 -> 0 | H10: ='Well #9'!D209 -> 0 | I10: ='Well #11'!D283 -> 0 | J10: ='Well #12'!D284 -> 0 | K10: ='Well #13'!D284 -> 142720 | L10: ='Well #14'!D284 -> 0 | M10: ='Well #15'!D209 -> 0 | O10: =SUM(F10:M10) -> 1379241 | P10: =SUM(F10:N10) -> 1379241 | R10: 5 | S10: 8424641 | T10: 8424641 | U10: All Wells (MG)
A11: =YEAR(E11) -> 2015 | B11: =MONTH(E11) -> 1 | C11: =WEEKNUM(E11) -> 2 | D11: =DAY(E11) -> 10 | E11: 42014 | F11: ='Well #1'!D280 -> 888941 | G11: ='Well #6'!D280 -> 0 | H11: ='Well #9'!D210 -> 0 | I11: ='Well #11'!D284 -> 0 | J11: ='Well #12'!D285 -> 0 | K11: ='Well #13'!D285 -> 161780 | L11: ='Well #14'!D285 -> 0 | M11: ='Well #15'!D210 -> 0 | O11: =SUM(F11:M11) -> 1050721 | P11: =SUM(F11:N11) -> 1050721 | R11: 6 | S11: 8199173 | T11: 8199173 | X11: Total Volume Pumped
A12: =YEAR(E12) -> 2015 | B12: =MONTH(E12) -> 1 | C12: =WEEKNUM(E12) -> 3 | D12: =DAY(E12) -> 11 | E12: 42015 | F12: ='Well #1'!D281 -> 915369 | G12: ='Well #6'!D281 -> 0 | H12: ='Well #9'!D211 -> 0 | I12: ='Well #11'!D285 -> 0 | J12: ='Well #12'!D286 -> 0 | K12: ='Well #13'!D286 -> 474670 | L12: ='Well #14'!D286 -> 0 | M12: ='Well #15'!D211 -> 0 | O12: =SUM(F12:M12) -> 1390039 | P12: =SUM(F12:N12) -> 1390039 | R12: 7 | S12: 8169054 | T12: 8169054 | V12: Max Week | W12: Winter Max Week | X12: Irrigation Season | Y12: Non-irrigation Season
A13: =YEAR(E13) -> 2015 | B13: =MONTH(E13) -> 1 | C13: =WEEKNUM(E13) -> 3 | D13: =DAY(E13) -> 12 | E13: 42016 | F13: ='Well #1'!D282 -> 1026560 | G13: ='Well #6'!D282 -> 0 | H13: ='Well #9'!D212 -> 0 | I13: ='Well #11'!D286 -> 0 | J13: ='Well #12'!D287 -> 0 | K13: ='Well #13'!D287 -> 155280 | L13: ='Well #14'!D287 -> 0 | M13: ='Well #15'!D212 -> 0 | O13: =SUM(F13:M13) -> 1181840 | P13: =SUM(F13:N13) -> 1181840 | R13: 8 | S13: 8164880 | T13: 8164880 | U13: 2015 | V13: =V7/10^6 -> 85.238789 | W13: =W7/10^6 -> 9.916156 | X13: =X7/10^6 -> 1699.7543 | Y13: =Y7/10^6 -> 199.81264
A14: =YEAR(E14) -> 2015 | B14: =MONTH(E14) -> 1 | C14: =WEEKNUM(E14) -> 3 | D14: =DAY(E14) -> 13 | E14: 42017 | F14: ='Well #1'!D283 -> 1118617 | G14: ='Well #6'!D283 -> 0 | H14: ='Well #9'!D213 -> 0 | I14: ='Well #11'!D287 -> 0 | J14: ='Well #12'!D288 -> 0 | K14: ='Well #13'!D288 -> 132320 | L14: ='Well #14'!D288 -> 0 | M14: ='Well #15'!D213 -> 0 | O14: =SUM(F14:M14) -> 1250937 | P14: =SUM(F14:N14) -> 1250937 | R14: 9 | S14: 7859864 | T14: 7859864 | U14: 2016 | V14: =V8/10^6 -> 86.601762 | W14: =W8/10^6 -> 9.148988 | X14: =X8/10^6 -> 1605.829 | Y14: =Y8/10^6 -> 192.34759
A15: =YEAR(E15) -> 2015 | B15: =MONTH(E15) -> 1 | C15: =WEEKNUM(E15) -> 3 | D15: =DAY(E15) -> 14 | E15: 42018 | F15: ='Well #1'!D284 -> 1032696 | G15: ='Well #6'!D284 -> 0 | H15: ='Well #9'!D214 -> 0 | I15: ='Well #11'!D288 -> 0 | J15: ='Well #12'!D289 -> 0 | K15: ='Well #13'!D289 -> 202280 | L15: ='Well #14'!D289 -> 0 | M15: ='Well #15'!D214 -> 0 | O15: =SUM(F15:M15) -> 1234976 | P15: =SUM(F15:N15) -> 1234976 | R15: 10 | S15: 8479196 | T15: 8479196
A16: =YEAR(E16) -> 2015 | B16: =MONTH(E16) -> 1 | C16: =WEEKNUM(E16) -> 3 | D16: =DAY(E16) -> 15 | E16: 42019 | F16: ='Well #1'!D285 -> 968731 | G16: ='Well #6'!D285 -> 0 | H16: ='Well #9'!D215 -> 0 | I16: ='Well #11'!D289 -> 0 | J16: ='Well #12'!D290 -> 0 | K16: ='Well #13'!D290 -> 184840 | L16: ='Well #14'!D290 -> 0 | M16: ='Well #15'!D215 -> 0 | O16: =SUM(F16:M16) -> 1153571 | P16: =SUM(F16:N16) -> 1153571 | R16: 11 | S16: 10715511 | T16: 10715511 | U16: All Wells (AF)
A17: =YEAR(E17) -> 2015 | B17: =MONTH(E17) -> 1 | C17: =WEEKNUM(E17) -> 3 | D17: =DAY(E17) -> 16 | E17: 42020 | F17: ='Well #1'!D286 -> 962429 | G17: ='Well #6'!D286 -> 0 | H17: ='Well #9'!D216 -> 0 | I17: ='Well #11'!D290 -> 0 | J17: ='Well #12'!D291 -> 0 | K17: ='Well #13'!D291 -> 145610 | L17: ='Well #14'!D291 -> 0 | M17: ='Well #15'!D216 -> 0 | O17: =SUM(F17:M17) -> 1108039 | P17: =SUM(F17:N17) -> 1108039 | R17: 12 | S17: 12017672 | T17: 12017672 | X17: Total Volume Pumped
A18: =YEAR(E18) -> 2015 | B18: =MONTH(E18) -> 1 | C18: =WEEKNUM(E18) -> 3 | D18: =DAY(E18) -> 17 | E18: 42021 | F18: ='Well #1'!D287 -> 1051829 | G18: ='Well #6'!D287 -> 0 | H18: ='Well #9'!D217 -> 0 | I18: ='Well #11'!D291 -> 0 | J18: ='Well #12'!D292 -> 0 | K18: ='Well #13'!D292 -> 180410 | L18: ='Well #14'!D292 -> 0 | M18: ='Well #15'!D217 -> 0 | O18: =SUM(F18:M18) -> 1232239 | P18: =SUM(F18:N18) -> 1232239 | R18: 13 | S18: 15309250 | T18: 15309250 | V18: Max Week | W18: Winter Max Week | X18: Irrigation Season | Y18: Non-irrigation Season
A19: =YEAR(E19) -> 2015 | B19: =MONTH(E19) -> 1 | C19: =WEEKNUM(E19) -> 4 | D19: =DAY(E19) -> 18 | E19: 42022 | F19: ='Well #1'!D288 -> 1040576 | G19: ='Well #6'!D288 -> 0 | H19: ='Well #9'!D218 -> 0 | I19: ='Well #11'!D292 -> 0 | J19: ='Well #12'!D293 -> 0 | K19: ='Well #13'!D293 -> 149470 | L19: ='Well #14'!D293 -> 0 | M19: ='Well #15'!D218 -> 0 | O19: =SUM(F19:M19) -> 1190046 | P19: =SUM(F19:N19) -> 1190046 | R19: 14 | S19: 18722165 | T19: 18722165 | U19: 2015 | V19: =V7/7.48/43560 -> 261.60606 | W19: =W7/7.48/43560 -> 30.433639 | X19: =X7/7.48/43560 -> 5216.7098 | Y19: =Y7/7.48/43560 -> 613.24424
A20: =YEAR(E20) -> 2015 | B20: =MONTH(E20) -> 1 | C20: =WEEKNUM(E20) -> 4 | D20: =DAY(E20) -> 19 | E20: 42023 | F20: ='Well #1'!D289 -> 970607 | G20: ='Well #6'!D289 -> 0 | H20: ='Well #9'!D219 -> 0 | I20: ='Well #11'!D293 -> 0 | J20: ='Well #12'!D294 -> 0 | K20: ='Well #13'!D294 -> 356460 | L20: ='Well #14'!D294 -> 0 | M20: ='Well #15'!D219 -> 0 | O20: =SUM(F20:M20) -> 1327067 | P20: =SUM(F20:N20) -> 1327067 | R20: 15 | S20: 23112291 | T20: 29562291 | U20: 2016 | V20: =V8/7.48/43560 -> 265.78916 | W20: =W8/7.48/43560 -> 28.079126 | X20: =X8/7.48/43560 -> 4928.4441 | Y20: =Y8/7.48/43560 -> 590.33331
A21: =YEAR(E21) -> 2015 | B21: =MONTH(E21) -> 1 | C21: =WEEKNUM(E21) -> 4 | D21: =DAY(E21) -> 20 | E21: 42024 | F21: ='Well #1'!D290 -> 1066718 | G21: ='Well #6'!D290 -> 0 | H21: ='Well #9'!D220 -> 0 | I21: ='Well #11'!D294 -> 0 | J21: ='Well #12'!D295 -> 0 | K21: ='Well #13'!D295 -> 143920 | L21: ='Well #14'!D295 -> 0 | M21: ='Well #15'!D220 -> 0 | O21: =SUM(F21:M21) -> 1210638 | P21: =SUM(F21:N21) -> 1210638 | R21: 16 | S21: 26874146 | T21: 35794146
A22: =YEAR(E22) -> 2015 | B22: =MONTH(E22) -> 1 | C22: =WEEKNUM(E22) -> 4 | D22: =DAY(E22) -> 21 | E22: 42025 | F22: ='Well #1'!D291 -> 1021619 | G22: ='Well #6'!D291 -> 0 | H22: ='Well #9'!D221 -> 0 | I22: ='Well #11'!D295 -> 0 | J22: ='Well #12'!D296 -> 0 | K22: ='Well #13'!D296 -> 167840 | L22: ='Well #14'!D296 -> 0 | M22: ='Well #15'!D221 -> 0 | O22: =SUM(F22:M22) -> 1189459 | P22: =SUM(F22:N22) -> 1189459 | R22: 17 | S22: 35156841 | T22: 45226841
A23: =YEAR(E23) -> 2015 | B23: =MONTH(E23) -> 1 | C23: =WEEKNUM(E23) -> 4 | D23: =DAY(E23) -> 22 | E23: 42026 | F23: ='Well #1'!D292 -> 1097018 | G23: ='Well #6'!D292 -> 0 | H23: ='Well #9'!D222 -> 0 | I23: ='Well #11'!D296 -> 0 | J23: ='Well #12'!D297 -> 0 | K23: ='Well #13'!D297 -> 152670 | L23: ='Well #14'!D297 -> 0 | M23: ='Well #15'!D222 -> 0 | O23: =SUM(F23:M23) -> 1249688 | P23: =SUM(F23:N23) -> 1249688 | R23: 18 | S23: 41597306 | T23: 49917306
A24: =YEAR(E24) -> 2015 | B24: =MONTH(E24) -> 1 | C24: =WEEKNUM(E24) -> 4 | D24: =DAY(E24) -> 23 | E24: 42027 | F24: ='Well #1'!D293 -> 970759 | G24: ='Well #6'!D293 -> 0 | H24: ='Well #9'!D223 -> 0 | I24: ='Well #11'!D297 -> 0 | J24: ='Well #12'!D298 -> 0 | K24: ='Well #13'!D298 -> 156790 | L24: ='Well #14'!D298 -> 0 | M24: ='Well #15'!D223 -> 0 | O24: =SUM(F24:M24) -> 1127549 | P24: =SUM(F24:N24) -> 1127549 | R24: 19 | S24: 40108308 | T24: 42518308
A25: =YEAR(E25) -> 2015 | B25: =MONTH(E25) -> 1 | C25: =WEEKNUM(E25) -> 4 | D25: =DAY(E25) -> 24 | E25: 42028 | F25: ='Well #1'!D294 -> 1002878 | G25: ='Well #6'!D294 -> 0 | H25: ='Well #9'!D224 -> 0 | I25: ='Well #11'!D298 -> 0 | J25: ='Well #12'!D299 -> 0 | K25: ='Well #13'!D299 -> 142300 | L25: ='Well #14'!D299 -> 0 | M25: ='Well #15'!D224 -> 0 | O25: =SUM(F25:M25) -> 1145178 | P25: =SUM(F25:N25) -> 1145178 | R25: 20 | S25: 38921520 | T25: 47041520
A26: =YEAR(E26) -> 2015 | B26: =MONTH(E26) -> 1 | C26: =WEEKNUM(E26) -> 5 | D26: =DAY(E26) -> 25 | E26: 42029 | F26: ='Well #1'!D295 -> 1030546 | G26: ='Well #6'!D295 -> 0 | H26: ='Well #9'!D225 -> 0 | I26: ='Well #11'!D299 -> 0 | J26: ='Well #12'!D300 -> 0 | K26: ='Well #13'!D300 -> 153060 | L26: ='Well #14'!D300 -> 0 | M26: ='Well #15'!D225 -> 0 | O26: =SUM(F26:M26) -> 1183606 | P26: =SUM(F26:N26) -> 1183606 | R26: 21 | S26: 37143705 | T26: 47863705
A27: =YEAR(E27) -> 2015 | B27: =MONTH(E27) -> 1 | C27: =WEEKNUM(E27) -> 5 | D27: =DAY(E27) -> 26 | E27: 42030 | F27: ='Well #1'!D296 -> 1041795 | G27: ='Well #6'!D296 -> 0 | H27: ='Well #9'!D226 -> 0 | I27: ='Well #11'!D300 -> 0 | J27: ='Well #12'!D301 -> 0 | K27: ='Well #13'!D301 -> 200900 | L27: ='Well #14'!D301 -> 0 | M27: ='Well #15'!D226 -> 0 | O27: =SUM(F27:M27) -> 1242695 | P27: =SUM(F27:N27) -> 1242695 | R27: 22 | S27: 40839439 | T27: 42769439
A28: =YEAR(E28) -> 2015 | B28: =MONTH(E28) -> 1 | C28: =WEEKNUM(E28) -> 5 | D28: =DAY(E28) -> 27 | E28: 42031 | F28: ='Well #1'!D297 -> 991094 | G28: ='Well #6'!D297 -> 0 | H28: ='Well #9'!D227 -> 0 | I28: ='Well #11'!D301 -> 0 | J28: ='Well #12'!D302 -> 0 | K28: ='Well #13'!D302 -> 146640 | L28: ='Well #14'!D302 -> 0 | M28: ='Well #15'!D227 -> 0 | O28: =SUM(F28:M28) -> 1137734 | P28: =SUM(F28:N28) -> 1137734 | R28: 23 | S28: 43108087 | T28: 48348087
A29: =YEAR(E29) -> 2015 | B29: =MONTH(E29) -> 1 | C29: =WEEKNUM(E29) -> 5 | D29: =DAY(E29) -> 28 | E29: 42032 | F29: ='Well #1'!D298 -> 941956 | G29: ='Well #6'!D298 -> 0 | H29: ='Well #9'!D228 -> 0 | I29: ='Well #11'!D302 -> 0 | J29: ='Well #12'!D303 -> 0 | K29: ='Well #13'!D303 -> 146110 | L29: ='Well #14'!D303 -> 0 | M29: ='Well #15'!D228 -> 0 | O29: =SUM(F29:M29) -> 1088066 | P29: =SUM(F29:N29) -> 1088066 | R29: 24 | S29: 54113099 | T29: 58683099
A30: =YEAR(E30) -> 2015 | B30: =MONTH(E30) -> 1 | C30: =WEEKNUM(E30) -> 5 | D30: =DAY(E30) -> 29 | E30: 42033 | F30: ='Well #1'!D299 -> 1102494 | G30: ='Well #6'!D299 -> 0 | H30: ='Well #9'!D229 -> 0 | I30: ='Well #11'!D303 -> 0 | J30: ='Well #12'!D304 -> 0 | K30: ='Well #13'!D304 -> 153800 | L30: ='Well #14'!D304 -> 0 | M30: ='Well #15'!D229 -> 0 | O30: =SUM(F30:M30) -> 1256294 | P30: =SUM(F30:N30) -> 1256294 | R30: 25 | S30: 62905275 | T30: 75335275
A31: =YEAR(E31) -> 2015 | B31: =MONTH(E31) -> 1 | C31: =WEEKNUM(E31) -> 5 | D31: =DAY(E31) -> 30 | E31: 42034 | F31: ='Well #1'!D300 -> 1122012 | G31: ='Well #6'!D300 -> 0 | H31: ='Well #9'!D230 -> 0 | I31: ='Well #11'!D304 -> 0 | J31: ='Well #12'!D305 -> 0 | K31: ='Well #13'!D305 -> 154090 | L31: ='Well #14'!D305 -> 0 | M31: ='Well #15'!D230 -> 0 | O31: =SUM(F31:M31) -> 1276102 | P31: =SUM(F31:N31) -> 1276102 | R31: 26 | S31: 68712193 | T31: 83912193
A32: =YEAR(E32) -> 2015 | B32: =MONTH(E32) -> 1 | C32: =WEEKNUM(E32) -> 5 | D32: =DAY(E32) -> 31 | E32: 42035 | F32: ='Well #1'!D301 -> 952754 | G32: ='Well #6'!D301 -> 0 | H32: ='Well #9'!D231 -> 0 | I32: ='Well #11'!D305 -> 0 | J32: ='Well #12'!D306 -> 0 | K32: ='Well #13'!D306 -> 136390 | L32: ='Well #14'!D306 -> 151000 | M32: ='Well #15'!D231 -> 0 | O32: =SUM(F32:M32) -> 1240144 | P32: =SUM(F32:N32) -> 1240144 | R32: 27 | S32: 72368789 | T32: 85238789
A33: =YEAR(E33) -> 2015 | B33: =MONTH(E33) -> 2 | C33: =WEEKNUM(E33) -> 6 | D33: =DAY(E33) -> 1 | E33: 42036 | F33: ='Well #1'!G271 -> 892422 | G33: ='Well #6'!G271 -> 0 | H33: ='Well #9'!G201 -> 0 | I33: ='Well #11'!G275 -> 0 | J33: ='Well #12'!G276 -> 0 | K33: ='Well #13'!G276 -> 209660 | L33: ='Well #14'!G276 -> 25000 | M33: ='Well #15'!G201 -> 0 | O33: =SUM(F33:M33) -> 1127082 | P33: =SUM(F33:N33) -> 1127082 | R33: 28 | S33: 67842534 | T33: 83192534
A34: =YEAR(E34) -> 2015 | B34: =MONTH(E34) -> 2 | C34: =WEEKNUM(E34) -> 6 | D34: =DAY(E34) -> 2 | E34: 42037 | F34: ='Well #1'!G272 -> 1116489 | G34: ='Well #6'!G272 -> 0 | H34: ='Well #9'!G202 -> 0 | I34: ='Well #11'!G276 -> 0 | J34: ='Well #12'!G277 -> 0 | K34: ='Well #13'!G277 -> 151210 | L34: ='Well #14'!G277 -> 63000 | M34: ='Well #15'!G202 -> 0 | O34: =SUM(F34:M34) -> 1330699 | P34: =SUM(F34:N34) -> 1330699 | R34: 29 | S34: 61732477 | T34: 74022477
A35: =YEAR(E35) -> 2015 | B35: =MONTH(E35) -> 2 | C35: =WEEKNUM(E35) -> 6 | D35: =DAY(E35) -> 3 | E35: 42038 | F35: ='Well #1'!G273 -> 1039422 | G35: ='Well #6'!G273 -> 0 | H35: ='Well #9'!G203 -> 0 | I35: ='Well #11'!G277 -> 0 | J35: ='Well #12'!G278 -> 0 | K35: ='Well #13'!G278 -> 186580 | L35: ='Well #14'!G278 -> 0 | M35: ='Well #15'!G203 -> 0 | O35: =SUM(F35:M35) -> 1226002 | P35: =SUM(F35:N35) -> 1226002 | R35: 30 | S35: 62321570 | T35: 78091570
A36: =YEAR(E36) -> 2015 | B36: =MONTH(E36) -> 2 | C36: =WEEKNUM(E36) -> 6 | D36: =DAY(E36) -> 4 | E36: 42039 | F36: ='Well #1'!G274 -> 121060 | G36: ='Well #6'!G274 -> 0 | H36: ='Well #9'!G204 -> 0 | I36: ='Well #11'!G278 -> 0 | J36: ='Well #12'!G279 -> 0 | K36: ='Well #13'!G279 -> 0 | L36: ='Well #14'!G279 -> 0 | M36: ='Well #15'!G204 -> 0 | O36: =SUM(F36:M36) -> 121060 | P36: =SUM(F36:N36) -> 121060 | R36: 31 | S36: 64977728 | T36: 79737728
A37: =YEAR(E37) -> 2015 | B37: =MONTH(E37) -> 2 | C37: =WEEKNUM(E37) -> 6 | D37: =DAY(E37) -> 5 | E37: 42040 | F37: ='Well #1'!G275 -> 2039050 | G37: ='Well #6'!G275 -> 0 | H37: ='Well #9'!G205 -> 0 | I37: ='Well #11'!G279 -> 0 | J37: ='Well #12'!G280 -> 0 | K37: ='Well #13'!G280 -> 0 | L37: ='Well #14'!G280 -> 0 | M37: ='Well #15'!G205 -> 0 | O37: =SUM(F37:M37) -> 2039050 | P37: =SUM(F37:N37) -> 2039050 | R37: 32 | S37: 58233166 | T37: 72213166
A38: =YEAR(E38) -> 2015 | B38: =MONTH(E38) -> 2 | C38: =WEEKNUM(E38) -> 6 | D38: =DAY(E38) -> 6 | E38: 42041 | F38: ='Well #1'!G276 -> 1017028 | G38: ='Well #6'!G276 -> 0 | H38: ='Well #9'!G206 -> 0 | I38: ='Well #11'!G280 -> 0 | J38: ='Well #12'!G281 -> 0 | K38: ='Well #13'!G281 -> 130260 | L38: ='Well #14'!G281 -> 122000 | M38: ='Well #15'!G206 -> 0 | O38: =SUM(F38:M38) -> 1269288 | P38: =SUM(F38:N38) -> 1269288 | R38: 33 | S38: 59761059 | T38: 69751059
A39: =YEAR(E39) -> 2015 | B39: =MONTH(E39) -> 2 | C39: =WEEKNUM(E39) -> 6 | D39: =DAY(E39) -> 7 | E39: 42042 | F39: ='Well #1'!G277 -> 944482 | G39: ='Well #6'!G277 -> 0 | H39: ='Well #9'!G207 -> 0 | I39: ='Well #11'!G281 -> 0 | J39: ='Well #12'!G282 -> 0 | K39: ='Well #13'!G282 -> 141510 | L39: ='Well #14'!G282 -> 0 | M39: ='Well #15'!G207 -> 0 | O39: =SUM(F39:M39) -> 1085992 | P39: =SUM(F39:N39) -> 1085992 | R39: 34 | S39: 62270756 | T39: 78410756
A40: =YEAR(E40) -> 2015 | B40: =MONTH(E40) -> 2 | C40: =WEEKNUM(E40) -> 7 | D40: =DAY(E40) -> 8 | E40: 42043 | F40: ='Well #1'!G278 -> 1032865 | G40: ='Well #6'!G278 -> 0 | H40: ='Well #9'!G208 -> 0 | I40: ='Well #11'!G282 -> 0 | J40: ='Well #12'!G283 -> 0 | K40: ='Well #13'!G283 -> 159240 | L40: ='Well #14'!G283 -> 71000 | M40: ='Well #15'!G208 -> 0 | O40: =SUM(F40:M40) -> 1263105 | P40: =SUM(F40:N40) -> 1263105 | R40: 35 | S40: 61170623 | T40: 75430623
A41: =YEAR(E41) -> 2015 | B41: =MONTH(E41) -> 2 | C41: =WEEKNUM(E41) -> 7 | D41: =DAY(E41) -> 9 | E41: 42044 | F41: ='Well #1'!G279 -> 997868 | G41: ='Well #6'!G279 -> 0 | H41: ='Well #9'!G209 -> 0 | I41: ='Well #11'!G283 -> 0 | J41: ='Well #12'!G284 -> 0 | K41: ='Well #13'!G284 -> 314860 | L41: ='Well #14'!G284 -> 13000 | M41: ='Well #15'!G209 -> 0 | O41: =SUM(F41:M41) -> 1325728 | P41: =SUM(F41:N41) -> 1325728 | R41: 36 | S41: 54670489 | T41: 59260489
A42: =YEAR(E42) -> 2015 | B42: =MONTH(E42) -> 2 | C42: =WEEKNUM(E42) -> 7 | D42: =DAY(E42) -> 10 | E42: 42045 | F42: ='Well #1'!G280 -> 1077848 | G42: ='Well #6'!G280 -> 0 | H42: ='Well #9'!G210 -> 0 | I42: ='Well #11'!G284 -> 0 | J42: ='Well #12'!G285 -> 0 | K42: ='Well #13'!G285 -> 146940 | L42: ='Well #14'!G285 -> 0 | M42: ='Well #15'!G210 -> 0 | O42: =SUM(F42:M42) -> 1224788 | P42: =SUM(F42:N42) -> 1224788 | R42: 37 | S42: 53258238 | T42: 56878238
A43: =YEAR(E43) -> 2015 | B43: =MONTH(E43) -> 2 | C43: =WEEKNUM(E43) -> 7 | D43: =DAY(E43) -> 11 | E43: 42046 | F43: ='Well #1'!G281 -> 899858 | G43: ='Well #6'!G281 -> 0 | H43: ='Well #9'!G211 -> 0 | I43: ='Well #11'!G285 -> 0 | J43: ='Well #12'!G286 -> 0 | K43: ='Well #13'!G286 -> 142770 | L43: ='Well #14'!G286 -> 115000 | M43: ='Well #15'!G211 -> 0 | O43: =SUM(F43:M43) -> 1157628 | P43: =SUM(F43:N43) -> 1157628 | R43: 38 | S43: 41168608 | T43: 54288608
A44: =YEAR(E44) -> 2015 | B44: =MONTH(E44) -> 2 | C44: =WEEKNUM(E44) -> 7 | D44: =DAY(E44) -> 12 | E44: 42047 | F44: ='Well #1'!G282 -> 30825 | G44: ='Well #6'!G282 -> 0 | H44: ='Well #9'!G212 -> 0 | I44: ='Well #11'!G286 -> 0 | J44: ='Well #12'!G287 -> 0 | K44: ='Well #13'!G287 -> 0 | L44: ='Well #14'!G287 -> 0 | M44: ='Well #15'!G212 -> 0 | O44: =SUM(F44:M44) -> 30825 | P44: =SUM(F44:N44) -> 30825 | R44: 39 | S44: 44982354 | T44: 45412354
... A60: =YEAR(E60) -> 2015 | B60: =MONTH(E60) -> 2 | C60: =WEEKNUM(E60) -> 9 | D60: =DAY(E60) -> 28 | E60: 42063 | F60: ='Well #1'!G298 -> 961932 | G60: ='Well #6'!G298 -> 0 | H60: ='Well #9'!G228 -> 0 | I60: ='Well #11'!G302 -> 0 | J60: ='Well #12'!G303 -> 0 | K60: ='Well #13'!G303 -> 136920 | L60: ='Well #14'!G303 -> 90000 | M60: ='Well #15'!G228 -> 0 | O60: =SUM(F60:M60) -> 1188852 | P60: =SUM(F60:N60) -> 1188852 | R60: 1 | S60: 2314312 | T60: 2314312
A61: =YEAR(E61) -> 2015 | B61: =MONTH(E61) -> 3 | C61: =WEEKNUM(E61) -> 10 | D61: =DAY(E61) -> 1 | E61: 42064 | F61: ='Well #1'!J271 -> 1050132 | G61: ='Well #6'!J271 -> 0 | H61: ='Well #9'!J201 -> 0 | I61: ='Well #11'!J275 -> 0 | J61: ='Well #12'!J276 -> 0 | K61: ='Well #13'!J276 -> 148860 | L61: ='Well #14'!J276 -> 89000 | M61: ='Well #15'!J201 -> 0 | O61: =SUM(F61:M61) -> 1287992 | P61: =SUM(F61:N61) -> 1287992 | R61: 2 | S61: 8752664 | T61: 8752664
A62: =YEAR(E62) -> 2015 | B62: =MONTH(E62) -> 3 | C62: =WEEKNUM(E62) -> 10 | D62: =DAY(E62) -> 2 | E62: 42065 | F62: ='Well #1'!J272 -> 902534 | G62: ='Well #6'!J272 -> 0 | H62: ='Well #9'!J202 -> 0 | I62: ='Well #11'!J276 -> 0 | J62: ='Well #12'!J277 -> 0 | K62: ='Well #13'!J277 -> 147980 | L62: ='Well #14'!J277 -> 0 | M62: ='Well #15'!J202 -> 0 | O62: =SUM(F62:M62) -> 1050514 | P62: =SUM(F62:N62) -> 1050514 | R62: 3 | S62: 8229854 | T62: 8229854
A63: =YEAR(E63) -> 2015 | B63: =MONTH(E63) -> 3 | C63: =WEEKNUM(E63) -> 10 | D63: =DAY(E63) -> 3 | E63: 42066 | F63: ='Well #1'!J273 -> 976436 | G63: ='Well #6'!J273 -> 0 | H63: ='Well #9'!J203 -> 0 | I63: ='Well #11'!J277 -> 0 | J63: ='Well #12'!J278 -> 0 | K63: ='Well #13'!J278 -> 167620 | L63: ='Well #14'!J278 -> 88000 | M63: ='Well #15'!J203 -> 0 | O63: =SUM(F63:M63) -> 1232056 | P63: =SUM(F63:N63) -> 1232056 | R63: 4 | S63: 8267265.2 | T63: 8267265.2
A64: =YEAR(E64) -> 2015 | B64: =MONTH(E64) -> 3 | C64: =WEEKNUM(E64) -> 10 | D64: =DAY(E64) -> 4 | E64: 42067 | F64: ='Well #1'!J274 -> 1013583 | G64: ='Well #6'!J274 -> 0 | H64: ='Well #9'!J204 -> 0 | I64: ='Well #11'!J278 -> 0 | J64: ='Well #12'!J279 -> 0 | K64: ='Well #13'!J279 -> 131270 | L64: ='Well #14'!J279 -> 0 | M64: ='Well #15'!J204 -> 0 | O64: =SUM(F64:M64) -> 1144853 | P64: =SUM(F64:N64) -> 1144853 | R64: 5 | S64: 8190446 | T64: 8190446
A65: =YEAR(E65) -> 2015 | B65: =MONTH(E65) -> 3 | C65: =WEEKNUM(E65) -> 10 | D65: =DAY(E65) -> 5 | E65: 42068 | F65: ='Well #1'!J275 -> 940022 | G65: ='Well #6'!J275 -> 0 | H65: ='Well #9'!J205 -> 0 | I65: ='Well #11'!J279 -> 0 | J65: ='Well #12'!J280 -> 0 | K65: ='Well #13'!J280 -> 135600 | L65: ='Well #14'!J280 -> 94000 | M65: ='Well #15'!J205 -> 0 | O65: =SUM(F65:M65) -> 1169622 | P65: =SUM(F65:N65) -> 1169622 | R65: 6 | S65: 8266675 | T65: 8266675
A66: =YEAR(E66) -> 2015 | B66: =MONTH(E66) -> 3 | C66: =WEEKNUM(E66) -> 10 | D66: =DAY(E66) -> 6 | E66: 42069 | F66: ='Well #1'!J276 -> 926298 | G66: ='Well #6'!J276 -> 0 | H66: ='Well #9'!J206 -> 0 | I66: ='Well #11'!J280 -> 0 | J66: ='Well #12'!J281 -> 0 | K66: ='Well #13'!J281 -> 377160 | L66: ='Well #14'!J281 -> 89000 | M66: ='Well #15'!J206 -> 0 | O66: =SUM(F66:M66) -> 1392458 | P66: =SUM(F66:N66) -> 1392458 | R66: 7 | S66: 7998761.5 | T66: 7998761.5
A67: =YEAR(E67) -> 2015 | B67: =MONTH(E67) -> 3 | C67: =WEEKNUM(E67) -> 10 | D67: =DAY(E67) -> 7 | E67: 42070 | F67: ='Well #1'!J277 -> 1113701 | G67: ='Well #6'!J277 -> 0 | H67: ='Well #9'!J207 -> 0 | I67: ='Well #11'!J281 -> 0 | J67: ='Well #12'!J282 -> 0 | K67: ='Well #13'!J282 -> 0 | L67: ='Well #14'!J282 -> 88000 | M67: ='Well #15'!J207 -> 0 | O67: =SUM(F67:M67) -> 1201701 | P67: =SUM(F67:N67) -> 1201701 | R67: 8 | S67: 8265022.3 | T67: 8265022.3
A68: =YEAR(E68) -> 2015 | B68: =MONTH(E68) -> 3 | C68: =WEEKNUM(E68) -> 11 | D68: =DAY(E68) -> 8 | E68: 42071 | F68: ='Well #1'!J278 -> 957764 | G68: ='Well #6'!J278 -> 0 | H68: ='Well #9'!J208 -> 0 | I68: ='Well #11'!J282 -> 0 | J68: ='Well #12'!J283 -> 0 | K68: ='Well #13'!J283 -> 1069140 | L68: ='Well #14'!J283 -> 0 | M68: ='Well #15'!J208 -> 0 | O68: =SUM(F68:M68) -> 2026904 | P68: =SUM(F68:N68) -> 2026904 | R68: 9 | S68: 8585758.3 | T68: 8585758.3
A69: =YEAR(E69) -> 2015 | B69: =MONTH(E69) -> 3 | C69: =WEEKNUM(E69) -> 11 | D69: =DAY(E69) -> 9 | E69: 42072 | F69: ='Well #1'!J279 -> 1131948 | G69: ='Well #6'!J279 -> 0 | H69: ='Well #9'!J209 -> 0 | I69: ='Well #11'!J283 -> 0 | J69: ='Well #12'!J284 -> 0 | K69: ='Well #13'!J284 -> 309590 | L69: ='Well #14'!J284 -> 90000 | M69: ='Well #15'!J209 -> 0 | O69: =SUM(F69:M69) -> 1531538 | P69: =SUM(F69:N69) -> 1531538 | R69: 10 | S69: 9065453 | T69: 9065453
A70: =YEAR(E70) -> 2015 | B70: =MONTH(E70) -> 3 | C70: =WEEKNUM(E70) -> 11 | D70: =DAY(E70) -> 10 | E70: 42073 | F70: ='Well #1'!J280 -> 676037 | G70: ='Well #6'!J280 -> 0 | H70: ='Well #9'!J210 -> 0 | I70: ='Well #11'!J284 -> 0 | J70: ='Well #12'!J285 -> 0 | K70: ='Well #13'!J285 -> 305000 | L70: ='Well #14'!J285 -> 88000 | M70: ='Well #15'!J210 -> 0 | O70: =SUM(F70:M70) -> 1069037 | P70: =SUM(F70:N70) -> 1069037 | R70: 11 | S70: 8441893 | T70: 8441893
A71: =YEAR(E71) -> 2015 | B71: =MONTH(E71) -> 3 | C71: =WEEKNUM(E71) -> 11 | D71: =DAY(E71) -> 11 | E71: 42074 | F71: ='Well #1'!J281 -> 1331445 | G71: ='Well #6'!J281 -> 0 | H71: ='Well #9'!J211 -> 0 | I71: ='Well #11'!J285 -> 0 | J71: ='Well #12'!J286 -> 0 | K71: ='Well #13'!J286 -> 143610 | L71: ='Well #14'!J286 -> 88000 | M71: ='Well #15'!J211 -> 0 | O71: =SUM(F71:M71) -> 1563055 | P71: =SUM(F71:N71) -> 1563055 | R71: 12 | S71: 9504753 | T71: 9504753
A72: =YEAR(E72) -> 2015 | B72: =MONTH(E72) -> 3 | C72: =WEEKNUM(E72) -> 11 | D72: =DAY(E72) -> 12 | E72: 42075 | F72: ='Well #1'!J282 -> 1073539 | G72: ='Well #6'!J282 -> 0 | H72: ='Well #9'!J212 -> 0 | I72: ='Well #11'!J286 -> 0 | J72: ='Well #12'!J287 -> 0 | K72: ='Well #13'!J287 -> 397140 | L72: ='Well #14'!J287 -> 0 | M72: ='Well #15'!J212 -> 0 | O72: =SUM(F72:M72) -> 1470679 | P72: =SUM(F72:N72) -> 1470679 | R72: 13 | S72: 10586461 | T72: 10586461
... A91: =YEAR(E91) -> 2015 | B91: =MONTH(E91) -> 3 | C91: =WEEKNUM(E91) -> 14 | D91: =DAY(E91) -> 31 | E91: 42094 | F91: ='Well #1'!J301 -> 1135153 | G91: ='Well #6'!J301 -> 0 | H91: ='Well #9'!J231 -> 0 | I91: ='Well #11'!J305 -> 0 | J91: ='Well #12'!J306 -> 0 | K91: ='Well #13'!J306 -> 0 | L91: ='Well #14'!J306 -> 91000 | M91: ='Well #15'!J231 -> 0 | O91: =SUM(F91:M91) -> 1226153 | P91: =SUM(F91:N91) -> 1226153 | R91: 32 | S91: 69728653 | T91: 85018653
A92: =YEAR(E92) -> 2015 | B92: =MONTH(E92) -> 4 | C92: =WEEKNUM(E92) -> 14 | D92: =DAY(E92) -> 1 | E92: 42095 | F92: ='Well #1'!M271 -> 1108602 | G92: ='Well #6'!M271 -> 0 | H92: ='Well #9'!M201 -> 0 | I92: ='Well #11'!M275 -> 190000 | J92: ='Well #12'!M276 -> 0 | K92: ='Well #13'!M276 -> 2013340 | L92: ='Well #14'!M276 -> 87000 | M92: ='Well #15'!M201 -> 0 | O92: =SUM(F92:M92) -> 3398942 | P92: =SUM(F92:N92) -> 3398942 | R92: 33 | S92: 67924984 | T92: 78794984
A93: =YEAR(E93) -> 2015 | B93: =MONTH(E93) -> 4 | C93: =WEEKNUM(E93) -> 14 | D93: =DAY(E93) -> 2 | E93: 42096 | F93: ='Well #1'!M272 -> 1114692 | G93: ='Well #6'!M272 -> 0 | H93: ='Well #9'!M202 -> 0 | I93: ='Well #11'!M276 -> 0 | J93: ='Well #12'!M277 -> 0 | K93: ='Well #13'!M277 -> 1781090 | L93: ='Well #14'!M277 -> 88000 | M93: ='Well #15'!M202 -> 0 | O93: =SUM(F93:M93) -> 2983782 | P93: =SUM(F93:N93) -> 2983782 | R93: 34 | S93: 66608228 | T93: 72558228
A94: =YEAR(E94) -> 2015 | B94: =MONTH(E94) -> 4 | C94: =WEEKNUM(E94) -> 14 | D94: =DAY(E94) -> 3 | E94: 42097 | F94: ='Well #1'!M273 -> 1165113 | G94: ='Well #6'!M273 -> 0 | H94: ='Well #9'!M203 -> 0 | I94: ='Well #11'!M277 -> 0 | J94: ='Well #12'!M278 -> 0 | K94: ='Well #13'!M278 -> 1507970 | L94: ='Well #14'!M278 -> 89000 | M94: ='Well #15'!M203 -> 0 | O94: =SUM(F94:M94) -> 2762083 | P94: =SUM(F94:N94) -> 2762083 | R94: 35 | S94: 64566368 | T94: 80026368
A95: =YEAR(E95) -> 2015 | B95: =MONTH(E95) -> 4 | C95: =WEEKNUM(E95) -> 14 | D95: =DAY(E95) -> 4 | E95: 42098 | F95: ='Well #1'!M274 -> 1086207 | G95: ='Well #6'!M274 -> 0 | H95: ='Well #9'!M204 -> 0 | I95: ='Well #11'!M278 -> 0 | J95: ='Well #12'!M279 -> 0 | K95: ='Well #13'!M279 -> 1602800 | L95: ='Well #14'!M279 -> 85000 | M95: ='Well #15'!M204 -> 0 | O95: =SUM(F95:M95) -> 2774007 | P95: =SUM(F95:N95) -> 2774007 | R95: 36 | S95: 61844646 | T95: 76114646
A96: =YEAR(E96) -> 2015 | B96: =MONTH(E96) -> 4 | C96: =WEEKNUM(E96) -> 15 | D96: =DAY(E96) -> 5 | E96: 42099 | F96: ='Well #1'!M275 -> 1125510 | G96: ='Well #6'!M275 -> 0 | H96: ='Well #9'!M205 -> 0 | I96: ='Well #11'!M279 -> 0 | J96: ='Well #12'!M280 -> 0 | K96: ='Well #13'!M280 -> 1776670 | L96: ='Well #14'!M280 -> 0 | M96: ='Well #15'!M205 -> 0 | N96: ='Farm Well'!K14 -> 6450000 | O96: =SUM(F96:M96) -> 2902180 | P96: =SUM(F96:N96) -> 9352180 | R96: 37 | S96: 51264691 | T96: 51264691
A97: =YEAR(E97) -> 2015 | B97: =MONTH(E97) -> 4 | C97: =WEEKNUM(E97) -> 15 | D97: =DAY(E97) -> 6 | E97: 42100 | F97: ='Well #1'!M276 -> 1097609 | G97: ='Well #6'!M276 -> 0 | H97: ='Well #9'!M206 -> 0 | I97: ='Well #11'!M280 -> 140000 | J97: ='Well #12'!M281 -> 0 | K97: ='Well #13'!M281 -> 1750680 | L97: ='Well #14'!M281 -> 92000 | M97: ='Well #15'!M206 -> 0 | O97: =SUM(F97:M97) -> 3080289 | P97: =SUM(F97:N97) -> 3080289 | R97: 38 | S97: 43571454 | T97: 43571454
A98: =YEAR(E98) -> 2015 | B98: =MONTH(E98) -> 4 | C98: =WEEKNUM(E98) -> 15 | D98: =DAY(E98) -> 7 | E98: 42101 | F98: ='Well #1'!M277 -> 1147873 | G98: ='Well #6'!M277 -> 0 | H98: ='Well #9'!M207 -> 0 | I98: ='Well #11'!M281 -> 0 | J98: ='Well #12'!M282 -> 0 | K98: ='Well #13'!M282 -> 2012590 | L98: ='Well #14'!M282 -> 88000 | M98: ='Well #15'!M207 -> 0 | O98: =SUM(F98:M98) -> 3248463 | P98: =SUM(F98:N98) -> 3248463 | R98: 39 | S98: 38191921 | T98: 38191921
A99: =YEAR(E99) -> 2015 | B99: =MONTH(E99) -> 4 | C99: =WEEKNUM(E99) -> 15 | D99: =DAY(E99) -> 8 | E99: 42102 | F99: ='Well #1'!M278 -> 1108235 | G99: ='Well #6'!M278 -> 0 | H99: ='Well #9'!M208 -> 0 | I99: ='Well #11'!M282 -> 0 | J99: ='Well #12'!M283 -> 0 | K99: ='Well #13'!M283 -> 1435880 | L99: ='Well #14'!M283 -> 89000 | M99: ='Well #15'!M208 -> 0 | O99: =SUM(F99:M99) -> 2633115 | P99: =SUM(F99:N99) -> 2633115 | R99: 40 | S99: 35831000 | T99: 35831000
A100: =YEAR(E100) -> 2015 | B100: =MONTH(E100) -> 4 | C100: =WEEKNUM(E100) -> 15 | D100: =DAY(E100) -> 9 | E100: 42103 | F100: ='Well #1'!M279 -> 1348373 | G100: ='Well #6'!M279 -> 0 | H100: ='Well #9'!M209 -> 0 | I100: ='Well #11'!M283 -> 610000 | J100: ='Well #12'!M284 -> 0 | K100: ='Well #13'!M284 -> 2584000 | L100: ='Well #14'!M284 -> 90000 | M100: ='Well #15'!M209 -> 0 | O100: =SUM(F100:M100) -> 4632373 | P100: =SUM(F100:N100) -> 4632373 | R100: 41 | S100: 32387227 | T100: 32387227
A101: =YEAR(E101) -> 2015 | B101: =MONTH(E101) -> 4 | C101: =WEEKNUM(E101) -> 15 | D101: =DAY(E101) -> 10 | E101: 42104 | F101: ='Well #1'!M280 -> 1055654 | G101: ='Well #6'!M280 -> 0 | H101: ='Well #9'!M210 -> 0 | I101: ='Well #11'!M284 -> 0 | J101: ='Well #12'!M285 -> 0 | K101: ='Well #13'!M285 -> 2398190 | L101: ='Well #14'!M285 -> 92000 | M101: ='Well #15'!M210 -> 0 | O101: =SUM(F101:M101) -> 3545844 | P101: =SUM(F101:N101) -> 3545844 | R101: 42 | S101: 26052194 | T101: 26052194
A102: =YEAR(E102) -> 2015 | B102: =MONTH(E102) -> 4 | C102: =WEEKNUM(E102) -> 15 | D102: =DAY(E102) -> 11 | E102: 42105 | F102: ='Well #1'!M281 -> 1098727 | G102: ='Well #6'!M281 -> 0 | H102: ='Well #9'!M211 -> 0 | I102: ='Well #11'!M285 -> 0 | J102: ='Well #12'!M286 -> 0 | K102: ='Well #13'!M286 -> 1794300 | L102: ='Well #14'!M286 -> 177000 | M102: ='Well #15'!M211 -> 0 | O102: =SUM(F102:M102) -> 3070027 | P102: =SUM(F102:N102) -> 3070027 | R102: 43 | S102: 16645727 | T102: 16645727
A103: =YEAR(E103) -> 2015 | B103: =MONTH(E103) -> 4 | C103: =WEEKNUM(E103) -> 16 | D103: =DAY(E103) -> 12 | E103: 42106 | F103: ='Well #1'!M282 -> 1007610 | G103: ='Well #6'!M282 -> 0 | H103: ='Well #9'!M212 -> 0 | I103: ='Well #11'!M286 -> 580000 | J103: ='Well #12'!M287 -> 0 | K103: ='Well #13'!M287 -> 1970440 | L103: ='Well #14'!M287 -> 178000 | M103: ='Well #15'!M212 -> 0 | N103: ='Farm Well'!K15 -> 8920000 | O103: =SUM(F103:M103) -> 3736050 | P103: =SUM(F103:N103) -> 12656050 | R103: 44 | S103: 15616913 | T103: 15616913
A104: =YEAR(E104) -> 2015 | B104: =MONTH(E104) -> 4 | C104: =WEEKNUM(E104) -> 16 | D104: =DAY(E104) -> 13 | E104: 42107 | F104: ='Well #1'!M283 -> 1094453 | G104: ='Well #6'!M283 -> 0 | H104: ='Well #9'!M213 -> 0 | I104: ='Well #11'!M287 -> 0 | J104: ='Well #12'!M288 -> 0 | K104: ='Well #13'!M288 -> 2249960 | L104: ='Well #14'!M288 -> 0 | M104: ='Well #15'!M213 -> 0 | O104: =SUM(F104:M104) -> 3344413 | P104: =SUM(F104:N104) -> 3344413 | R104: 45 | S104: 10027945 | T104: 10027945
A105: =YEAR(E105) -> 2015 | B105: =MONTH(E105) -> 4 | C105: =WEEKNUM(E105) -> 16 | D105: =DAY(E105) -> 14 | E105: 42108 | F105: ='Well #1'!M284 -> 1146577 | G105: ='Well #6'!M284 -> 209000 | H105: ='Well #9'!M214 -> 0 | I105: ='Well #11'!M288 -> 1890000 | J105: ='Well #12'!M289 -> 0 | K105: ='Well #13'!M289 -> 129750 | L105: ='Well #14'!M289 -> 88000 | M105: ='Well #15'!M214 -> 0 | O105: =SUM(F105:M105) -> 3463327 | P105: =SUM(F105:N105) -> 3463327 | R105: 46 | S105: 10234815 | T105: 10234815
A106: =YEAR(E106) -> 2015 | B106: =MONTH(E106) -> 4 | C106: =WEEKNUM(E106) -> 16 | D106: =DAY(E106) -> 15 | E106: 42109 | F106: ='Well #1'!M285 -> 1095669 | G106: ='Well #6'!M285 -> 180000 | H106: ='Well #9'!M215 -> 0 | I106: ='Well #11'!M289 -> 1850000 | J106: ='Well #12'!M290 -> 0 | K106: ='Well #13'!M290 -> 0 | L106: ='Well #14'!M290 -> 183000 | M106: ='Well #15'!M215 -> 0 | O106: =SUM(F106:M106) -> 3308669 | P106: =SUM(F106:N106) -> 3308669 | R106: 47 | S106: 9269810 | T106: 9269810
A107: =YEAR(E107) -> 2015 | B107: =MONTH(E107) -> 4 | C107: =WEEKNUM(E107) -> 16 | D107: =DAY(E107) -> 16 | E107: 42110 | F107: ='Well #1'!M286 -> 1138162 | G107: ='Well #6'!M286 -> 0 | H107: ='Well #9'!M216 -> 0 | I107: ='Well #11'!M290 -> 1080000 | J107: ='Well #12'!M291 -> 0 | K107: ='Well #13'!M291 -> 0 | L107: ='Well #14'!M291 -> 152000 | M107: ='Well #15'!M216 -> 0 | O107: =SUM(F107:M107) -> 2370162 | P107: =SUM(F107:N107) -> 2370162 | R107: 48 | S107: 8061339 | T107: 8061339
A108: =YEAR(E108) -> 2015 | B108: =MONTH(E108) -> 4 | C108: =WEEKNUM(E108) -> 16 | D108: =DAY(E108) -> 17 | E108: 42111 | F108: ='Well #1'!M287 -> 1186968 | G108: ='Well #6'!M287 -> 0 | H108: ='Well #9'!M217 -> 0 | I108: ='Well #11'!M291 -> 650000 | J108: ='Well #12'!M292 -> 0 | K108: ='Well #13'!M292 -> 5436350 | L108: ='Well #14'!M292 -> 130000 | M108: ='Well #15'!M217 -> 0 | O108: =SUM(F108:M108) -> 7403318 | P108: =SUM(F108:N108) -> 7403318 | R108: 49 | S108: 8258641 | T108: 8258641
A109: =YEAR(E109) -> 2015 | B109: =MONTH(E109) -> 4 | C109: =WEEKNUM(E109) -> 16 | D109: =DAY(E109) -> 18 | E109: 42112 | F109: ='Well #1'!M288 -> 1043777 | G109: ='Well #6'!M288 -> 0 | H109: ='Well #9'!M218 -> 0 | I109: ='Well #11'!M292 -> 310000 | J109: ='Well #12'!M293 -> 0 | K109: ='Well #13'!M293 -> 1812430 | L109: ='Well #14'!M293 -> 82000 | M109: ='Well #15'!M218 -> 0 | O109: =SUM(F109:M109) -> 3248207 | P109: =SUM(F109:N109) -> 3248207 | R109: 50 | S109: 8195645 | T109: 8195645
A110: =YEAR(E110) -> 2015 | B110: =MONTH(E110) -> 4 | C110: =WEEKNUM(E110) -> 17 | D110: =DAY(E110) -> 19 | E110: 42113 | F110: ='Well #1'!M289 -> 1131202 | G110: ='Well #6'!M289 -> 0 | H110: ='Well #9'!M219 -> 0 | I110: ='Well #11'!M293 -> 1490000 | J110: ='Well #12'!M294 -> 0 | K110: ='Well #13'!M294 -> 2747340 | L110: ='Well #14'!M294 -> 122000 | M110: ='Well #15'!M219 -> 0 | N110: ='Farm Well'!K16 -> 10070000 | O110: =SUM(F110:M110) -> 5490542 | P110: =SUM(F110:N110) -> 15560542 | R110: 51 | S110: 8258360 | T110: 8258360
A111: =YEAR(E111) -> 2015 | B111: =MONTH(E111) -> 4 | C111: =WEEKNUM(E111) -> 17 | D111: =DAY(E111) -> 20 | E111: 42114 | F111: ='Well #1'!M290 -> 1110143 | G111: ='Well #6'!M290 -> 1340000 | H111: ='Well #9'!M220 -> 0 | I111: ='Well #11'!M294 -> 3000000 | J111: ='Well #12'!M295 -> 0 | K111: ='Well #13'!M295 -> 168970 | L111: ='Well #14'!M295 -> 173000 | M111: ='Well #15'!M220 -> 0 | O111: =SUM(F111:M111) -> 5792113 | P111: =SUM(F111:N111) -> 5792113 | R111: 52 | S111: 8981413 | T111: 8981413
A112: =YEAR(E112) -> 2015 | B112: =MONTH(E112) -> 4 | C112: =WEEKNUM(E112) -> 17 | D112: =DAY(E112) -> 21 | E112: 42115 | F112: ='Well #1'!M291 -> 1104299 | G112: ='Well #6'!M291 -> 0 | H112: ='Well #9'!M221 -> 0 | I112: ='Well #11'!M295 -> 1820000 | J112: ='Well #12'!M296 -> 0 | K112: ='Well #13'!M296 -> 2155950 | L112: ='Well #14'!M296 -> 127000 | M112: ='Well #15'!M221 -> 0 | O112: =SUM(F112:M112) -> 5207249 | P112: =SUM(F112:N112) -> 5207249 | R112: 53 | S112: 9148988 | T112: 9148988
A113: =YEAR(E113) -> 2015 | B113: =MONTH(E113) -> 4 | C113: =WEEKNUM(E113) -> 17 | D113: =DAY(E113) -> 22 | E113: 42116 | F113: ='Well #1'!M292 -> 1137068 | G113: ='Well #6'!M292 -> 0 | H113: ='Well #9'!M222 -> 0 | I113: ='Well #11'!M296 -> 1170000 | J113: ='Well #12'!M297 -> 0 | K113: ='Well #13'!M297 -> 2358680 | L113: ='Well #14'!M297 -> 156000 | M113: ='Well #15'!M222 -> 0 | O113: =SUM(F113:M113) -> 4821748 | P113: =SUM(F113:N113) -> 4821748 | R113: Grand Total | S113: 3.2518736e+09 | T113: 3.6977436e+09
A114: =YEAR(E114) -> 2015 | B114: =MONTH(E114) -> 4 | C114: =WEEKNUM(E114) -> 17 | D114: =DAY(E114) -> 23 | E114: 42117 | F114: ='Well #1'!M293 -> 1089302 | G114: ='Well #6'!M293 -> 0 | H114: ='Well #9'!M223 -> 0 | I114: ='Well #11'!M297 -> 2840000 | J114: ='Well #12'!M298 -> 0 | K114: ='Well #13'!M298 -> 2045310 | L114: ='Well #14'!M298 -> 80000 | M114: ='Well #15'!M223 -> 0 | O114: =SUM(F114:M114) -> 6054612 | P114: =SUM(F114:N114) -> 6054612
A115: =YEAR(E115) -> 2015 | B115: =MONTH(E115) -> 4 | C115: =WEEKNUM(E115) -> 17 | D115: =DAY(E115) -> 24 | E115: 42118 | F115: ='Well #1'!M294 -> 1119606 | G115: ='Well #6'!M294 -> 0 | H115: ='Well #9'!M224 -> 0 | I115: ='Well #11'!M298 -> 0 | J115: ='Well #12'!M299 -> 0 | K115: ='Well #13'!M299 -> 2156210 | L115: ='Well #14'!M299 -> 133000 | M115: ='Well #15'!M224 -> 0 | O115: =SUM(F115:M115) -> 3408816 | P115: =SUM(F115:N115) -> 3408816
A116: =YEAR(E116) -> 2015 | B116: =MONTH(E116) -> 4 | C116: =WEEKNUM(E116) -> 17 | D116: =DAY(E116) -> 25 | E116: 42119 | F116: ='Well #1'!M295 -> 1117041 | G116: ='Well #6'!M295 -> 0 | H116: ='Well #9'!M225 -> 0 | I116: ='Well #11'!M299 -> 750000 | J116: ='Well #12'!M300 -> 0 | K116: ='Well #13'!M300 -> 2412720 | L116: ='Well #14'!M300 -> 102000 | M116: ='Well #15'!M225 -> 0 | O116: =SUM(F116:M116) -> 4381761 | P116: =SUM(F116:N116) -> 4381761
A117: =YEAR(E117) -> 2015 | B117: =MONTH(E117) -> 4 | C117: =WEEKNUM(E117) -> 18 | D117: =DAY(E117) -> 26 | E117: 42120 | F117: ='Well #1'!M296 -> 1139663 | G117: ='Well #6'!M296 -> 0 | H117: ='Well #9'!M226 -> 0 | I117: ='Well #11'!M300 -> 1280000 | J117: ='Well #12'!M301 -> 0 | K117: ='Well #13'!M301 -> 2303650 | L117: ='Well #14'!M301 -> 0 | M117: ='Well #15'!M226 -> 0 | N117: ='Farm Well'!K17 -> 8320000 | O117: =SUM(F117:M117) -> 4723313 | P117: =SUM(F117:N117) -> 13043313
A118: =YEAR(E118) -> 2015 | B118: =MONTH(E118) -> 4 | C118: =WEEKNUM(E118) -> 18 | D118: =DAY(E118) -> 27 | E118: 42121 | F118: ='Well #1'!M297 -> 1115586 | G118: ='Well #6'!M297 -> 0 | H118: ='Well #9'!M227 -> 0 | I118: ='Well #11'!M301 -> 1930000 | J118: ='Well #12'!M302 -> 0 | K118: ='Well #13'!M302 -> 2602690 | L118: ='Well #14'!M302 -> 309000 | M118: ='Well #15'!M227 -> 0 | O118: =SUM(F118:M118) -> 5957276 | P118: =SUM(F118:N118) -> 5957276
A119: =YEAR(E119) -> 2015 | B119: =MONTH(E119) -> 4 | C119: =WEEKNUM(E119) -> 18 | D119: =DAY(E119) -> 28 | E119: 42122 | F119: ='Well #1'!M298 -> 1133635 | G119: ='Well #6'!M298 -> 0 | H119: ='Well #9'!M228 -> 0 | I119: ='Well #11'!M302 -> 1190000 | J119: ='Well #12'!M303 -> 0 | K119: ='Well #13'!M303 -> 2354210 | L119: ='Well #14'!M303 -> 463000 | M119: ='Well #15'!M228 -> 0 | O119: =SUM(F119:M119) -> 5140845 | P119: =SUM(F119:N119) -> 5140845
A120: =YEAR(E120) -> 2015 | B120: =MONTH(E120) -> 4 | C120: =WEEKNUM(E120) -> 18 | D120: =DAY(E120) -> 29 | E120: 42123 | F120: ='Well #1'!M299 -> 1104220 | G120: ='Well #6'!M299 -> 0 | H120: ='Well #9'!M229 -> 0 | I120: ='Well #11'!M303 -> 1430000 | J120: ='Well #12'!M304 -> 0 | K120: ='Well #13'!M304 -> 2594240 | L120: ='Well #14'!M304 -> 591000 | M120: ='Well #15'!M229 -> 0 | O120: =SUM(F120:M120) -> 5719460 | P120: =SUM(F120:N120) -> 5719460
A121: =YEAR(E121) -> 2015 | B121: =MONTH(E121) -> 4 | C121: =WEEKNUM(E121) -> 18 | D121: =DAY(E121) -> 30 | E121: 42124 | F121: ='Well #1'!M300 -> 1125556 | G121: ='Well #6'!M300 -> 1984000 | H121: ='Well #9'!M230 -> 0 | I121: ='Well #11'!M304 -> 1550000 | J121: ='Well #12'!M305 -> 0 | K121: ='Well #13'!M305 -> 2461610 | L121: ='Well #14'!M305 -> 938000 | M121: ='Well #15'!M230 -> 0 | O121: =SUM(F121:M121) -> 8059166 | P121: =SUM(F121:N121) -> 8059166
A122: =YEAR(E122) -> 2015 | B122: =MONTH(E122) -> 5 | C122: =WEEKNUM(E122) -> 18 | D122: =DAY(E122) -> 1 | E122: 42125 | F122: ='Well #1'!P271 -> 1256916 | G122: ='Well #6'!P271 -> 0 | H122: ='Well #9'!P201 -> 0 | I122: ='Well #11'!P275 -> 1820000 | J122: ='Well #12'!P276 -> 0 | K122: ='Well #13'!P276 -> 3058350 | L122: ='Well #14'!P276 -> 0 | M122: ='Well #15'!P201 -> 0 | O122: =SUM(F122:M122) -> 6135266 | P122: =SUM(F122:N122) -> 6135266
A123: =YEAR(E123) -> 2015 | B123: =MONTH(E123) -> 5 | C123: =WEEKNUM(E123) -> 18 | D123: =DAY(E123) -> 2 | E123: 42126 | F123: ='Well #1'!P272 -> 1686670 | G123: ='Well #6'!P272 -> 0 | H123: ='Well #9'!P202 -> 0 | I123: ='Well #11'!P276 -> 1480000 | J123: ='Well #12'!P277 -> 0 | K123: ='Well #13'!P277 -> 2695310 | L123: ='Well #14'!P277 -> 0 | M123: ='Well #15'!P202 -> 0 | O123: =SUM(F123:M123) -> 5861980 | P123: =SUM(F123:N123) -> 5861980
A124: =YEAR(E124) -> 2015 | B124: =MONTH(E124) -> 5 | C124: =WEEKNUM(E124) -> 19 | D124: =DAY(E124) -> 3 | E124: 42127 | F124: ='Well #1'!P273 -> 412352 | G124: ='Well #6'!P273 -> 767000 | H124: ='Well #9'!P203 -> 0 | I124: ='Well #11'!P277 -> 1660000 | J124: ='Well #12'!P278 -> 0 | K124: ='Well #13'!P278 -> 1848170 | L124: ='Well #14'!P278 -> 1220000 | M124: ='Well #15'!P203 -> 0 | N124: ='Farm Well'!K18 -> 2410000 | O124: =SUM(F124:M124) -> 5907522 | P124: =SUM(F124:N124) -> 8317522
A125: =YEAR(E125) -> 2015 | B125: =MONTH(E125) -> 5 | C125: =WEEKNUM(E125) -> 19 | D125: =DAY(E125) -> 4 | E125: 42128 | F125: ='Well #1'!P274 -> 1134900 | G125: ='Well #6'!P274 -> 403000 | H125: ='Well #9'!P204 -> 0 | I125: ='Well #11'!P278 -> 2370000 | J125: ='Well #12'!P279 -> 232200 | K125: ='Well #13'!P279 -> 717400 | L125: ='Well #14'!P279 -> 198000 | M125: ='Well #15'!P204 -> 0 | O125: =SUM(F125:M125) -> 5055500 | P125: =SUM(F125:N125) -> 5055500
A126: =YEAR(E126) -> 2015 | B126: =MONTH(E126) -> 5 | C126: =WEEKNUM(E126) -> 19 | D126: =DAY(E126) -> 5 | E126: 42129 | F126: ='Well #1'!P275 -> 1130042 | G126: ='Well #6'!P275 -> 807000 | H126: ='Well #9'!P205 -> 0 | I126: ='Well #11'!P279 -> 1740000 | J126: ='Well #12'!P280 -> 0 | K126: ='Well #13'!P280 -> 1366420 | L126: ='Well #14'!P280 -> 342000 | M126: ='Well #15'!P205 -> 0 | O126: =SUM(F126:M126) -> 5385462 | P126: =SUM(F126:N126) -> 5385462
A127: =YEAR(E127) -> 2015 | B127: =MONTH(E127) -> 5 | C127: =WEEKNUM(E127) -> 19 | D127: =DAY(E127) -> 6 | E127: 42130 | F127: ='Well #1'!P276 -> 62899 | G127: ='Well #6'!P276 -> 0 | H127: ='Well #9'!P206 -> 0 | I127: ='Well #11'!P280 -> 2040000 | J127: ='Well #12'!P281 -> 273100 | K127: ='Well #13'!P281 -> 4703600 | L127: ='Well #14'!P281 -> 185000 | M127: ='Well #15'!P206 -> 1449000 | O127: =SUM(F127:M127) -> 8713599 | P127: =SUM(F127:N127) -> 8713599
A128: =YEAR(E128) -> 2015 | B128: =MONTH(E128) -> 5 | C128: =WEEKNUM(E128) -> 19 | D128: =DAY(E128) -> 7 | E128: 42131 | F128: ='Well #1'!P277 -> 2 | G128: ='Well #6'!P277 -> 570000 | H128: ='Well #9'!P207 -> 0 | I128: ='Well #11'!P281 -> 1100000 | J128: ='Well #12'!P282 -> 102800 | K128: ='Well #13'!P282 -> 1766760 | L128: ='Well #14'!P282 -> 192000 | M128: ='Well #15'!P207 -> 1587000 | O128: =SUM(F128:M128) -> 5318562 | P128: =SUM(F128:N128) -> 5318562
A129: =YEAR(E129) -> 2015 | B129: =MONTH(E129) -> 5 | C129: =WEEKNUM(E129) -> 19 | D129: =DAY(E129) -> 8 | E129: 42132 | F129: ='Well #1'!P278 -> 2 | G129: ='Well #6'!P278 -> 0 | H129: ='Well #9'!P208 -> 0 | I129: ='Well #11'!P282 -> 1250000 | J129: ='Well #12'!P283 -> 0 | K129: ='Well #13'!P283 -> 1704780 | L129: ='Well #14'!P283 -> 278000 | M129: ='Well #15'!P208 -> 1626000 | O129: =SUM(F129:M129) -> 4858782 | P129: =SUM(F129:N129) -> 4858782
A130: =YEAR(E130) -> 2015 | B130: =MONTH(E130) -> 5 | C130: =WEEKNUM(E130) -> 19 | D130: =DAY(E130) -> 9 | E130: 42133 | F130: ='Well #1'!P279 -> 1 | G130: ='Well #6'!P279 -> 0 | H130: ='Well #9'!P209 -> 0 | I130: ='Well #11'!P283 -> 1030000 | J130: ='Well #12'!P284 -> 0 | K130: ='Well #13'!P284 -> 2103880 | L130: ='Well #14'!P284 -> 149000 | M130: ='Well #15'!P209 -> 1586000 | O130: =SUM(F130:M130) -> 4868881 | P130: =SUM(F130:N130) -> 4868881
A131: =YEAR(E131) -> 2015 | B131: =MONTH(E131) -> 5 | C131: =WEEKNUM(E131) -> 20 | D131: =DAY(E131) -> 10 | E131: 42134 | F131: ='Well #1'!P280 -> 1 | G131: ='Well #6'!P280 -> 666000 | H131: ='Well #9'!P210 -> 0 | I131: ='Well #11'!P284 -> 1390000 | J131: ='Well #12'!P285 -> 0 | K131: ='Well #13'!P285 -> 2590180 | L131: ='Well #14'!P285 -> 203000 | M131: ='Well #15'!P210 -> 1547000 | N131: ='Farm Well'!K19 -> 8120000 | O131: =SUM(F131:M131) -> 6396181 | P131: =SUM(F131:N131) -> 14516181
A132: =YEAR(E132) -> 2015 | B132: =MONTH(E132) -> 5 | C132: =WEEKNUM(E132) -> 20 | D132: =DAY(E132) -> 11 | E132: 42135 | F132: ='Well #1'!P281 -> 1 | G132: ='Well #6'!P281 -> 143000 | H132: ='Well #9'!P211 -> 0 | I132: ='Well #11'!P285 -> 1640000 | J132: ='Well #12'!P286 -> 253100 | K132: ='Well #13'!P286 -> 2070730 | L132: ='Well #14'!P286 -> 215000 | M132: ='Well #15'!P211 -> 0 | O132: =SUM(F132:M132) -> 4321831 | P132: =SUM(F132:N132) -> 4321831
A133: =YEAR(E133) -> 2015 | B133: =MONTH(E133) -> 5 | C133: =WEEKNUM(E133) -> 20 | D133: =DAY(E133) -> 12 | E133: 42136 | F133: ='Well #1'!P282 -> 1 | G133: ='Well #6'!P282 -> 0 | H133: ='Well #9'!P212 -> 0 | I133: ='Well #11'!P286 -> 1310000 | J133: ='Well #12'!P287 -> 142200 | K133: ='Well #13'!P287 -> 2052540 | L133: ='Well #14'!P287 -> 294000 | M133: ='Well #15'!P212 -> 3112000 | O133: =SUM(F133:M133) -> 6910741 | P133: =SUM(F133:N133) -> 6910741
...

Sheet Well #1
B2: 39448 | E2: 39479 | H2: 39508 | K2: 39539 | N2: 39569 | Q2: 39600 | T2: 39630 | W2: 39661 | Z2: 39692 | AC2: 39722 | AF2: 39753 | AI2: 39783
B3: Date | C3: Meter | D3: Total Gallons Pumped | E3: Date | F3: Meter | G3: Total Gallons Pumped | H3: Date | I3: Meter | J3: Total Gallons Pumped | K3: Date | L3: Meter | M3: Total Gallons Pumped | N3: Date | O3: Meter | P3: Total Gallons Pumped | Q3: Date | R3: Meter | S3: Total Gallons Pumped | T3: Date | U3: Meter | V3: Total Gallons Pumped | W3: Date | X3: Meter | Y3: Total Gallons Pumped | Z3: Date | AA3: Meter | AB3: Total Gallons Pumped | AC3: Date | AD3: Meter | AE3: Total Gallons Pumped | AF3: Date | AG3: Meter | AH3: Total Gallons Pumped | AI3: Date | AJ3: Meter | AK3: Total Gallons Pumped
B5: 1 | C5: 678020699 | D5: =SUM(C6-C5) -> 972413 | E5: 1 | F5: 710327441 | G5: =SUM(F6-F5) -> 795135 | H5: 1 | I5: 736369951 | J5: =SUM(I6-I5) -> 805874 | K5: 1 | L5: 762798118 | M5: =SUM(L6-L5) -> 806758 | N5: 1 | O5: 777176335 | P5: =SUM(O6-O5) -> 0 | Q5: 1 | R5: 806523670 | S5: =SUM(R6-R5) -> 1753954 | T5: 1 | U5: 839890439 | V5: =SUM(U6-U5) -> 1172952 | W5: 1 | X5: 874969537 | Y5: =SUM(X6-X5) -> 1142446 | Z5: 1 | AA5: 909882195 | AB5: =SUM(AA6-AA5) -> 1170013 | AC5: 1 | AD5: 943610664 | AE5: =SUM(AD6-AD5) -> 1113012 | AF5: 1 | AG5: 979187961 | AH5: =SUM(AG6-AG5) -> 1308032 | AI5: 1 | AJ5: 9328412 | AK5: =SUM(AJ6-AJ5) -> 883907
B6: 2 | C6: 678993112 | D6: =SUM(C7-C6) -> 1175183 | E6: 2 | F6: 711122576 | G6: =SUM(F7-F6) -> 962561 | H6: 2 | I6: 737175825 | J6: =SUM(I7-I6) -> 882599 | K6: 2 | L6: 763604876 | M6: =SUM(L7-L6) -> 828113 | N6: 2 | O6: 777176335 | P6: =SUM(O7-O6) -> 0 | Q6: 2 | R6: 808277624 | S6: =SUM(R7-R6) -> 1204511 | T6: 2 | U6: 841063391 | V6: =SUM(U7-U6) -> 1167781 | W6: 2 | X6: 876111983 | Y6: =SUM(X7-X6) -> 1182316 | Z6: 2 | AA6: 911052208 | AB6: =SUM(AA7-AA6) -> 1138964 | AC6: 2 | AD6: 944723676 | AE6: =SUM(AD7-AD6) -> 1129314 | AF6: 2 | AG6: 980495993 | AH6: =SUM(AG7-AG6) -> 980091 | AI6: 2 | AJ6: 10212319 | AK6: =SUM(AJ7-AJ6) -> 983924
B7: 3 | C7: 680168295 | D7: =SUM(C8-C7) -> 1076495 | E7: 3 | F7: 712085137 | G7: =SUM(F8-F7) -> 825238 | H7: 3 | I7: 738058424 | J7: =SUM(I8-I7) -> 897878 | K7: 3 | L7: 764432989 | M7: =SUM(L8-L7) -> 955055 | N7: 3 | O7: 777176335 | P7: =SUM(O8-O7) -> 0 | Q7: 3 | R7: 809482135 | S7: =SUM(R8-R7) -> 1146245 | T7: 3 | U7: 842231172 | V7: =SUM(U8-U7) -> 1104789 | W7: 3 | X7: 877294299 | Y7: =SUM(X8-X7) -> 1075009 | Z7: 3 | AA7: 912191172 | AB7: =SUM(AA8-AA7) -> 1155965 | AC7: 3 | AD7: 945852990 | AE7: =SUM(AD8-AD7) -> 1188466 | AF7: 3 | AG7: 981476084 | AH7: =SUM(AG8-AG7) -> 1194909 | AI7: 3 | AJ7: 11196243 | AK7: =SUM(AJ8-AJ7) -> 767759
B8: 4 | C8: 681244790 | D8: =SUM(C9-C8) -> 1135517 | E8: 4 | F8: 712910375 | G8: =SUM(F9-F8) -> 917034 | H8: 4 | I8: 738956302 | J8: =SUM(I9-I8) -> 964775 | K8: 4 | L8: 765388044 | M8: =SUM(L9-L8) -> 752945 | N8: 4 | O8: 777176335 | P8: =SUM(O9-O8) -> 865899 | Q8: 4 | R8: 810628380 | S8: =SUM(R9-R8) -> 1231487 | T8: 4 | U8: 843335961 | V8: =SUM(U9-U8) -> 1126361 | W8: 4 | X8: 878369308 | Y8: =SUM(X9-X8) -> 1111438 | Z8: 4 | AA8: 913347137 | AB8: =SUM(AA9-AA8) -> 1167203 | AC8: 4 | AD8: 947041456 | AE8: =SUM(AD9-AD8) -> 1139288 | AF8: 4 | AG8: 982670993 | AH8: =SUM(AG9-AG8) -> 945257 | AI8: 4 | AJ8: 11964002 | AK8: =SUM(AJ9-AJ8) -> 931982
B9: 5 | C9: 682380307 | D9: =SUM(C10-C9) -> 1067012 | E9: 5 | F9: 713827409 | G9: =SUM(F10-F9) -> 1053886 | H9: 5 | I9: 739921077 | J9: =SUM(I10-I9) -> 828651 | K9: 5 | L9: 766140989 | M9: =SUM(L10-L9) -> 1030627 | N9: 5 | O9: 778042234 | P9: =SUM(O10-O9) -> 185742 | Q9: 5 | R9: 811859867 | S9: =SUM(R10-R9) -> 1172194 | T9: 5 | U9: 844462322 | V9: =SUM(U10-U9) -> 1092940 | W9: 5 | X9: 879480746 | Y9: =SUM(X10-X9) -> 1221545 | Z9: 5 | AA9: 914514340 | AB9: =SUM(AA10-AA9) -> 1005053 | AC9: 5 | AD9: 948180744 | AE9: =SUM(AD10-AD9) -> 1098906 | AF9: 5 | AG9: 983616250 | AH9: =SUM(AG10-AG9) -> 1099927 | AI9: 5 | AJ9: 12895984 | AK9: =SUM(AJ10-AJ9) -> 1024450
B10: 6 | C10: 683447319 | D10: =SUM(C11-C10) -> 911317 | E10: 6 | F10: 714881295 | G10: =SUM(F11-F10) -> 1000448 | H10: 6 | I10: 740749728 | J10: =SUM(I11-I10) -> 829906 | K10: 6 | L10: 767171616 | M10: =SUM(L11-L10) -> 1068238 | N10: 6 | O10: 778227976 | P10: =SUM(O11-O10) -> 684202 | Q10: 6 | R10: 813032061 | S10: =SUM(R11-R10) -> 1000776 | T10: 6 | U10: 845555262 | V10: =SUM(U11-U10) -> 1210438 | W10: 6 | X10: 880702291 | Y10: =SUM(X11-X10) -> 1028891 | Z10: 6 | AA10: 915519393 | AB10: =SUM(AA11-AA10) -> 1236714 | AC10: 6 | AD10: 949279650 | AE10: =SUM(AD11-AD10) -> 1179814 | AF10: 6 | AG10: 984716177 | AH10: =SUM(AG11-AG10) -> 1090588 | AI10: 6 | AJ10: 13920434 | AK10: =SUM(AJ11-AJ10) -> 946214
B11: 7 | C11: 684358636 | D11: =SUM(C12-C11) -> 996675 | E11: 7 | F11: 715881743 | G11: =SUM(F12-F11) -> 1025876 | H11: 7 | I11: 741579634 | J11: =SUM(I12-I11) -> 873704 | K11: 7 | L11: 768239854 | M11: =SUM(L12-L11) -> 928797 | N11: 7 | O11: 778912178 | P11: =SUM(O12-O11) -> 1161368 | Q11: 7 | R11: 814032837 | S11: =SUM(R12-R11) -> 1159948 | T11: 7 | U11: 846765700 | V11: =SUM(U12-U11) -> 1064639 | W11: 7 | X11: 881731182 | Y11: =SUM(X12-X11) -> 1120999 | Z11: 7 | AA11: 916756107 | AB11: =SUM(AA12-AA11) -> 1111369 | AC11: 7 | AD11: 950459464 | AE11: =SUM(AD12-AD11) -> 1107921 | AF11: 7 | AG11: 985806765 | AH11: =SUM(AG12-AG11) -> 925226 | AI11: 7 | AJ11: 14866648 | AK11: =SUM(AJ12-AJ11) -> 909136
B12: 8 | C12: 685355311 | D12: =SUM(C13-C12) -> 1029751 | E12: 8 | F12: 716907619 | G12: =SUM(F13-F12) -> 1008302 | H12: 8 | I12: 742453338 | J12: =SUM(I13-I12) -> 1007503 | K12: 8 | L12: 769168651 | M12: =SUM(L13-L12) -> 813302 | N12: 8 | O12: 780073546 | P12: =SUM(O13-O12) -> 1105805 | Q12: 8 | R12: 815192785 | S12: =SUM(R13-R12) -> 1268505 | T12: 8 | U12: 847830339 | V12: =SUM(U13-U12) -> 1134843 | W12: 8 | X12: 882852181 | Y12: =SUM(X13-X12) -> 1091661 | Z12: 8 | AA12: 917867476 | AB12: =SUM(AA13-AA12) -> 1106182 | AC12: 8 | AD12: 951567385 | AE12: =SUM(AD13-AD12) -> 1183074 | AF12: 8 | AG12: 986731991 | AH12: =SUM(AG13-AG12) -> 966349 | AI12: 8 | AJ12: 15775784 | AK12: =SUM(AJ13-AJ12) -> 849443
B13: 9 | C13: 686385062 | D13: =SUM(C14-C13) -> 1020940 | E13: 9 | F13: 717915921 | G13: =SUM(F14-F13) -> 808587 | H13: 9 | I13: 743460841 | J13: =SUM(I14-I13) -> 1014328 | K13: 9 | L13: 769981953 | M13: =SUM(L14-L13) -> 1005686 | N13: 9 | O13: 781179351 | P13: =SUM(O14-O13) -> 1182917 | Q13: 9 | R13: 816461290 | S13: =SUM(R14-R13) -> 1182958 | T13: 9 | U13: 848965182 | V13: =SUM(U14-U13) -> 1103250 | W13: 9 | X13: 883943842 | Y13: =SUM(X14-X13) -> 1169351 | Z13: 9 | AA13: 918973658 | AB13: =SUM(AA14-AA13) -> 1150939 | AC13: 9 | AD13: 952750459 | AE13: =SUM(AD14-AD13) -> 1139961 | AF13: 9 | AG13: 987698340 | AH13: =SUM(AG14-AG13) -> 1122645 | AI13: 9 | AJ13: 16625227 | AK13: =SUM(AJ14-AJ13) -> 1023107
B14: 10 | C14: 687406002 | D14: =SUM(C15-C14) -> 1182141 | E14: 10 | F14: 718724508 | G14: =SUM(F15-F14) -> 806779 | H14: 10 | I14: 744475169 | J14: =SUM(I15-I14) -> 864619 | K14: 10 | L14: 770987639 | M14: =SUM(L15-L14) -> 741572 | N14: 10 | O14: 782362268 | P14: =SUM(O15-O14) -> 1217997 | Q14: 10 | R14: 817644248 | S14: =SUM(R15-R14) -> 1223913 | T14: 10 | U14: 850068432 | V14: =SUM(U15-U14) -> 1185151 | W14: 10 | X14: 885113193 | Y14: =SUM(X15-X14) -> 1104478 | Z14: 10 | AA14: 920124597 | AB14: =SUM(AA15-AA14) -> 1150222 | AC14: 10 | AD14: 953890420 | AE14: =SUM(AD15-AD14) -> 1137483 | AF14: 10 | AG14: 988820985 | AH14: =SUM(AG15-AG14) -> 889791 | AI14: 10 | AJ14: 17648334 | AK14: =SUM(AJ15-AJ14) -> 981329
B15: 11 | C15: 688588143 | D15: =SUM(C16-C15) -> 1029627 | E15: 11 | F15: 719531287 | G15: =SUM(F16-F15) -> 885821 | H15: 11 | I15: 745339788 | J15: =SUM(I16-I15) -> 894408 | K15: 11 | L15: 771729211 | M15: =SUM(L16-L15) -> 867705 | N15: 11 | O15: 783580265 | P15: =SUM(O16-O15) -> 1087019 | Q15: 11 | R15: 818868161 | S15: =SUM(R16-R15) -> 1033726 | T15: 11 | U15: 851253583 | V15: =SUM(U16-U15) -> 1073695 | W15: 11 | X15: 886217671 | Y15: =SUM(X16-X15) -> 1144480 | Z15: 11 | AA15: 921274819 | AB15: =SUM(AA16-AA15) -> 1153300 | AC15: 11 | AD15: 955027903 | AE15: =SUM(AD16-AD15) -> 1132811 | AF15: 11 | AG15: 989710776 | AH15: =SUM(AG16-AG15) -> 1208366 | AI15: 11 | AJ15: 18629663 | AK15: =SUM(AJ16-AJ15) -> 1157964
B16: 12 | C16: 689617770 | D16: =SUM(C17-C16) -> 930936 | E16: 12 | F16: 720417108 | G16: =SUM(F17-F16) -> 778846 | H16: 12 | I16: 746234196 | J16: =SUM(I17-I16) -> 986629 | K16: 12 | L16: 772596916 | M16: =SUM(L17-L16) -> 1079006 | N16: 12 | O16: 784667284 | P16: =SUM(O17-O16) -> 1152011 | Q16: 12 | R16: 819901887 | S16: =SUM(R17-R16) -> 1175642 | T16: 12 | U16: 852327278 | V16: =SUM(U17-U16) -> 1205755 | W16: 12 | X16: 887362151 | Y16: =SUM(X17-X16) -> 1159876 | Z16: 12 | AA16: 922428119 | AB16: =SUM(AA17-AA16) -> 1107560 | AC16: 12 | AD16: 956160714 | AE16: =SUM(AD17-AD16) -> 1144114 | AF16: 12 | AG16: 990919142 | AH16: =SUM(AG17-AG16) -> 863928 | AI16: 12 | AJ16: 19787627 | AK16: =SUM(AJ17-AJ16) -> 1062819
... B33: 29 | C33: 707069359 | D33: =SUM(C34-C33) -> 1064014 | E33: 29 | F33: 735496545 | G33: =SUM(F34-F33) -> 873406 | H33: 29 | I33: 760275177 | J33: =SUM(I34-I33) -> 857953 | K33: 29 | L33: 777148086 | M33: =SUM(L34-L33) -> 28249 | N33: 29 | O33: 803611492 | P33: =SUM(O34-O33) -> 1194423 | Q33: 29 | R33: 837664403 | S33: =SUM(R34-R33) -> 1101914 | T33: 29 | U33: 871568911 | V33: =SUM(U34-U33) -> 1153680 | W33: 29 | X33: 906567032 | Y33: =SUM(X34-X33) -> 1022733 | Z33: 29 | AA33: 941348476 | AB33: =SUM(AA34-AA33) -> 1164684 | AC33: 29 | AD33: 975663985 | AE33: =SUM(AD34-AD33) -> 1191227 | AF33: 29 | AG33: 1007506431 | AH33: =SUM(AG34-AG33) -> 960363 | AI33: 29 | AJ33: 36927216 | AK33: =SUM(AJ34-AJ33) -> 1000778
B34: 30 | C34: 708133373 | D34: =SUM(C35-C34) -> 1125076 | F34: 736369951 | H34: 30 | I34: 761133130 | J34: =SUM(I35-I34) -> 726231 | K34: 30 | L34: 777176335 | M34: =SUM(L35-L34) -> 0 | N34: 30 | O34: 804805915 | P34: =SUM(O35-O34) -> 1211783 | Q34: 30 | R34: 838766317 | S34: =SUM(R35-R34) -> 1124122 | T34: 30 | U34: 872722591 | V34: =SUM(U35-U34) -> 1104656 | W34: 30 | X34: 907589765 | Y34: =SUM(X35-X34) -> 1236721 | Z34: 30 | AA34: 942513160 | AB34: =SUM(AA35-AA34) -> 1097504 | AC34: 30 | AD34: 976855212 | AE34: =SUM(AD35-AD34) -> 1135389 | AF34: 30 | AG34: 1008466794 | AH34: =SUM(AG35-AG34) -> 861618 | AI34: 30 | AJ34: 37927994 | AK34: =SUM(AJ35-AJ34) -> 1180250
B35: 31 | C35: 709258449 | D35: =SUM(C36-C35) -> 1068992 | H35: 31 | I35: 761859361 | J35: =SUM(I36-I35) -> 938757 | L35: 777176335 | N35: 31 | O35: 806017698 | P35: =SUM(O36-O35) -> 505972 | R35: 839890439 | T35: 31 | U35: 873827247 | V35: =SUM(U36-U35) -> 1142290 | W35: 31 | X35: 908826486 | Y35: =SUM(X36-X35) -> 1055709 | AA35: 943610664 | AC35: 31 | AD35: 977990601 | AE35: =SUM(AD36-AD35) -> 1197360 | AG35: 1009328412 | AI35: 31 | AJ35: 39108244 | AK35: =SUM(AJ36-AJ35) -> 1122031
C36: 710327441 | I36: 762798118 | O36: 806523670 | U36: 874969537 | X36: 909882195 | AD36: 979187961 | AJ36: 40230275
D37: 32306742 | G37: 25169104 | J37: 26428167 | M37: 14378217 | P37: 29347335 | S37: 33366769 | V37: 35079098 | Y37: 34912658 | AB37: 33728469 | AE37: 35577297 | AH37: 30140451 | AK37: 30901863
B40: 39814 | E40: 39845 | H40: 39873 | K40: 39904 | N40: 39934 | Q40: 39965 | T40: 39995 | W40: 40026 | Z40: 40057 | AC40: 40087 | AF40: 40118 | AI40: 40148
B41: Date | C41: Meter | D41: Total Gallons Pumped | E41: Date | F41: Meter | G41: Total Gallons Pumped | H41: Date | I41: Meter | J41: Total Gallons Pumped | K41: Date | L41: Meter | M41: Total Gallons Pumped | N41: Date | O41: Meter | P41: Total Gallons Pumped | Q41: Date | R41: Meter | S41: Total Gallons Pumped | T41: Date | U41: Meter | V41: Total Gallons Pumped | W41: Date | X41: Meter | Y41: Total Gallons Pumped | Z41: Date | AA41: Meter | AB41: Total Gallons Pumped | AC41: Date | AD41: Meter | AE41: Total Gallons Pumped | AF41: Date | AG41: Meter | AH41: Total Gallons Pumped | AI41: Date | AJ41: Meter | AK41: Total Gallons Pumped
B43: 1 | C43: 40230275 | D43: =SUM(C44-C43) -> 951667 | E43: 1 | F43: 69920801 | G43: =SUM(F44-F43) -> 983620 | H43: 1 | I43: 96880927 | J43: =SUM(I44-I43) -> 1144461 | K43: 1 | L43: 126883554 | M43: =SUM(L44-L43) -> 1181409 | N43: 1 | O43: 159345869 | P43: =SUM(O44-O43) -> 1163906 | Q43: 1 | R43: 195008690 | S43: =SUM(R44-R43) -> 1090242 | T43: 1 | U43: 224345872 | V43: =SUM(U44-U43) -> 1154395 | W43: 1 | X43: 259278683 | Y43: =SUM(X44-X43) -> 1112339 | Z43: 1 | AA43: 293519472 | AB43: =SUM(AA44-AA43) -> 1126397 | AC43: 1 | AD43: 327503547 | AE43: =SUM(AD44-AD43) -> 1205217 | AF43: 1 | AG43: 344574482 | AH43: =SUM(AG44-AG43) -> 1094880 | AI43: 1 | AJ43: 372259255 | AK43: =SUM(AJ44-AJ43) -> 41790
B44: 2 | C44: 41181942 | D44: =SUM(C45-C44) -> 864180 | E44: 2 | F44: 70904421 | G44: =SUM(F45-F44) -> 913635 | H44: 2 | I44: 98025388 | J44: =SUM(I45-I44) -> 1152611 | K44: 2 | L44: 128064963 | M44: =SUM(L45-L44) -> 1190432 | N44: 2 | O44: 160509775 | P44: =SUM(O45-O44) -> 1181863 | Q44: 2 | R44: 196098932 | S44: =SUM(R45-R44) -> 1171860 | T44: 2 | U44: 225500267 | V44: =SUM(U45-U44) -> 1158946 | W44: 2 | X44: 260391022 | Y44: =SUM(X45-X44) -> 1071145 | Z44: 2 | AA44: 294645869 | AB44: =SUM(AA45-AA44) -> 1145308 | AC44: 2 | AD44: 328708764 | AE44: =SUM(AD45-AD44) -> 1106414 | AF44: 2 | AG44: 345669362 | AH44: =SUM(AG45-AG44) -> 879339 | AI44: 2 | AJ44: 372301045 | AK44: =SUM(AJ45-AJ44) -> 656450
B45: 3 | C45: 42046122 | D45: =SUM(C46-C45) -> 946701 | E45: 3 | F45: 71818056 | G45: =SUM(F46-F45) -> 1000268 | H45: 3 | I45: 99177999 | J45: =SUM(I46-I45) -> 884177 | K45: 3 | L45: 129255395 | M45: =SUM(L46-L45) -> 958480 | N45: 3 | O45: 161691638 | P45: =SUM(O46-O45) -> 1092536 | Q45: 3 | R45: 197270792 | S45: =SUM(R46-R45) -> 1170178 | T45: 3 | U45: 226659213 | V45: =SUM(U46-U45) -> 1217594 | W45: 3 | X45: 261462167 | Y45: =SUM(X46-X45) -> 1066608 | Z45: 3 | AA45: 295791177 | AB45: =SUM(AA46-AA45) -> 1090346 | AC45: 3 | AD45: 329815178 | AE45: =SUM(AD46-AD45) -> 1101443 | AF45: 3 | AG45: 346548701 | AH45: =SUM(AG46-AG45) -> 1026543 | AI45: 3 | AJ45: 372957495 | AK45: =SUM(AJ46-AJ45) -> 648797
B46: 4 | C46: 42992823 | D46: =SUM(C47-C46) -> 830090 | E46: 4 | F46: 72818324 | G46: =SUM(F47-F46) -> 835938 | H46: 4 | I46: 100062176 | J46: =SUM(I47-I46) -> 937902 | K46: 4 | L46: 130213875 | M46: =SUM(L47-L46) -> 1243647 | N46: 4 | O46: 162784174 | P46: =SUM(O47-O46) -> 1172369 | Q46: 4 | R46: 198440970 | S46: =SUM(R47-R46) -> 1105220 | T46: 4 | U46: 227876807 | V46: =SUM(U47-U46) -> 1187272 | W46: 4 | X46: 262528775 | Y46: =SUM(X47-X46) -> 1139930 | Z46: 4 | AA46: 296881523 | AB46: =SUM(AA47-AA46) -> 1164174 | AC46: 4 | AD46: 330916621 | AE46: =SUM(AD47-AD46) -> 1177203 | AF46: 4 | AG46: 347575244 | AH46: =SUM(AG47-AG46) -> 640792 | AI46: 4 | AJ46: 373606292 | AK46: =SUM(AJ47-AJ46) -> 1081197
B47: 5 | C47: 43822913 | D47: =SUM(C48-C47) -> 937546 | E47: 5 | F47: 73654262 | G47: =SUM(F48-F47) -> 976028 | H47: 5 | I47: 101000078 | J47: =SUM(I48-I47) -> 895317 | K47: 5 | L47: 131457522 | M47: =SUM(L48-L47) -> 919069 | N47: 5 | O47: 163956543 | P47: =SUM(O48-O47) -> 1202912 | Q47: 5 | R47: 199546190 | S47: =SUM(R48-R47) -> 366368 | T47: 5 | U47: 229064079 | V47: =SUM(U48-U47) -> 1002169 | W47: 5 | X47: 263668705 | Y47: =SUM(X48-X47) -> 1063329 | Z47: 5 | AA47: 298045697 | AB47: =SUM(AA48-AA47) -> 1153727 | AC47: 5 | AD47: 332093824 | AE47: =SUM(AD48-AD47) -> 1139303 | AF47: 5 | AG47: 348216036 | AH47: =SUM(AG48-AG47) -> 888866 | AI47: 5 | AJ47: 374687489 | AK47: =SUM(AJ48-AJ47) -> 1026106
B48: 6 | C48: 44760459 | D48: =SUM(C49-C48) -> 1204833 | E48: 6 | F48: 74630290 | G48: =SUM(F49-F48) -> 1246331 | H48: 6 | I48: 101895395 | J48: =SUM(I49-I48) -> 905922 | K48: 6 | L48: 132376591 | M48: =SUM(L49-L48) -> 939283 | N48: 6 | O48: 165159455 | P48: =SUM(O49-O48) -> 1098026 | Q48: 6 | R48: 199912558 | S48: =SUM(R49-R48) -> 0 | T48: 6 | U48: 230066248 | V48: =SUM(U49-U48) -> 1134777 | W48: 6 | X48: 264732034 | Y48: =SUM(X49-X48) -> 1140528 | Z48: 6 | AA48: 299199424 | AB48: =SUM(AA49-AA48) -> 1115205 | AC48: 6 | AD48: 333233127 | AE48: =SUM(AD49-AD48) -> 1166965 | AF48: 6 | AG48: 349104902 | AH48: =SUM(AG49-AG48) -> 856401 | AI48: 6 | AJ48: 375713595 | AK48: =SUM(AJ49-AJ48) -> 820233
B49: 7 | C49: 45965292 | D49: =SUM(C50-C49) -> 854736 | E49: 7 | F49: 75876621 | G49: =SUM(F50-F49) -> 704072 | H49: 7 | I49: 102801317 | J49: =SUM(I50-I49) -> 1030160 | K49: 7 | L49: 133315874 | M49: =SUM(L50-L49) -> 1176091 | N49: 7 | O49: 166257481 | P49: =SUM(O50-O49) -> 1162372 | Q49: 7 | R49: 199912558 | S49: =SUM(R50-R49) -> 862663 | T49: 7 | U49: 231201025 | V49: =SUM(U50-U49) -> 1130040 | W49: 7 | X49: 265872562 | Y49: =SUM(X50-X49) -> 1118894 | Z49: 7 | AA49: 300314629 | AB49: =SUM(AA50-AA49) -> 1058770 | AC49: 7 | AD49: 334400092 | AE49: =SUM(AD50-AD49) -> 411150 | AF49: 7 | AG49: 349961303 | AH49: =SUM(AG50-AG49) -> 88009 | AI49: 7 | AJ49: 376533828 | AK49: =SUM(AJ50-AJ49) -> 810640
B50: 8 | C50: 46820028 | D50: =SUM(C51-C50) -> 954283 | E50: 8 | F50: 76580693 | G50: =SUM(F51-F50) -> 919262 | H50: 8 | I50: 103831477 | J50: =SUM(I51-I50) -> 931710 | K50: 8 | L50: 134491965 | M50: =SUM(L51-L50) -> 880377 | N50: 8 | O50: 167419853 | P50: =SUM(O51-O50) -> 1124137 | Q50: 8 | R50: 200775221 | S50: =SUM(R51-R50) -> 1094775 | T50: 8 | U50: 232331065 | V50: =SUM(U51-U50) -> 1287851 | W50: 8 | X50: 266991456 | Y50: =SUM(X51-X50) -> 1121643 | Z50: 8 | AA50: 301373399 | AB50: =SUM(AA51-AA50) -> 1192794 | AC50: 8 | AD50: 334811242 | AE50: =SUM(AD51-AD50) -> 310865 | AF50: 8 | AG50: 350049312 | AH50: =SUM(AG51-AG50) -> 1408605 | AI50: 8 | AJ50: 377344468 | AK50: =SUM(AJ51-AJ50) -> 700318
B51: 9 | C51: 47774311 | D51: =SUM(C52-C51) -> 911505 | E51: 9 | F51: 77499955 | G51: =SUM(F52-F51) -> 940729 | H51: 9 | I51: 104763187 | J51: =SUM(I52-I51) -> 1029602 | K51: 9 | L51: 135372342 | M51: =SUM(L52-L51) -> 634809 | N51: 9 | O51: 168543990 | P51: =SUM(O52-O51) -> 1220907 | Q51: 9 | R51: 201869996 | S51: =SUM(R52-R51) -> 1200907 | T51: 9 | U51: 233618916 | V51: =SUM(U52-U51) -> 1035806 | W51: 9 | X51: 268113099 | Y51: =SUM(X52-X51) -> 1175472 | Z51: 9 | AA51: 302566193 | AB51: =SUM(AA52-AA51) -> 1172019 | AC51: 9 | AD51: 335122107 | AE51: =SUM(AD52-AD51) -> 269617 | AF51: 9 | AG51: 351457917 | AH51: =SUM(AG52-AG51) -> 767086 | AI51: 9 | AJ51: 378044786 | AK51: =SUM(AJ52-AJ51) -> 1020053
B52: 10 | C52: 48685816 | D52: =SUM(C53-C52) -> 907344 | E52: 10 | F52: 78440684 | G52: =SUM(F53-F52) -> 906859 | H52: 10 | I52: 105792789 | J52: =SUM(I53-I52) -> 933942 | K52: 10 | L52: 136007151 | M52: =SUM(L53-L52) -> 667823 | N52: 10 | O52: 169764897 | P52: =SUM(O53-O52) -> 1142447 | Q52: 10 | R52: 203070903 | S52: =SUM(R53-R52) -> 1053649 | T52: 10 | U52: 234654722 | V52: =SUM(U53-U52) -> 1119641 | W52: 10 | X52: 269288571 | Y52: =SUM(X53-X52) -> 1155645 | Z52: 10 | AA52: 303738212 | AB52: =SUM(AA53-AA52) -> 1081296 | AC52: 10 | AD52: 335391724 | AE52: =SUM(AD53-AD52) -> 0 | AF52: 10 | AG52: 352225003 | AH52: =SUM(AG53-AG52) -> 1177736 | AI52: 10 | AJ52: 379064839 | AK52: =SUM(AJ53-AJ52) -> 1869345
B53: 11 | C53: 49593160 | D53: =SUM(C54-C53) -> 925411 | E53: 11 | F53: 79347543 | G53: =SUM(F54-F53) -> 987641 | H53: 11 | I53: 106726731 | J53: =SUM(I54-I53) -> 970873 | K53: 11 | L53: 136674974 | M53: =SUM(L54-L53) -> 1172262 | N53: 11 | O53: 170907344 | P53: =SUM(O54-O53) -> 1221384 | Q53: 11 | R53: 204124552 | S53: =SUM(R54-R53) -> 1029086 | T53: 11 | U53: 235774363 | V53: =SUM(U54-U53) -> 1113301 | W53: 11 | X53: 270444216 | Y53: =SUM(X54-X53) -> 1220091 | Z53: 11 | AA53: 304819508 | AB53: =SUM(AA54-AA53) -> 1098220 | AC53: 11 | AD53: 335391724 | AE53: =SUM(AD54-AD53) -> 0 | AF53: 11 | AG53: 353402739 | AH53: =SUM(AG54-AG53) -> 847421 | AI53: 11 | AJ53: 380934184 | AK53: =SUM(AJ54-AJ53) -> 41167
B54: 12 | C54: 50518571 | D54: =SUM(C55-C54) -> 875983 | E54: 12 | F54: 80335184 | G54: =SUM(F55-F54) -> 1030566 | H54: 12 | I54: 107697604 | J54: =SUM(I55-I54) -> 935076 | K54: 12 | L54: 137847236 | M54: =SUM(L55-L54) -> 1076252 | N54: 12 | O54: 172128728 | P54: =SUM(O55-O54) -> 1065247 | Q54: 12 | R54: 205153638 | S54: =SUM(R55-R54) -> 832110 | T54: 12 | U54: 236887664 | V54: =SUM(U55-U54) -> 1387995 | W54: 12 | X54: 271664307 | Y54: =SUM(X55-X54) -> 866192 | Z54: 12 | AA54: 305917728 | AB54: =SUM(AA55-AA54) -> 1133366 | AC54: 12 | AD54: 335391724 | AE54: =SUM(AD55-AD54) -> 70865 | AF54: 12 | AG54: 354250160 | AH54: =SUM(AG55-AG54) -> 1024124 | AI54: 12 | AJ54: 380975351 | AK54: =SUM(AJ55-AJ54) -> 875051
... B70: 28 | C70: 66085812 | D70: =SUM(C71-C70) -> 993362 | E70: 28 | F70: 95845402 | G70: =SUM(F71-F70) -> 1035525 | H70: 28 | I70: 123300580 | J70: =SUM(I71-I70) -> 1170180 | K70: 28 | L70: 155836856 | M70: =SUM(L71-L70) -> 1200365 | N70: 28 | O70: 190430271 | P70: =SUM(O71-O70) -> 1138916 | Q70: 28 | R70: 221085079 | S70: =SUM(R71-R70) -> 1035608 | T70: 28 | U70: 254744790 | V70: =SUM(U71-U70) -> 1236864 | W70: 28 | X70: 289247025 | Y70: =SUM(X71-X70) -> 1062011 | Z70: 28 | AA70: 324115995 | AB70: =SUM(AA71-AA70) -> 1110408 | AC70: 28 | AD70: 340803417 | AE70: =SUM(AD71-AD70) -> 851915 | AF70: 28 | AG70: 368715215 | AH70: =SUM(AG71-AG70) -> 890880 | AI70: 28 | AJ70: 392125063 | AK70: =SUM(AJ71-AJ70) -> 984425
B71: 29 | C71: 67079174 | D71: =SUM(C72-C71) -> 914970 | F71: 96880927 | H71: 29 | I71: 124470760 | J71: =SUM(I72-I71) -> 1005794 | K71: 29 | L71: 157037221 | M71: =SUM(L72-L71) -> 1143478 | N71: 29 | O71: 191569187 | P71: =SUM(O72-O71) -> 1128936 | Q71: 29 | R71: 222120687 | S71: =SUM(R72-R71) -> 1097376 | T71: 29 | U71: 255981654 | V71: =SUM(U72-U71) -> 980691 | W71: 29 | X71: 290309036 | Y71: =SUM(X72-X71) -> 1117731 | Z71: 29 | AA71: 325226403 | AB71: =SUM(AA72-AA71) -> 1180141 | AC71: 29 | AD71: 341655332 | AE71: =SUM(AD72-AD71) -> 797960 | AF71: 29 | AG71: 369606095 | AH71: =SUM(AG72-AG71) -> 657243 | AI71: 29 | AJ71: 393109488 | AK71: =SUM(AJ72-AJ71) -> 956423
B72: 30 | C72: 67994144 | D72: =SUM(C73-C72) -> 927341 | H72: 30 | I72: 125476554 | J72: =SUM(I73-I72) -> 1012572 | K72: 30 | L72: 158180699 | M72: =SUM(L73-L72) -> 1165170 | N72: 30 | O72: 192698123 | P72: =SUM(O73-O72) -> 1306588 | Q72: 30 | R72: 223218063 | S72: =SUM(R73-R72) -> 1127809 | T72: 30 | U72: 256962345 | V72: =SUM(U73-U72) -> 1189794 | W72: 30 | X72: 291426767 | Y72: =SUM(X73-X72) -> 1004908 | Z72: 30 | AA72: 326406544 | AB72: =SUM(AA73-AA72) -> 1097003 | AC72: 30 | AD72: 342453292 | AE72: =SUM(AD73-AD72) -> 1005282 | AF72: 30 | AG72: 370263338 | AH72: =SUM(AG73-AG72) -> 1995917 | AI72: 30 | AJ72: 394065911 | AK72: =SUM(AJ73-AJ72) -> 882870
B73: 31 | C73: 68921485 | D73: =SUM(C74-C73) -> 999316 | H73: 31 | I73: 126489126 | J73: =SUM(I74-I73) -> 394428 | L73: 159345869 | N73: 31 | O73: 194004711 | P73: =SUM(O74-O73) -> 1003979 | R73: 224345872 | T73: 31 | U73: 258152139 | V73: =SUM(U74-U73) -> 1126544 | W73: 31 | X73: 292431675 | Y73: =SUM(X74-X73) -> 1087797 | AA73: 327503547 | AC73: 31 | AD73: 343458574 | AE73: =SUM(AD74-AD73) -> 1115908 | AG73: 372259255 | AI73: 31 | AJ73: 394948781 | AK73: =SUM(AJ74-AJ73) -> 1120006
C74: 69920801 | I74: 126883554 | O74: 195008690 | U74: 259278683 | X74: 293519472 | AD74: 344574482 | AJ74: 396068787
D75: 29690526 | G75: 26960126 | J75: 30002627 | M75: 32462315 | P75: 35662821 | S75: 29337182 | V75: 34932811 | Y75: 34240789 | AB75: 33984075 | AE75: 17070935 | AH75: 27684773 | AK75: 23809532
B78: 40179 | E78: 40210 | H78: 40238 | K78: 40269 | N78: 40299 | Q78: 40330 | T78: 40360 | W78: 40391 | Z78: 40422 | AC78: 40452 | AF78: 40483 | AI78: 40513
B79: Date | C79: Meter | D79: Total Gallons Pumped | E79: Date | F79: Meter | G79: Total Gallons Pumped | H79: Date | I79: Meter | J79: Total Gallons Pumped | K79: Date | L79: Meter | M79: Total Gallons Pumped | N79: Date | O79: Meter | P79: Total Gallons Pumped | Q79: Date | R79: Meter | S79: Total Gallons Pumped | T79: Date | U79: Meter | V79: Total Gallons Pumped | W79: Date | X79: Meter | Y79: Total Gallons Pumped | Z79: Date | AA79: Meter | AB79: Total Gallons Pumped | AC79: Date | AD79: Meter | AE79: Total Gallons Pumped | AF79: Date | AG79: Meter | AH79: Total Gallons Pumped | AI79: Date | AJ79: Meter | AK79: Total Gallons Pumped
B81: 1 | C81: 396068787 | D81: =SUM(C82-C81) -> 769151 | E81: 1 | F81: 420914816 | G81: =SUM(F82-F81) -> 916871 | H81: 1 | I81: 435817311 | J81: =SUM(I82-I81) -> 0 | K81: 1 | L81: 454750220 | M81: =SUM(L82-L81) -> 1134870 | N81: 1 | O81: 472723268 | P81: =SUM(O82-O81) -> 414452 | Q81: 1 | R81: 497930035 | S81: =SUM(R82-R81) -> 842710 | T81: 1 | U81: 525887406 | V81: =SUM(U82-U81) -> 761494 | W81: 1 | X81: 558028768 | Y81: =SUM(X82-X81) -> 1106041 | Z81: 1 | AA81: 565404847 | AB81: =SUM(AA82-AA81) -> 22750 | AC81: 1 | AD81: 566117734 | AE81: =SUM(AD82-AD81) -> 20673 | AF81: 1 | AG81: 573560291 | AH81: =SUM(AG82-AG81) -> 12339 | AI81: 1 | AJ81: 584615782 | AK81: =SUM(AJ82-AJ81) -> 0
B82: 2 | C82: 396837938 | D82: =SUM(C83-C82) -> 970115 | E82: 2 | F82: 421831687 | G82: =SUM(F83-F82) -> 909383 | H82: 2 | I82: 435817311 | J82: =SUM(I83-I82) -> 0 | K82: 2 | L82: 455885090 | M82: =SUM(L83-L82) -> 767386 | N82: 2 | O82: 473137720 | P82: =SUM(O83-O82) -> 477675 | Q82: 2 | R82: 498772745 | S82: =SUM(R83-R82) -> 980152 | T82: 2 | U82: 526648900 | V82: =SUM(U83-U82) -> 643001 | W82: 2 | X82: 559134809 | Y82: =SUM(X83-X82) -> 777097 | Z82: 2 | AA82: 565427597 | AB82: =SUM(AA83-AA82) -> 79666 | AC82: 2 | AD82: 566138407 | AE82: =SUM(AD83-AD82) -> 18021 | AF82: 2 | AG82: 573572630 | AH82: =SUM(AG83-AG82) -> 1165474 | AI82: 2 | AJ82: 584615782 | AK82: =SUM(AJ83-AJ82) -> 0
B83: 3 | C83: 397808053 | D83: =SUM(C84-C83) -> 553648 | E83: 3 | F83: 422741070 | G83: =SUM(F84-F83) -> 808916 | H83: 3 | I83: 435817311 | J83: =SUM(I84-I83) -> 35 | K83: 3 | L83: 456652476 | M83: =SUM(L84-L83) -> 705126 | N83: 3 | O83: 473615395 | P83: =SUM(O84-O83) -> 1075440 | Q83: 3 | R83: 499752897 | S83: =SUM(R84-R83) -> 1063481 | T83: 3 | U83: 527291901 | V83: =SUM(U84-U83) -> 452939 | W83: 3 | X83: 559911906 | Y83: =SUM(X84-X83) -> 666877 | Z83: 3 | AA83: 565507263 | AB83: =SUM(AA84-AA83) -> 22220 | AC83: 3 | AD83: 566156428 | AE83: =SUM(AD84-AD83) -> 9462 | AF83: 3 | AG83: 574738104 | AH83: =SUM(AG84-AG83) -> 1188851 | AI83: 3 | AJ83: 584615782 | AK83: =SUM(AJ84-AJ83) -> 0
B84: 4 | C84: 398361701 | D84: =SUM(C85-C84) -> 593903 | E84: 4 | F84: 423549986 | G84: =SUM(F85-F84) -> 578852 | H84: 4 | I84: 435817346 | J84: =SUM(I85-I84) -> 0 | K84: 4 | L84: 457357602 | M84: =SUM(L85-L84) -> 890458 | N84: 4 | O84: 474690835 | P84: =SUM(O85-O84) -> 1064524 | Q84: 4 | R84: 500816378 | S84: =SUM(R85-R84) -> 419844 | T84: 4 | U84: 527744840 | V84: =SUM(U85-U84) -> 1180569 | W84: 4 | X84: 560578783 | Y84: =SUM(X85-X84) -> 319212 | Z84: 4 | AA84: 565529483 | AB84: =SUM(AA85-AA84) -> 107066 | AC84: 4 | AD84: 566165890 | AE84: =SUM(AD85-AD84) -> 1 | AF84: 4 | AG84: 575926955 | AH84: =SUM(AG85-AG84) -> 1116146 | AI84: 4 | AJ84: 584615782 | AK84: =SUM(AJ85-AJ84) -> 0
B85: 5 | C85: 398955604 | D85: =SUM(C86-C85) -> 975283 | E85: 5 | F85: 424128838 | G85: =SUM(F86-F85) -> 701643 | H85: 5 | I85: 435817346 | J85: =SUM(I86-I85) -> 0 | K85: 5 | L85: 458248060 | M85: =SUM(L86-L85) -> 824520 | N85: 5 | O85: 475755359 | P85: =SUM(O86-O85) -> 1099683 | Q85: 5 | R85: 501236222 | S85: =SUM(R86-R85) -> 562882 | T85: 5 | U85: 528925409 | V85: =SUM(U86-U85) -> 1204593 | W85: 5 | X85: 560897995 | Y85: =SUM(X86-X85) -> 174215 | Z85: 5 | AA85: 565636549 | AB85: =SUM(AA86-AA85) -> 91446 | AC85: 5 | AD85: 566165891 | AE85: =SUM(AD86-AD85) -> 1 | AF85: 5 | AG85: 577043101 | AH85: =SUM(AG86-AG85) -> 1055014 | AI85: 5 | AJ85: 584615782 | AK85: =SUM(AJ86-AJ85) -> 0
B86: 6 | C86: 399930887 | D86: =SUM(C87-C86) -> 856051 | E86: 6 | F86: 424830481 | G86: =SUM(F87-F86) -> 993359 | H86: 6 | I86: 435817346 | J86: =SUM(I87-I86) -> 0 | K86: 6 | L86: 459072580 | M86: =SUM(L87-L86) -> 785556 | N86: 6 | O86: 476855042 | P86: =SUM(O87-O86) -> 793468 | Q86: 6 | R86: 501799104 | S86: =SUM(R87-R86) -> 827127 | T86: 6 | U86: 530130002 | V86: =SUM(U87-U86) -> 1175710 | W86: 6 | X86: 561072210 | Y86: =SUM(X87-X86) -> 262534 | Z86: 6 | AA86: 565727995 | AB86: =SUM(AA87-AA86) -> 0 | AC86: 6 | AD86: 566165892 | AE86: =SUM(AD87-AD86) -> 779766 | AF86: 6 | AG86: 578098115 | AH86: =SUM(AG87-AG86) -> 1161890 | AI86: 6 | AJ86: 584615782 | AK86: =SUM(AJ87-AJ86) -> 0
B87: 7 | C87: 400786938 | D87: =SUM(C88-C87) -> 960458 | E87: 7 | F87: 425823840 | G87: =SUM(F88-F87) -> 765358 | H87: 7 | I87: 435817346 | J87: =SUM(I88-I87) -> 0 | K87: 7 | L87: 459858136 | M87: =SUM(L88-L87) -> 635764 | N87: 7 | O87: 477648510 | P87: =SUM(O88-O87) -> 503078 | Q87: 7 | R87: 502626231 | S87: =SUM(R88-R87) -> 773769 | T87: 7 | U87: 531305712 | V87: =SUM(U88-U87) -> 1118225 | W87: 7 | X87: 561334744 | Y87: =SUM(X88-X87) -> 99927 | Z87: 7 | AA87: 565727995 | AB87: =SUM(AA88-AA87) -> 35 | AC87: 7 | AD87: 566945658 | AE87: =SUM(AD88-AD87) -> 941155 | AF87: 7 | AG87: 579260005 | AH87: =SUM(AG88-AG87) -> 1258351 | AI87: 7 | AJ87: 584615782 | AK87: =SUM(AJ88-AJ87) -> 0
B88: 8 | C88: 401747396 | D88: =SUM(C89-C88) -> 761494 | E88: 8 | F88: 426589198 | G88: =SUM(F89-F88) -> 902296 | H88: 8 | I88: 435817346 | J88: =SUM(I89-I88) -> 842401 | K88: 8 | L88: 460493900 | M88: =SUM(L89-L88) -> 529958 | N88: 8 | O88: 478151588 | P88: =SUM(O89-O88) -> 541245 | Q88: 8 | R88: 503400000 | S88: =SUM(R89-R88) -> 650557 | T88: 8 | U88: 532423937 | V88: =SUM(U89-U88) -> 1212379 | W88: 8 | X88: 561434671 | Y88: =SUM(X89-X88) -> 291172 | Z88: 8 | AA88: 565728030 | AB88: =SUM(AA89-AA88) -> 0 | AC88: 8 | AD88: 567886813 | AE88: =SUM(AD89-AD88) -> 955123 | AF88: 8 | AG88: 580518356 | AH88: =SUM(AG89-AG88) -> 1097455 | AI88: 8 | AJ88: 584615782 | AK88: =SUM(AJ89-AJ88) -> 0
B89: 9 | C89: 402508890 | D89: =SUM(C90-C89) -> 982405 | E89: 9 | F89: 427491494 | G89: =SUM(F90-F89) -> 969525 | H89: 9 | I89: 436659747 | J89: =SUM(I90-I89) -> 921583 | K89: 9 | L89: 461023858 | M89: =SUM(L90-L89) -> 588739 | N89: 9 | O89: 478692833 | P89: =SUM(O90-O89) -> 775776 | Q89: 9 | R89: 504050557 | S89: =SUM(R90-R89) -> 734404 | T89: 9 | U89: 533636316 | V89: =SUM(U90-U89) -> 1143300 | W89: 9 | X89: 561725843 | Y89: =SUM(X90-X89) -> 370938 | Z89: 9 | AA89: 565728030 | AB89: =SUM(AA90-AA89) -> 102410 | AC89: 9 | AD89: 568841936 | AE89: =SUM(AD90-AD89) -> 942745 | AF89: 9 | AG89: 581615811 | AH89: =SUM(AG90-AG89) -> 1080522 | AI89: 9 | AJ89: 584615782 | AK89: =SUM(AJ90-AJ89) -> 0
B90: 10 | C90: 403491295 | D90: =SUM(C91-C90) -> 697782 | E90: 10 | F90: 428461019 | G90: =SUM(F91-F90) -> 939226 | H90: 10 | I90: 437581330 | J90: =SUM(I91-I90) -> 652588 | K90: 10 | L90: 461612597 | M90: =SUM(L91-L90) -> 688376 | N90: 10 | O90: 479468609 | P90: =SUM(O91-O90) -> 677672 | Q90: 10 | R90: 504784961 | S90: =SUM(R91-R90) -> 985106 | T90: 10 | U90: 534779616 | V90: =SUM(U91-U90) -> 1159590 | W90: 10 | X90: 562096781 | Y90: =SUM(X91-X90) -> 622917 | Z90: 10 | AA90: 565830440 | AB90: =SUM(AA91-AA90) -> 0 | AC90: 10 | AD90: 569784681 | AE90: =SUM(AD91-AD90) -> 947102 | AF90: 10 | AG90: 582696333 | AH90: =SUM(AG91-AG90) -> 297450 | AI90: 10 | AJ90: 584615782 | AK90: =SUM(AJ91-AJ90) -> 0
B91: 11 | C91: 404189077 | D91: =SUM(C92-C91) -> 547403 | E91: 11 | F91: 429400245 | G91: =SUM(F92-F91) -> 674721 | H91: 11 | I91: 438233918 | J91: =SUM(I92-I91) -> 880316 | K91: 11 | L91: 462300973 | M91: =SUM(L92-L91) -> 550655 | N91: 11 | O91: 480146281 | P91: =SUM(O92-O91) -> 779080 | Q91: 11 | R91: 505770067 | S91: =SUM(R92-R91) -> 428187 | T91: 11 | U91: 535939206 | V91: =SUM(U92-U91) -> 1132265 | W91: 11 | X91: 562719698 | Y91: =SUM(X92-X91) -> 445701 | Z91: 11 | AA91: 565830440 | AB91: =SUM(AA92-AA91) -> 731 | AC91: 11 | AD91: 570731783 | AE91: =SUM(AD92-AD91) -> 966985 | AF91: 11 | AG91: 582993783 | AH91: =SUM(AG92-AG91) -> 136227 | AI91: 11 | AJ91: 584615782 | AK91: =SUM(AJ92-AJ91) -> 0
B92: 12 | C92: 404736480 | D92: =SUM(C93-C92) -> 628024 | E92: 12 | F92: 430074966 | G92: =SUM(F93-F92) -> 922038 | H92: 12 | I92: 439114234 | J92: =SUM(I93-I92) -> 503193 | K92: 12 | L92: 462851628 | M92: =SUM(L93-L92) -> 620338 | N92: 12 | O92: 480925361 | P92: =SUM(O93-O92) -> 687561 | Q92: 12 | R92: 506198254 | S92: =SUM(R93-R92) -> 718074 | T92: 12 | U92: 537071471 | V92: =SUM(U93-U92) -> 1119163 | W92: 12 | X92: 563165399 | Y92: =SUM(X93-X92) -> 245249 | Z92: 12 | AA92: 565831171 | AB92: =SUM(AA93-AA92) -> 9096 | AC92: 12 | AD92: 571698768 | AE92: =SUM(AD93-AD92) -> 926829 | AF92: 12 | AG92: 583130010 | AH92: =SUM(AG93-AG92) -> 1865 | AI92: 12 | AJ92: 584615782 | AK92: =SUM(AJ93-AJ92) -> 0
... B108: 28 | C108: 417048791 | D108: =SUM(C109-C108) -> 1000592 | E108: 28 | F108: 435817311 | G108: =SUM(F109-F108) -> 0 | H108: 28 | I108: 451109577 | J108: =SUM(I109-I108) -> 1008887 | K108: 28 | L108: 470884874 | M108: =SUM(L109-L108) -> 662592 | N108: 28 | O108: 495029936 | P108: =SUM(O109-O108) -> 712548 | Q108: 28 | R108: 523052248 | S108: =SUM(R109-R108) -> 1162635 | T108: 28 | U108: 553554414 | V108: =SUM(U109-U108) -> 1022607 | W108: 28 | X108: 565404621 | Y108: =SUM(X109-X108) -> 115 | Z108: 28 | AA108: 566080010 | AB108: =SUM(AA109-AA108) -> 13468 | AC108: 28 | AD108: 573560291 | AE108: =SUM(AD109-AD108) -> 0 | AF108: 28 | AG108: 583896718 | AH108: =SUM(AG109-AG108) -> 492636 | AI108: 28 | AJ108: 584615782 | AK108: =SUM(AJ109-AJ108) -> 0
B109: 29 | C109: 418049383 | D109: =SUM(C110-C109) -> 923918 | F109: 435817311 | H109: 29 | I109: 452118464 | J109: =SUM(I110-I109) -> 635715 | K109: 29 | L109: 471547466 | M109: =SUM(L110-L109) -> 738110 | N109: 29 | O109: 495742484 | P109: =SUM(O110-O109) -> 611633 | Q109: 29 | R109: 524214883 | S109: =SUM(R110-R109) -> 877467 | T109: 29 | U109: 554577021 | V109: =SUM(U110-U109) -> 1012626 | W109: 29 | X109: 565404736 | Y109: =SUM(X110-X109) -> 17 | Z109: 29 | AA109: 566093478 | AB109: =SUM(AA110-AA109) -> 9684 | AC109: 29 | AD109: 573560291 | AE109: =SUM(AD110-AD109) -> 0 | AF109: 29 | AG109: 584389354 | AH109: =SUM(AG110-AG109) -> 226428 | AI109: 29 | AJ109: 584615782 | AK109: =SUM(AJ110-AJ109) -> 0
B110: 30 | C110: 418973301 | D110: =SUM(C111-C110) -> 1026816 | H110: 30 | I110: 452754179 | J110: =SUM(I111-I110) -> 1091190 | K110: 30 | L110: 472285576 | M110: =SUM(L111-L110) -> 437692 | N110: 30 | O110: 496354117 | P110: =SUM(O111-O110) -> 755924 | Q110: 30 | R110: 525092350 | S110: =SUM(R111-R110) -> 795056 | T110: 30 | U110: 555589647 | V110: =SUM(U111-U110) -> 1228052 | W110: 30 | X110: 565404753 | Y110: =SUM(X111-X110) -> 0 | Z110: 30 | AA110: 566103162 | AB110: =SUM(AA111-AA110) -> 14572 | AC110: 30 | AD110: 573560291 | AE110: =SUM(AD111-AD110) -> 0 | AF110: 30 | AG110: 584615782 | AH110: =SUM(AG111-AG110) -> 0 | AI110: 30 | AJ110: 584615782 | AK110: =SUM(AJ111-AJ110) -> 0
B111: 31 | C111: 420000117 | D111: =SUM(C112-C111) -> 914699 | H111: 31 | I111: 453845369 | J111: =SUM(I112-I111) -> 904851 | L111: 472723268 | N111: 31 | O111: 497110041 | P111: =SUM(O112-O111) -> 819994 | R111: 525887406 | T111: 31 | U111: 556817699 | V111: =SUM(U112-U111) -> 1211069 | W111: 31 | X111: 565404753 | Y111: =SUM(X112-X111) -> 94 | AA111: 566117734 | AC111: 31 | AD111: 573560291 | AE111: =SUM(AD112-AD111) -> 0 | AG111: 584615782 | AI111: 31 | AJ111: 584615782 | AK111: =SUM(AJ112-AJ111) -> 0
C112: 420914816 | I112: 454750220 | O112: 497930035 | U112: 558028768 | X112: 565404847 | AD112: 573560291 | AJ112: 584615782
D113: =SUM(D81:D112) -> 24846029 | G113: =SUM(G81:G112) -> 14902495 | J113: =SUM(J81:J112) -> 18932909 | M113: =SUM(M81:M112) -> 17973048 | P113: =SUM(P81:P112) -> 25206767 | S113: =SUM(S81:S112) -> 27957371 | V113: =SUM(V81:V112) -> 32141362 | Y113: =SUM(Y81:Y112) -> 7376079 | AB113: =SUM(AB81:AB112) -> 712887 | AE113: =SUM(AE81:AE112) -> 7442557 | AH113: =SUM(AH81:AH112) -> 11055491 | AK113: =SUM(AK81:AK112) -> 0
B116: 40544 | E116: 40575 | H116: 40603 | K116: 40634 | N116: 40664 | Q116: 40695 | T116: 40725 | W116: 40756 | Z116: 40787 | AC116: 40817 | AF116: 40848 | AI116: 40878
B117: Date | C117: Meter | D117: Total Gallons Pumped | E117: Date | F117: Meter | G117: Total Gallons Pumped | H117: Date | I117: Meter | J117: Total Gallons Pumped | K117: Date | L117: Meter | M117: Total Gallons Pumped | N117: Date | O117: Meter | P117: Total Gallons Pumped | Q117: Date | R117: Meter | S117: Total Gallons Pumped | T117: Date | U117: Meter | V117: Total Gallons Pumped | W117: Date | X117: Meter | Y117: Total Gallons Pumped | Z117: Date | AA117: Meter | AB117: Total Gallons Pumped | AC117: Date | AD117: Meter | AE117: Total Gallons Pumped | AF117: Date | AG117: Meter | AH117: Total Gallons Pumped | AI117: Date | AJ117: Meter | AK117: Total Gallons Pumped
B119: 1 | C119: 584615782 | D119: =SUM(C120-C119) -> 0 | E119: 1 | F119: 584621350 | G119: =SUM(F120-F119) -> 0 | H119: 1 | I119: 585696960 | J119: =SUM(I120-I119) -> 0 | K119: 1 | L119: 585696960 | M119: =SUM(L120-L119) -> 0 | N119: 1 | O119: 586504551 | P119: =SUM(O120-O119) -> 113955 | Q119: 1 | R119: 593532817 | S119: =SUM(R120-R119) -> 0 | T119: 1 | U119: 593873525 | V119: =SUM(U120-U119) -> 44629 | W119: 1 | X119: 600784165 | Y119: =SUM(X120-X119) -> 151001 | Z119: 1 | AA119: 609536024 | AB119: =SUM(AA120-AA119) -> 661279 | AC119: 1 | AD119: 623521585 | AE119: =SUM(AD120-AD119) -> 555618 | AF119: 1 | AG119: 626537218 | AH119: =SUM(AG120-AG119) -> 0 | AI119: 1 | AJ119: 627546451 | AK119: =SUM(AJ120-AJ119) -> 1130270
B120: 2 | C120: 584615782 | D120: =SUM(C121-C120) -> 0 | E120: 2 | F120: 584621350 | G120: =SUM(F121-F120) -> 0 | H120: 2 | I120: 585696960 | J120: =SUM(I121-I120) -> 0 | K120: 2 | L120: 585696960 | M120: =SUM(L121-L120) -> 0 | N120: 2 | O120: 586618506 | P120: =SUM(O121-O120) -> 747931 | Q120: 2 | R120: 593532817 | S120: =SUM(R121-R120) -> 0 | T120: 2 | U120: 593918154 | V120: =SUM(U121-U120) -> 177571 | W120: 2 | X120: 600935166 | Y120: =SUM(X121-X120) -> 129155 | Z120: 2 | AA120: 610197303 | AB120: =SUM(AA121-AA120) -> 467210 | AC120: 2 | AD120: 624077203 | AE120: =SUM(AD121-AD120) -> 495607 | AF120: 2 | AG120: 626537218 | AH120: =SUM(AG121-AG120) -> 46266 | AI120: 2 | AJ120: 628676721 | AK120: =SUM(AJ121-AJ120) -> 1197601
B121: 3 | C121: 584615782 | D121: =SUM(C122-C121) -> 0 | E121: 3 | F121: 584621350 | G121: =SUM(F122-F121) -> 0 | H121: 3 | I121: 585696960 | J121: =SUM(I122-I121) -> 0 | K121: 3 | L121: 585696960 | M121: =SUM(L122-L121) -> 0 | N121: 3 | O121: 587366437 | P121: =SUM(O122-O121) -> 1023401 | Q121: 3 | R121: 593532817 | S121: =SUM(R122-R121) -> 0 | T121: 3 | U121: 594095725 | V121: =SUM(U122-U121) -> 498413 | W121: 3 | X121: 601064321 | Y121: =SUM(X122-X121) -> 4535 | Z121: 3 | AA121: 610664513 | AB121: =SUM(AA122-AA121) -> 527584 | AC121: 3 | AD121: 624572810 | AE121: =SUM(AD122-AD121) -> 768484 | AF121: 3 | AG121: 626583484 | AH121: =SUM(AG122-AG121) -> 0 | AI121: 3 | AJ121: 629874322 | AK121: =SUM(AJ122-AJ121) -> 1071328
B122: 4 | C122: 584615782 | D122: =SUM(C123-C122) -> 0 | E122: 4 | F122: 584621350 | G122: =SUM(F123-F122) -> 0 | H122: 4 | I122: 585696960 | J122: =SUM(I123-I122) -> 0 | K122: 4 | L122: 585696960 | M122: =SUM(L123-L122) -> 0 | N122: 4 | O122: 588389838 | P122: =SUM(O123-O122) -> 677783 | Q122: 4 | R122: 593532817 | S122: =SUM(R123-R122) -> 0 | T122: 4 | U122: 594594138 | V122: =SUM(U123-U122) -> 462486 | W122: 4 | X122: 601068856 | Y122: =SUM(X123-X122) -> 208685 | Z122: 4 | AA122: 611192097 | AB122: =SUM(AA123-AA122) -> 612093 | AC122: 4 | AD122: 625341294 | AE122: =SUM(AD123-AD122) -> 551016 | AF122: 4 | AG122: 626583484 | AH122: =SUM(AG123-AG122) -> 0 | AI122: 4 | AJ122: 630945650 | AK122: =SUM(AJ123-AJ122) -> 809874
B123: 5 | C123: 584615782 | D123: =SUM(C124-C123) -> 0 | E123: 5 | F123: 584621350 | G123: =SUM(F124-F123) -> 0 | H123: 5 | I123: 585696960 | J123: =SUM(I124-I123) -> 0 | K123: 5 | L123: 585696960 | M123: =SUM(L124-L123) -> 0 | N123: 5 | O123: 589067621 | P123: =SUM(O124-O123) -> 332379 | Q123: 5 | R123: 593532817 | S123: =SUM(R124-R123) -> 0 | T123: 5 | U123: 595056624 | V123: =SUM(U124-U123) -> 232227 | W123: 5 | X123: 601277541 | Y123: =SUM(X124-X123) -> 8445 | Z123: 5 | AA123: 611804190 | AB123: =SUM(AA124-AA123) -> 546175 | AC123: 5 | AD123: 625892310 | AE123: =SUM(AD124-AD123) -> 522107 | AF123: 5 | AG123: 626583484 | AH123: =SUM(AG124-AG123) -> 0 | AI123: 5 | AJ123: 631755524 | AK123: =SUM(AJ124-AJ123) -> 1172698
B124: 6 | C124: 584615782 | D124: =SUM(C125-C124) -> 0 | E124: 6 | F124: 584621350 | G124: =SUM(F125-F124) -> 0 | H124: 6 | I124: 585696960 | J124: =SUM(I125-I124) -> 0 | K124: 6 | L124: 585696960 | M124: =SUM(L125-L124) -> 0 | N124: 6 | O124: 589400000 | P124: =SUM(O125-O124) -> 357762 | Q124: 6 | R124: 593532817 | S124: =SUM(R125-R124) -> 0 | T124: 6 | U124: 595288851 | V124: =SUM(U125-U124) -> 107427 | W124: 6 | X124: 601285986 | Y124: =SUM(X125-X124) -> 56431 | Z124: 6 | AA124: 612350365 | AB124: =SUM(AA125-AA124) -> 436825 | AC124: 6 | AD124: 626414417 | AE124: =SUM(AD125-AD124) -> 122798 | AF124: 6 | AG124: 626583484 | AH124: =SUM(AG125-AG124) -> 0 | AI124: 6 | AJ124: 632928222 | AK124: =SUM(AJ125-AJ124) -> 1117101
B125: 7 | C125: 584615782 | D125: =SUM(C126-C125) -> 0 | E125: 7 | F125: 584621350 | G125: =SUM(F126-F125) -> 0 | H125: 7 | I125: 585696960 | J125: =SUM(I126-I125) -> 0 | K125: 7 | L125: 585696960 | M125: =SUM(L126-L125) -> 0 | N125: 7 | O125: 589757762 | P125: =SUM(O126-O125) -> 207585 | Q125: 7 | R125: 593532817 | S125: =SUM(R126-R125) -> 0 | T125: 7 | U125: 595396278 | V125: =SUM(U126-U125) -> 323652 | W125: 7 | X125: 601342417 | Y125: =SUM(X126-X125) -> 258776 | Z125: 7 | AA125: 612787190 | AB125: =SUM(AA126-AA125) -> 431300 | AC125: 7 | AD125: 626537215 | AE125: =SUM(AD126-AD125) -> 0 | AF125: 7 | AG125: 626583484 | AH125: =SUM(AG126-AG125) -> 0 | AI125: 7 | AJ125: 634045323 | AK125: =SUM(AJ126-AJ125) -> 909956
B126: 8 | C126: 584615782 | D126: =SUM(C127-C126) -> 0 | E126: 8 | F126: 584621350 | G126: =SUM(F127-F126) -> 8299 | H126: 8 | I126: 585696960 | J126: =SUM(I127-I126) -> 0 | K126: 8 | L126: 585696960 | M126: =SUM(L127-L126) -> 0 | N126: 8 | O126: 589965347 | P126: =SUM(O127-O126) -> 284304 | Q126: 8 | R126: 593532817 | S126: =SUM(R127-R126) -> 0 | T126: 8 | U126: 595719930 | V126: =SUM(U127-U126) -> 299636 | W126: 8 | X126: 601601193 | Y126: =SUM(X127-X126) -> 67236 | Z126: 8 | AA126: 613218490 | AB126: =SUM(AA127-AA126) -> 412968 | AC126: 8 | AD126: 626537215 | AE126: =SUM(AD127-AD126) -> 1 | AF126: 8 | AG126: 626583484 | AH126: =SUM(AG127-AG126) -> 0 | AI126: 8 | AJ126: 634955279 | AK126: =SUM(AJ127-AJ126) -> 1110332
B127: 9 | C127: 584615782 | D127: =SUM(C128-C127) -> 0 | E127: 9 | F127: 584629649 | G127: =SUM(F128-F127) -> 0 | H127: 9 | I127: 585696960 | J127: =SUM(I128-I127) -> 0 | K127: 9 | L127: 585696960 | M127: =SUM(L128-L127) -> 0 | N127: 9 | O127: 590249651 | P127: =SUM(O128-O127) -> 193278 | Q127: 9 | R127: 593532817 | S127: =SUM(R128-R127) -> 0 | T127: 9 | U127: 596019566 | V127: =SUM(U128-U127) -> 221919 | W127: 9 | X127: 601668429 | Y127: =SUM(X128-X127) -> 464797 | Z127: 9 | AA127: 613631458 | AB127: =SUM(AA128-AA127) -> 311307 | AC127: 9 | AD127: 626537216 | AE127: =SUM(AD128-AD127) -> 0 | AF127: 9 | AG127: 626583484 | AH127: =SUM(AG128-AG127) -> 0 | AI127: 9 | AJ127: 636065611 | AK127: =SUM(AJ128-AJ127) -> 1063578
B128: 10 | C128: 584615782 | D128: =SUM(C129-C128) -> 0 | E128: 10 | F128: 584629649 | G128: =SUM(F129-F128) -> 0 | H128: 10 | I128: 585696960 | J128: =SUM(I129-I128) -> 0 | K128: 10 | L128: 585696960 | M128: =SUM(L129-L128) -> 0 | N128: 10 | O128: 590442929 | P128: =SUM(O129-O128) -> 421427 | Q128: 10 | R128: 593532817 | S128: =SUM(R129-R128) -> 0 | T128: 10 | U128: 596241485 | V128: =SUM(U129-U128) -> 326955 | W128: 10 | X128: 602133226 | Y128: =SUM(X129-X128) -> 525099 | Z128: 10 | AA128: 613942765 | AB128: =SUM(AA129-AA128) -> 377425 | AC128: 10 | AD128: 626537216 | AE128: =SUM(AD129-AD128) -> 0 | AF128: 10 | AG128: 626583484 | AH128: =SUM(AG129-AG128) -> 0 | AI128: 10 | AJ128: 637129189 | AK128: =SUM(AJ129-AJ128) -> 909037
B129: 11 | C129: 584615782 | D129: =SUM(C130-C129) -> 0 | E129: 11 | F129: 584629649 | G129: =SUM(F130-F129) -> 0 | H129: 11 | I129: 585696960 | J129: =SUM(I130-I129) -> 0 | K129: 11 | L129: 585696960 | M129: =SUM(L130-L129) -> 0 | N129: 11 | O129: 590864356 | P129: =SUM(O130-O129) -> 683712 | Q129: 11 | R129: 593532817 | S129: =SUM(R130-R129) -> 0 | T129: 11 | U129: 596568440 | V129: =SUM(U130-U129) -> 714119 | W129: 11 | X129: 602658325 | Y129: =SUM(X130-X129) -> 199532 | Z129: 11 | AA129: 614320190 | AB129: =SUM(AA130-AA129) -> 506034 | AC129: 11 | AD129: 626537216 | AE129: =SUM(AD130-AD129) -> 0 | AF129: 11 | AG129: 626583484 | AH129: =SUM(AG130-AG129) -> 0 | AI129: 11 | AJ129: 638038226 | AK129: =SUM(AJ130-AJ129) -> 1117757
B130: 12 | C130: 584615782 | D130: =SUM(C131-C130) -> 0 | E130: 12 | F130: 584629649 | G130: =SUM(F131-F130) -> 0 | H130: 12 | I130: 585696960 | J130: =SUM(I131-I130) -> 0 | K130: 12 | L130: 585696960 | M130: =SUM(L131-L130) -> 0 | N130: 12 | O130: 591548068 | P130: =SUM(O131-O130) -> 605931 | Q130: 12 | R130: 593532817 | S130: =SUM(R131-R130) -> 0 | T130: 12 | U130: 597282559 | V130: =SUM(U131-U130) -> 577355 | W130: 12 | X130: 602857857 | Y130: =SUM(X131-X130) -> 465910 | Z130: 12 | AA130: 614826224 | AB130: =SUM(AA131-AA130) -> 534504 | AC130: 12 | AD130: 626537216 | AE130: =SUM(AD131-AD130) -> 0 | AF130: 12 | AG130: 626583484 | AH130: =SUM(AG131-AG130) -> 0 | AI130: 12 | AJ130: 639155983 | AK130: =SUM(AJ131-AJ130) -> 1160259
... B146: 28 | C146: 584621350 | D146: =SUM(C147-C146) -> 0 | E146: 28 | F146: 585696960 | G146: =SUM(F147-F146) -> 0 | H146: 28 | I146: 585696960 | J146: =SUM(I147-I146) -> 0 | K146: 28 | L146: 586504551 | M146: =SUM(L147-L146) -> 0 | N146: 28 | O146: 593532817 | P146: =SUM(O147-O146) -> 0 | Q146: 28 | R146: 593532817 | S146: =SUM(R147-R146) -> 0 | T146: 28 | U146: 600329795 | V146: =SUM(U147-U146) -> 144927 | W146: 28 | X146: 607602465 | Y146: =SUM(X147-X146) -> 332902 | Z146: 28 | AA146: 621870185 | AB146: =SUM(AA147-AA146) -> 559876 | AC146: 28 | AD146: 626537217 | AE146: =SUM(AD147-AD146) -> 1 | AF146: 28 | AG146: 626583485 | AH146: =SUM(AG147-AG146) -> 0 | AI146: 28 | AJ146: 657030673 | AK146: =SUM(AJ147-AJ146) -> 1153507
B147: 29 | C147: 584621350 | D147: =SUM(C148-C147) -> 0 | F147: 585696960 | H147: 29 | I147: 585696960 | J147: =SUM(I148-I147) -> 0 | K147: 29 | L147: 586504551 | M147: =SUM(L148-L147) -> 0 | N147: 29 | O147: 593532817 | P147: =SUM(O148-O147) -> 0 | Q147: 29 | R147: 593532817 | S147: =SUM(R148-R147) -> 171504 | T147: 29 | U147: 600474722 | V147: =SUM(U148-U147) -> 47809 | W147: 29 | X147: 607935367 | Y147: =SUM(X148-X147) -> 603438 | Z147: 29 | AA147: 622430061 | AB147: =SUM(AA148-AA147) -> 490822 | AC147: 29 | AD147: 626537218 | AE147: =SUM(AD148-AD147) -> 0 | AF147: 29 | AG147: 626583485 | AH147: =SUM(AG148-AG147) -> 0 | AI147: 29 | AJ147: 658184180 | AK147: =SUM(AJ148-AJ147) -> 1446639
B148: 30 | C148: 584621350 | D148: =SUM(C149-C148) -> 0 | H148: 30 | I148: 585696960 | J148: =SUM(I149-I148) -> 0 | K148: 30 | L148: 586504551 | M148: =SUM(L149-L148) -> 0 | N148: 30 | O148: 593532817 | P148: =SUM(O149-O148) -> 0 | Q148: 30 | R148: 593704321 | S148: =SUM(R149-R148) -> 169204 | T148: 30 | U148: 600522531 | V148: =SUM(U149-U148) -> 94616 | W148: 30 | X148: 608538805 | Y148: =SUM(X149-X148) -> 495127 | Z148: 30 | AA148: 622920883 | AB148: =SUM(AA149-AA148) -> 600702 | AC148: 30 | AD148: 626537218 | AE148: =SUM(AD149-AD148) -> 0 | AF148: 30 | AG148: 626583485 | AH148: =SUM(AG149-AG148) -> 962966 | AI148: 30 | AJ148: 659630819 | AK148: =SUM(AJ149-AJ148) -> 969181
B149: 31 | C149: 584621350 | D149: =SUM(C150-C149) -> 0 | H149: 31 | I149: 585696960 | J149: =SUM(I150-I149) -> 0 | L149: 586504551 | N149: 31 | O149: 593532817 | P149: =SUM(O150-O149) -> 0 | R149: 593873525 | T149: 31 | U149: 600617147 | V149: =SUM(U150-U149) -> 167018 | W149: 31 | X149: 609033932 | Y149: =SUM(X150-X149) -> 502092 | AA149: 623521585 | AC149: 31 | AD149: 626537218 | AE149: =SUM(AD150-AD149) -> 0 | AG149: 627546451 | AI149: 31 | AJ149: 660600000 | AK149: =SUM(AJ150-AJ149) -> 911310
C150: 584621350 | I150: 585696960 | O150: 593532817 | U150: 600784165 | X150: 609536024 | AD150: 626537218 | AJ150: 661511310
D151: =SUM(D119:D150) -> 5568 | G151: =SUM(G119:G150) -> 1075610 | J151: =SUM(J119:J150) -> 0 | M151: =SUM(M119:M150) -> 807591 | P151: =SUM(P119:P150) -> 7028266 | S151: =SUM(S119:S150) -> 340708 | V151: =SUM(V119:V150) -> 6910640 | Y151: =SUM(Y119:Y150) -> 8751859 | AB151: =SUM(AB119:AB150) -> 13985561 | AE151: =SUM(AE119:AE150) -> 3015633 | AH151: =SUM(AH119:AH150) -> 1009233 | AK151: =SUM(AK119:AK150) -> 33964859
B154: 40909 | E154: 40940 | H154: 40969 | K154: 41000 | N154: 41030 | Q154: 41061 | T154: 41091 | W154: 41122 | Z154: 41153 | AC154: 41183 | AF154: 41214 | AI154: 41244
B155: Date | C155: Meter | D155: Total Gallons Pumped | E155: Date | F155: Meter | G155: Total Gallons Pumped | H155: Date | I155: Meter | J155: Total Gallons Pumped | K155: Date | L155: Meter | M155: Total Gallons Pumped | N155: Date | O155: Meter | P155: Total Gallons Pumped | Q155: Date | R155: Meter | S155: Total Gallons Pumped | T155: Date | U155: Meter | V155: Total Gallons Pumped | W155: Date | X155: Meter | Y155: Total Gallons Pumped | Z155: Date | AA155: Meter | AB155: Total Gallons Pumped | AC155: Date | AD155: Meter | AE155: Total Gallons Pumped | AF155: Date | AG155: Meter | AH155: Total Gallons Pumped | AI155: Date | AJ155: Meter | AK155: Total Gallons Pumped
B157: 1 | C157: 661511310 | D157: =SUM(C158-C157) -> 1066100 | E157: 1 | F157: 696141471 | G157: =SUM(F158-F157) -> 889353 | H157: 1 | I157: 726307960 | J157: =SUM(I158-I157) -> 1144200 | K157: 1 | L157: 759521707 | M157: =SUM(L158-L157) -> 1176534 | N157: 1 | O157: 785939336 | P157: =SUM(O158-O157) -> 528917 | Q157: 1 | R157: 810935751 | S157: =SUM(R158-R157) -> 1137229 | T157: 1 | U157: 822137530 | V157: =SUM(U158-U157) -> 161047 | W157: 1 | X157: 826868100 | Y157: =SUM(X158-X157) -> 230006 | Z157: 1 | AA157: 830647876 | AB157: =SUM(AA158-AA157) -> 97258 | AC157: 1 | AD157: 836264185 | AE157: =SUM(AD158-AD157) -> 507103 | AF157: 1 | AG157: 839065959 | AH157: =SUM(AG158-AG157) -> 0 | AI157: 1 | AJ157: 840283789 | AK157: =SUM(AJ158-AJ157) -> 0
B158: 2 | C158: 662577410 | D158: =SUM(C159-C158) -> 1111933 | E158: 2 | F158: 697030824 | G158: =SUM(F159-F158) -> 1107596 | H158: 2 | I158: 727452160 | J158: =SUM(I159-I158) -> 1067840 | K158: 2 | L158: 760698241 | M158: =SUM(L159-L158) -> 955483 | N158: 2 | O158: 786468253 | P158: =SUM(O159-O158) -> 705586 | Q158: 2 | R158: 812072980 | S158: =SUM(R159-R158) -> 1142745 | T158: 2 | U158: 822298577 | V158: =SUM(U159-U158) -> 54392 | W158: 2 | X158: 827098106 | Y158: =SUM(X159-X158) -> 142622 | Z158: 2 | AA158: 830745134 | AB158: =SUM(AA159-AA158) -> 176192 | AC158: 2 | AD158: 836771288 | AE158: =SUM(AD159-AD158) -> 338143 | AF158: 2 | AG158: 839065959 | AH158: =SUM(AG159-AG158) -> 0 | AI158: 2 | AJ158: 840283789 | AK158: =SUM(AJ159-AJ158) -> 0
B159: 3 | C159: 663689343 | D159: =SUM(C160-C159) -> 1127397 | E159: 3 | F159: 698138420 | G159: =SUM(F160-F159) -> 1011308 | H159: 3 | I159: 728520000 | J159: =SUM(I160-I159) -> 1062366 | K159: 3 | L159: 761653724 | M159: =SUM(L160-L159) -> 946173 | N159: 3 | O159: 787173839 | P159: =SUM(O160-O159) -> 555821 | Q159: 3 | R159: 813215725 | S159: =SUM(R160-R159) -> 1184185 | T159: 3 | U159: 822352969 | V159: =SUM(U160-U159) -> 201621 | W159: 3 | X159: 827240728 | Y159: =SUM(X160-X159) -> 4292 | Z159: 3 | AA159: 830921326 | AB159: =SUM(AA160-AA159) -> 0 | AC159: 3 | AD159: 837109431 | AE159: =SUM(AD160-AD159) -> 147171 | AF159: 3 | AG159: 839065959 | AH159: =SUM(AG160-AG159) -> 0 | AI159: 3 | AJ159: 840283789 | AK159: =SUM(AJ160-AJ159) -> 0
B160: 4 | C160: 664816740 | D160: =SUM(C161-C160) -> 1160621 | E160: 4 | F160: 699149728 | G160: =SUM(F161-F160) -> 1194382 | H160: 4 | I160: 729582366 | J160: =SUM(I161-I160) -> 1043798 | K160: 4 | L160: 762599897 | M160: =SUM(L161-L160) -> 1128483 | N160: 4 | O160: 787729660 | P160: =SUM(O161-O160) -> 510040 | Q160: 4 | R160: 814399910 | S160: =SUM(R161-R160) -> 1174387 | T160: 4 | U160: 822554590 | V160: =SUM(U161-U160) -> 31636 | W160: 4 | X160: 827245020 | Y160: =SUM(X161-X160) -> 1 | Z160: 4 | AA160: 830921326 | AB160: =SUM(AA161-AA160) -> 106172 | AC160: 4 | AD160: 837256602 | AE160: =SUM(AD161-AD160) -> 176492 | AF160: 4 | AG160: 839065959 | AH160: =SUM(AG161-AG160) -> 0 | AI160: 4 | AJ160: 840283789 | AK160: =SUM(AJ161-AJ160) -> 97070
B161: 5 | C161: 665977361 | D161: =SUM(C162-C161) -> 904693 | E161: 5 | F161: 700344110 | G161: =SUM(F162-F161) -> 1249090 | H161: 5 | I161: 730626164 | J161: =SUM(I162-I161) -> 1141055 | K161: 5 | L161: 763728380 | M161: =SUM(L162-L161) -> 1171620 | N161: 5 | O161: 788239700 | P161: =SUM(O162-O161) -> 359034 | Q161: 5 | R161: 815574297 | S161: =SUM(R162-R161) -> 731714 | T161: 5 | U161: 822586226 | V161: =SUM(U162-U161) -> 218684 | W161: 5 | X161: 827245021 | Y161: =SUM(X162-X161) -> 117684 | Z161: 5 | AA161: 831027498 | AB161: =SUM(AA162-AA161) -> 0 | AC161: 5 | AD161: 837433094 | AE161: =SUM(AD162-AD161) -> 0 | AF161: 5 | AG161: 839065959 | AH161: =SUM(AG162-AG161) -> 0 | AI161: 5 | AJ161: 840380859 | AK161: =SUM(AJ162-AJ161) -> 0
B162: 6 | C162: 666882054 | D162: =SUM(C163-C162) -> 1074868 | E162: 6 | F162: 701593200 | G162: =SUM(F163-F162) -> 1389389 | H162: 6 | I162: 731767219 | J162: =SUM(I163-I162) -> 1153615 | K162: 6 | L162: 764900000 | M162: =SUM(L163-L162) -> 1114713 | N162: 6 | O162: 788598734 | P162: =SUM(O163-O162) -> 751264 | Q162: 6 | R162: 816306011 | S162: =SUM(R163-R162) -> 826917 | T162: 6 | U162: 822804910 | V162: =SUM(U163-U162) -> 98016 | W162: 6 | X162: 827362705 | Y162: =SUM(X163-X162) -> 151094 | Z162: 6 | AA162: 831027498 | AB162: =SUM(AA163-AA162) -> 78654 | AC162: 6 | AD162: 837433094 | AE162: =SUM(AD163-AD162) -> 0 | AF162: 6 | AG162: 839065959 | AH162: =SUM(AG163-AG162) -> 0 | AI162: 6 | AJ162: 840380859 | AK162: =SUM(AJ163-AJ162) -> 0
B163: 7 | C163: 667956922 | D163: =SUM(C164-C163) -> 1140394 | E163: 7 | F163: 702982589 | G163: =SUM(F164-F163) -> 889318 | H163: 7 | I163: 732920834 | J163: =SUM(I164-I163) -> 1223417 | K163: 7 | L163: 766014713 | M163: =SUM(L164-L163) -> 1008705 | N163: 7 | O163: 789349998 | P163: =SUM(O164-O163) -> 919998 | Q163: 7 | R163: 817132928 | S163: =SUM(R164-R163) -> 1073743 | T163: 7 | U163: 822902926 | V163: =SUM(U164-U163) -> 133248 | W163: 7 | X163: 827513799 | Y163: =SUM(X164-X163) -> 205392 | Z163: 7 | AA163: 831106152 | AB163: =SUM(AA164-AA163) -> 0 | AC163: 7 | AD163: 837433094 | AE163: =SUM(AD164-AD163) -> 133777 | AF163: 7 | AG163: 839065959 | AH163: =SUM(AG164-AG163) -> 0 | AI163: 7 | AJ163: 840380859 | AK163: =SUM(AJ164-AJ163) -> 0
B164: 8 | C164: 669097316 | D164: =SUM(C165-C164) -> 1157711 | E164: 8 | F164: 703871907 | G164: =SUM(F165-F164) -> 924497 | H164: 8 | I164: 734144251 | J164: =SUM(I165-I164) -> 930329 | K164: 8 | L164: 767023418 | M164: =SUM(L165-L164) -> 1100174 | N164: 8 | O164: 790269996 | P164: =SUM(O165-O164) -> 825975 | Q164: 8 | R164: 818206671 | S164: =SUM(R165-R164) -> 682700 | T164: 8 | U164: 823036174 | V164: =SUM(U165-U164) -> 216364 | W164: 8 | X164: 827719191 | Y164: =SUM(X165-X164) -> 109403 | Z164: 8 | AA164: 831106152 | AB164: =SUM(AA165-AA164) -> 100 | AC164: 8 | AD164: 837566871 | AE164: =SUM(AD165-AD164) -> 20068 | AF164: 8 | AG164: 839065959 | AH164: =SUM(AG165-AG164) -> 0 | AI164: 8 | AJ164: 840380859 | AK164: =SUM(AJ165-AJ164) -> 0
B165: 9 | C165: 670255027 | D165: =SUM(C166-C165) -> 1212179 | E165: 9 | F165: 704796404 | G165: =SUM(F166-F165) -> 1096528 | H165: 9 | I165: 735074580 | J165: =SUM(I166-I165) -> 975715 | K165: 9 | L165: 768123592 | M165: =SUM(L166-L165) -> 1144978 | N165: 9 | O165: 791095971 | P165: =SUM(O166-O165) -> 1001609 | Q165: 9 | R165: 818889371 | S165: =SUM(R166-R165) -> 525975 | T165: 9 | U165: 823252538 | V165: =SUM(U166-U165) -> 396110 | W165: 9 | X165: 827828594 | Y165: =SUM(X166-X165) -> 171492 | Z165: 9 | AA165: 831106252 | AB165: =SUM(AA166-AA165) -> 103121 | AC165: 9 | AD165: 837586939 | AE165: =SUM(AD166-AD165) -> 114664 | AF165: 9 | AG165: 839065959 | AH165: =SUM(AG166-AG165) -> 0 | AI165: 9 | AJ165: 840380859 | AK165: =SUM(AJ166-AJ165) -> 0
B166: 10 | C166: 671467206 | D166: =SUM(C167-C166) -> 1119078 | E166: 10 | F166: 705892932 | G166: =SUM(F167-F166) -> 1090945 | H166: 10 | I166: 736050295 | J166: =SUM(I167-I166) -> 1169127 | K166: 10 | L166: 769268570 | M166: =SUM(L167-L166) -> 1145179 | N166: 10 | O166: 792097580 | P166: =SUM(O167-O166) -> 609179 | Q166: 10 | R166: 819415346 | S166: =SUM(R167-R166) -> 632605 | T166: 10 | U166: 823648648 | V166: =SUM(U167-U166) -> 229128 | W166: 10 | X166: 828000086 | Y166: =SUM(X167-X166) -> 0 | Z166: 10 | AA166: 831209373 | AB166: =SUM(AA167-AA166) -> 154932 | AC166: 10 | AD166: 837701603 | AE166: =SUM(AD167-AD166) -> 0 | AF166: 10 | AG166: 839065959 | AH166: =SUM(AG167-AG166) -> 0 | AI166: 10 | AJ166: 840380859 | AK166: =SUM(AJ167-AJ166) -> 0
B167: 11 | C167: 672586284 | D167: =SUM(C168-C167) -> 1184864 | E167: 11 | F167: 706983877 | G167: =SUM(F168-F167) -> 1140100 | H167: 11 | I167: 737219422 | J167: =SUM(I168-I167) -> 1171042 | K167: 11 | L167: 770413749 | M167: =SUM(L168-L167) -> 1179888 | N167: 11 | O167: 792706759 | P167: =SUM(O168-O167) -> 964571 | Q167: 11 | R167: 820047951 | S167: =SUM(R168-R167) -> 719533 | T167: 11 | U167: 823877776 | V167: =SUM(U168-U167) -> 578070 | W167: 11 | X167: 828000086 | Y167: =SUM(X168-X167) -> 0 | Z167: 11 | AA167: 831364305 | AB167: =SUM(AA168-AA167) -> 119862 | AC167: 11 | AD167: 837701603 | AE167: =SUM(AD168-AD167) -> 8579 | AF167: 11 | AG167: 839065959 | AH167: =SUM(AG168-AG167) -> 0 | AI167: 11 | AJ167: 840380859 | AK167: =SUM(AJ168-AJ167) -> 0
B168: 12 | C168: 673771148 | D168: =SUM(C169-C168) -> 1133131 | E168: 12 | F168: 708123977 | G168: =SUM(F169-F168) -> 1198988 | H168: 12 | I168: 738390464 | J168: =SUM(I169-I168) -> 1110624 | K168: 12 | L168: 771593637 | M168: =SUM(L169-L168) -> 1117161 | N168: 12 | O168: 793671330 | P168: =SUM(O169-O168) -> 1072330 | Q168: 12 | R168: 820767484 | S168: =SUM(R169-R168) -> 370008 | T168: 12 | U168: 824455846 | V168: =SUM(U169-U168) -> 144270 | W168: 12 | X168: 828000086 | Y168: =SUM(X169-X168) -> 131193 | Z168: 12 | AA168: 831484167 | AB168: =SUM(AA169-AA168) -> 54522 | AC168: 12 | AD168: 837710182 | AE168: =SUM(AD169-AD168) -> 0 | AF168: 12 | AG168: 839065959 | AH168: =SUM(AG169-AG168) -> 0 | AI168: 12 | AJ168: 840380859 | AK168: =SUM(AJ169-AJ168) -> 0
... B185: 29 | C185: 692257212 | D185: =SUM(C186-C185) -> 1596108 | E185: 29 | F185: 725500544 | G185: =SUM(F186-F185) -> 807416 | H185: 29 | I185: 756201320 | J185: =SUM(I186-I185) -> 1093282 | K185: 29 | L185: 785024461 | M185: =SUM(L186-L185) -> 650508 | N185: 29 | O185: 808170661 | P185: =SUM(O186-O185) -> 843377 | Q185: 29 | R185: 822121978 | S185: =SUM(R186-R185) -> 15552 | T185: 29 | U185: 826388302 | V185: =SUM(U186-U185) -> 16740 | W185: 29 | X185: 830273871 | Y185: =SUM(X186-X185) -> 103470 | Z185: 29 | AA185: 835271491 | AB185: =SUM(AA186-AA185) -> 52900 | AC185: 29 | AD185: 839065959 | AE185: =SUM(AD186-AD185) -> 0 | AF185: 29 | AG185: 839065959 | AH185: =SUM(AG186-AG185) -> 0 | AI185: 29 | AJ185: 853236651 | AK185: =SUM(AJ186-AJ185) -> 1131852
B186: 30 | C186: 693853320 | D186: =SUM(C187-C186) -> 1118644 | F186: 726307960 | H186: 30 | I186: 757294602 | J186: =SUM(I187-I186) -> 1097009 | K186: 30 | L186: 785674969 | M186: =SUM(L187-L186) -> 264367 | N186: 30 | O186: 809014038 | P186: =SUM(O187-O186) -> 966784 | Q186: 30 | R186: 822137530 | S186: =SUM(R187-R186) -> 0 | T186: 30 | U186: 826405042 | V186: =SUM(U187-U186) -> 289749 | W186: 30 | X186: 830377341 | Y186: =SUM(X187-X186) -> 196349 | Z186: 30 | AA186: 835324391 | AB186: =SUM(AA187-AA186) -> 939794 | AC186: 30 | AD186: 839065959 | AE186: =SUM(AD187-AD186) -> 0 | AF186: 30 | AG186: 839065959 | AH186: =SUM(AG187-AG186) -> 0 | AI186: 30 | AJ186: 854368503 | AK186: =SUM(AJ187-AJ186) -> 1189141
B187: 31 | C187: 694971964 | D187: =SUM(C188-C187) -> 1169507 | H187: 31 | I187: 758391611 | J187: =SUM(I188-I187) -> 1130096 | L187: 785939336 | N187: 31 | O187: 809980822 | P187: =SUM(O188-O187) -> 954929 | R187: 822137530 | T187: 31 | U187: 826694791 | V187: =SUM(U188-U187) -> 173309 | W187: 31 | X187: 830573690 | Y187: =SUM(X188-X187) -> 74186 | AA187: 836264185 | AC187: 31 | AD187: 839065959 | AE187: =SUM(AD188-AD187) -> 0 | AG187: 839065959 | AI187: 31 | AJ187: 855557644 | AK187: =SUM(AJ188-AJ187) -> 997137
C188: 696141471 | I188: 759521707 | O188: 810935751 | U188: 826868100 | X188: 830647876 | AD188: 839065959 | AJ188: 856554781
D189: =SUM(D157:D188) -> 34630161 | G189: =SUM(G157:G188) -> 30166489 | J189: =SUM(J157:J188) -> 33213747 | M189: =SUM(M157:M188) -> 26417629 | P189: =SUM(P157:P188) -> 24996415 | S189: =SUM(S157:S188) -> 11201779 | V189: =SUM(V157:V188) -> 4730570 | Y189: =SUM(Y157:Y188) -> 3779776 | AB189: =SUM(AB157:AB188) -> 5616309 | AE189: =SUM(AE157:AE188) -> 2801774 | AH189: =SUM(AH157:AH188) -> 0 | AK189: =SUM(AK157:AK188) -> 16270992
B192: 41275 | E192: 41306 | H192: 41334 | K192: 41365 | N192: 41395 | Q192: 41426 | T192: 41456 | W192: 41487 | Z192: 41518 | AC192: 41548 | AF192: 41579 | AI192: 41609
B193: Date | C193: Meter | D193: Total Gallons Pumped | E193: Date | F193: Meter | G193: Total Gallons Pumped | H193: Date | I193: Meter | J193: Total Gallons Pumped | K193: Date | L193: Meter | M193: Total Gallons Pumped | N193: Date | O193: Meter | P193: Total Gallons Pumped | Q193: Date | R193: Meter | S193: Total Gallons Pumped | T193: Date | U193: Meter | V193: Total Gallons Pumped | W193: Date | X193: Meter | Y193: Total Gallons Pumped | Z193: Date | AA193: Meter | AB193: Total Gallons Pumped | AC193: Date | AD193: Meter | AE193: Total Gallons Pumped | AF193: Date | AG193: Meter | AH193: Total Gallons Pumped | AI193: Date | AJ193: Meter | AK193: Total Gallons Pumped
...

Sheet Well #6
B2: 39448 | E2: 39479 | H2: 39508 | K2: 39539 | N2: 39569 | Q2: 39600 | T2: 39630 | W2: 39661 | Z2: 39692 | AC2: 39722 | AF2: 39753 | AI2: 39783
B3: Date | C3: Meter | D3: Total Gallons Pumped | E3: Date | F3: Meter | G3: Total Gallons Pumped | H3: Date | I3: Meter | J3: Total Gallons Pumped | K3: Date | L3: Meter | M3: Total Gallons Pumped | N3: Date | O3: Meter | P3: Total Gallons Pumped | Q3: Date | R3: Meter | S3: Total Gallons Pumped | T3: Date | U3: Meter | V3: Total Gallons Pumped | W3: Date | X3: Meter | Y3: Total Gallons Pumped | Z3: Date | AA3: Meter | AB3: Total Gallons Pumped | AC3: Date | AD3: Meter | AE3: Total Gallons Pumped | AF3: Date | AG3: Meter | AH3: Total Gallons Pumped | AI3: Date | AJ3: Meter | AK3: Total Gallons Pumped
B5: 1 | C5: 461.8 | D5: 0 | E5: 1 | F5: 461.8 | G5: 0 | H5: 1 | I5: 461.8 | J5: 0 | K5: 1 | L5: 461.8 | M5: =SUM(L6-L5)*1000000 -> 0 | N5: 1 | O5: 480.8 | P5: =SUM(O6-O5)*1000000 -> 1900000 | Q5: 1 | R5: 531.4 | S5: =SUM(R6-R5)*1000000 -> 400000 | T5: 1 | U5: 582.9 | V5: =SUM(U6-U5)*1000000 -> 2000000 | W5: 1 | X5: 664.3 | Y5: =SUM(X6-X5)*1000000 -> 2400000 | Z5: 1 | AA5: 733.9 | AB5: =SUM(AA6-AA5)*1000000 -> 2200000 | AC5: 1 | AD5: 782.8 | AE5: =SUM(AD6-AD5)*1000000 -> 1600000 | AF5: 1 | AG5: 789.8 | AH5: =SUM(AG6-AG5)*1000000 -> 0 | AI5: 1 | AJ5: 789.8 | AK5: =SUM(AJ6-AJ5)*1000000 -> 0
B6: 2 | C6: 461.8 | D6: 0 | E6: 2 | F6: 461.8 | G6: 0 | H6: 2 | I6: 461.8 | J6: 0 | K6: 2 | L6: 461.8 | M6: =SUM(L7-L6)*1000000 -> 0 | N6: 2 | O6: 482.7 | P6: =SUM(O7-O6)*1000000 -> 1400000 | Q6: 2 | R6: 531.8 | S6: =SUM(R7-R6)*1000000 -> 700000 | T6: 2 | U6: 584.9 | V6: =SUM(U7-U6)*1000000 -> 2700000 | W6: 2 | X6: 666.7 | Y6: =SUM(X7-X6)*1000000 -> 2400000 | Z6: 2 | AA6: 736.1 | AB6: =SUM(AA7-AA6)*1000000 -> 900000 | AC6: 2 | AD6: 784.4 | AE6: =SUM(AD7-AD6)*1000000 -> 1100000 | AF6: 2 | AG6: 789.8 | AH6: =SUM(AG7-AG6)*1000000 -> 0 | AI6: 2 | AJ6: 789.8 | AK6: =SUM(AJ7-AJ6)*1000000 -> 0
B7: 3 | C7: 461.8 | D7: 0 | E7: 3 | F7: 461.8 | G7: 0 | H7: 3 | I7: 461.8 | J7: 0 | K7: 3 | L7: 461.8 | M7: =SUM(L8-L7)*1000000 -> 0 | N7: 3 | O7: 484.1 | P7: =SUM(O8-O7)*1000000 -> 3300000 | Q7: 3 | R7: 532.5 | S7: =SUM(R8-R7)*1000000 -> 400000 | T7: 3 | U7: 587.6 | V7: =SUM(U8-U7)*1000000 -> 2700000 | W7: 3 | X7: 669.1 | Y7: =SUM(X8-X7)*1000000 -> 2000000 | Z7: 3 | AA7: 737 | AB7: =SUM(AA8-AA7)*1000000 -> 2700000 | AC7: 3 | AD7: 785.5 | AE7: =SUM(AD8-AD7)*1000000 -> 700000 | AF7: 3 | AG7: 789.8 | AH7: =SUM(AG8-AG7)*1000000 -> 0 | AI7: 3 | AJ7: 789.8 | AK7: =SUM(AJ8-AJ7)*1000000 -> 0
B8: 4 | C8: 461.8 | D8: 0 | E8: 4 | F8: 461.8 | G8: 0 | H8: 4 | I8: 461.8 | J8: 0 | K8: 4 | L8: 461.8 | M8: =SUM(L9-L8)*1000000 -> 0 | N8: 4 | O8: 487.4 | P8: =SUM(O9-O8)*1000000 -> 2800000 | Q8: 4 | R8: 532.9 | S8: =SUM(R9-R8)*1000000 -> 400000 | T8: 4 | U8: 590.3 | V8: =SUM(U9-U8)*1000000 -> 2900000 | W8: 4 | X8: 671.1 | Y8: =SUM(X9-X8)*1000000 -> 2700000 | Z8: 4 | AA8: 739.7 | AB8: =SUM(AA9-AA8)*1000000 -> 1400000 | AC8: 4 | AD8: 786.2 | AE8: =SUM(AD9-AD8)*1000000 -> 400000 | AF8: 4 | AG8: 789.8 | AH8: =SUM(AG9-AG8)*1000000 -> 0 | AI8: 4 | AJ8: 789.8 | AK8: =SUM(AJ9-AJ8)*1000000 -> 0
B9: 5 | C9: 461.8 | D9: 0 | E9: 5 | F9: 461.8 | G9: 0 | H9: 5 | I9: 461.8 | J9: 0 | K9: 5 | L9: 461.8 | M9: =SUM(L10-L9)*1000000 -> 0 | N9: 5 | O9: 490.2 | P9: =SUM(O10-O9)*1000000 -> 2100000 | Q9: 5 | R9: 533.3 | S9: =SUM(R10-R9)*1000000 -> 1000000 | T9: 5 | U9: 593.2 | V9: =SUM(U10-U9)*1000000 -> 2900000 | W9: 5 | X9: 673.8 | Y9: =SUM(X10-X9)*1000000 -> 2200000 | Z9: 5 | AA9: 741.1 | AB9: =SUM(AA10-AA9)*1000000 -> 1600000 | AC9: 5 | AD9: 786.6 | AE9: =SUM(AD10-AD9)*1000000 -> 1000000 | AF9: 5 | AG9: 789.8 | AH9: =SUM(AG10-AG9)*1000000 -> 0 | AI9: 5 | AJ9: 789.8 | AK9: =SUM(AJ10-AJ9)*1000000 -> 0
B10: 6 | C10: 461.8 | D10: 0 | E10: 6 | F10: 461.8 | G10: 0 | H10: 6 | I10: 461.8 | J10: 0 | K10: 6 | L10: 461.8 | M10: =SUM(L11-L10)*1000000 -> 0 | N10: 6 | O10: 492.3 | P10: =SUM(O11-O10)*1000000 -> 1000000 | Q10: 6 | R10: 534.3 | S10: =SUM(R11-R10)*1000000 -> 500000 | T10: 6 | U10: 596.1 | V10: =SUM(U11-U10)*1000000 -> 3200000 | W10: 6 | X10: 676 | Y10: =SUM(X11-X10)*1000000 -> 2400000 | Z10: 6 | AA10: 742.7 | AB10: =SUM(AA11-AA10)*1000000 -> 2200000 | AC10: 6 | AD10: 787.6 | AE10: =SUM(AD11-AD10)*1000000 -> 400000 | AF10: 6 | AG10: 789.8 | AH10: =SUM(AG11-AG10)*1000000 -> 0 | AI10: 6 | AJ10: 789.8 | AK10: =SUM(AJ11-AJ10)*1000000 -> 0
B11: 7 | C11: 461.8 | D11: 0 | E11: 7 | F11: 461.8 | G11: 0 | H11: 7 | I11: 461.8 | J11: 0 | K11: 7 | L11: 461.8 | M11: =SUM(L12-L11)*1000000 -> 0 | N11: 7 | O11: 493.3 | P11: =SUM(O12-O11)*1000000 -> 2100000 | Q11: 7 | R11: 534.8 | S11: =SUM(R12-R11)*1000000 -> 700000 | T11: 7 | U11: 599.3 | V11: =SUM(U12-U11)*1000000 -> 2900000 | W11: 7 | X11: 678.4 | Y11: =SUM(X12-X11)*1000000 -> 2500000 | Z11: 7 | AA11: 744.9 | AB11: =SUM(AA12-AA11)*1000000 -> 1900000 | AC11: 7 | AD11: 788 | AE11: =SUM(AD12-AD11)*1000000 -> 700000 | AF11: 7 | AG11: 789.8 | AH11: =SUM(AG12-AG11)*1000000 -> 0 | AI11: 7 | AJ11: 789.8 | AK11: =SUM(AJ12-AJ11)*1000000 -> 0
B12: 8 | C12: 461.8 | D12: 0 | E12: 8 | F12: 461.8 | G12: 0 | H12: 8 | I12: 461.8 | J12: 0 | K12: 8 | L12: 461.8 | M12: =SUM(L13-L12)*1000000 -> 0 | N12: 8 | O12: 495.4 | P12: =SUM(O13-O12)*1000000 -> 0 | Q12: 8 | R12: 535.5 | S12: =SUM(R13-R12)*1000000 -> 1300000 | T12: 8 | U12: 602.2 | V12: =SUM(U13-U12)*1000000 -> 2800000 | W12: 8 | X12: 680.9 | Y12: =SUM(X13-X12)*1000000 -> 2400000 | Z12: 8 | AA12: 746.8 | AB12: =SUM(AA13-AA12)*1000000 -> 1800000 | AC12: 8 | AD12: 788.7 | AE12: =SUM(AD13-AD12)*1000000 -> 400000 | AF12: 8 | AG12: 789.8 | AH12: =SUM(AG13-AG12)*1000000 -> 0 | AI12: 8 | AJ12: 789.8 | AK12: =SUM(AJ13-AJ12)*1000000 -> 0
B13: 9 | C13: 461.8 | D13: 0 | E13: 9 | F13: 461.8 | G13: 0 | H13: 9 | I13: 461.8 | J13: 0 | K13: 9 | L13: 461.8 | M13: =SUM(L14-L13)*1000000 -> 300000 | N13: 9 | O13: 495.4 | P13: =SUM(O14-O13)*1000000 -> 3100000 | Q13: 9 | R13: 536.8 | S13: =SUM(R14-R13)*1000000 -> 1100000 | T13: 9 | U13: 605 | V13: =SUM(U14-U13)*1000000 -> 2600000 | W13: 9 | X13: 683.3 | Y13: =SUM(X14-X13)*1000000 -> 2300000 | Z13: 9 | AA13: 748.6 | AB13: =SUM(AA14-AA13)*1000000 -> 1600000 | AC13: 9 | AD13: 789.1 | AE13: =SUM(AD14-AD13)*1000000 -> 300000 | AF13: 9 | AG13: 789.8 | AH13: =SUM(AG14-AG13)*1000000 -> 0 | AI13: 9 | AJ13: 789.8 | AK13: =SUM(AJ14-AJ13)*1000000 -> 200000
B14: 10 | C14: 461.8 | D14: 0 | E14: 10 | F14: 461.8 | G14: 0 | H14: 10 | I14: 461.8 | J14: 0 | K14: 10 | L14: 462.1 | M14: =SUM(L15-L14)*1000000 -> 800000 | N14: 10 | O14: 498.5 | P14: =SUM(O15-O14)*1000000 -> 1900000 | Q14: 10 | R14: 537.9 | S14: =SUM(R15-R14)*1000000 -> 1400000 | T14: 10 | U14: 607.6 | V14: =SUM(U15-U14)*1000000 -> 2300000 | W14: 10 | X14: 685.6 | Y14: =SUM(X15-X14)*1000000 -> 2600000 | Z14: 10 | AA14: 750.2 | AB14: =SUM(AA15-AA14)*1000000 -> 1600000 | AC14: 10 | AD14: 789.4 | AE14: =SUM(AD15-AD14)*1000000 -> 0 | AF14: 10 | AG14: 789.8 | AH14: =SUM(AG15-AG14)*1000000 -> 0 | AI14: 10 | AJ14: 790 | AK14: =SUM(AJ15-AJ14)*1000000 -> 0
B15: 11 | C15: 461.8 | D15: 0 | E15: 11 | F15: 461.8 | G15: 0 | H15: 11 | I15: 461.8 | J15: 0 | K15: 11 | L15: 462.9 | M15: =SUM(L16-L15)*1000000 -> 700000 | N15: 11 | O15: 500.4 | P15: =SUM(O16-O15)*1000000 -> 1600000 | Q15: 11 | R15: 539.3 | S15: =SUM(R16-R15)*1000000 -> 1400000 | T15: 11 | U15: 609.9 | V15: =SUM(U16-U15)*1000000 -> 2200000 | W15: 11 | X15: 688.2 | Y15: =SUM(X16-X15)*1000000 -> 2100000 | Z15: 11 | AA15: 751.8 | AB15: =SUM(AA16-AA15)*1000000 -> 1700000 | AC15: 11 | AD15: 789.4 | AE15: =SUM(AD16-AD15)*1000000 -> 100000 | AF15: 11 | AG15: 789.8 | AH15: =SUM(AG16-AG15)*1000000 -> 0 | AI15: 11 | AJ15: 790 | AK15: =SUM(AJ16-AJ15)*1000000 -> 0
B16: 12 | C16: 461.8 | D16: 0 | E16: 12 | F16: 461.8 | G16: 0 | H16: 12 | I16: 461.8 | J16: 0 | K16: 12 | L16: 463.6 | M16: =SUM(L17-L16)*1000000 -> 0 | N16: 12 | O16: 502 | P16: =SUM(O17-O16)*1000000 -> 1400000 | Q16: 12 | R16: 540.7 | S16: =SUM(R17-R16)*1000000 -> 1600000 | T16: 12 | U16: 612.1 | V16: =SUM(U17-U16)*1000000 -> 3200000 | W16: 12 | X16: 690.3 | Y16: =SUM(X17-X16)*1000000 -> 2100000 | Z16: 12 | AA16: 753.5 | AB16: =SUM(AA17-AA16)*1000000 -> 1800000 | AC16: 12 | AD16: 789.5 | AE16: =SUM(AD17-AD16)*1000000 -> 0 | AF16: 12 | AG16: 789.8 | AH16: =SUM(AG17-AG16)*1000000 -> 0 | AI16: 12 | AJ16: 790 | AK16: =SUM(AJ17-AJ16)*1000000 -> 0
... B32: 28 | C32: 461.8 | D32: 0 | E32: 28 | F32: 461.8 | G32: 0 | H32: 28 | I32: 461.8 | J32: 0 | K32: 28 | L32: 478.6 | M32: =SUM(L33-L32)*1000000 -> 1500000 | N32: 28 | O32: 528.4 | P32: =SUM(O33-O32)*1000000 -> 600000 | Q32: 28 | R32: 578.2 | S32: =SUM(R33-R32)*1000000 -> 0 | T32: 28 | U32: 654.9 | V32: =SUM(U33-U32)*1000000 -> 2200000 | W32: 28 | X32: 726 | Y32: =SUM(X33-X32)*1000000 -> 2000000 | Z32: 28 | AA32: 778.5 | AB32: =SUM(AA33-AA32)*1000000 -> 600000 | AC32: 28 | AD32: 789.8 | AE32: =SUM(AD33-AD32)*1000000 -> 0 | AF32: 28 | AG32: 789.8 | AH32: =SUM(AG33-AG32)*1000000 -> 0 | AI32: 28 | AJ32: 790 | AK32: =SUM(AJ33-AJ32)*1000000 -> 0
B33: 29 | C33: 461.8 | D33: 0 | E33: 29 | F33: 461.8 | H33: 29 | I33: 461.8 | J33: 0 | K33: 29 | L33: 480.1 | M33: =SUM(L34-L33)*1000000 -> 700000 | N33: 29 | O33: 529 | P33: =SUM(O34-O33)*1000000 -> 900000 | Q33: 29 | R33: 578.2 | S33: =SUM(R34-R33)*1000000 -> 2500000 | T33: 29 | U33: 657.1 | V33: =SUM(U34-U33)*1000000 -> 2400000 | W33: 29 | X33: 728 | Y33: =SUM(X34-X33)*1000000 -> 2200000 | Z33: 29 | AA33: 779.1 | AB33: =SUM(AA34-AA33)*1000000 -> 2300000 | AC33: 29 | AD33: 789.8 | AE33: =SUM(AD34-AD33)*1000000 -> 0 | AF33: 29 | AG33: 789.8 | AH33: =SUM(AG34-AG33)*1000000 -> 0 | AI33: 29 | AJ33: 790 | AK33: =SUM(AJ34-AJ33)*1000000 -> 0
B34: 30 | C34: 461.8 | D34: 0 | F34: 461.8 | H34: 30 | I34: 461.8 | J34: 0 | K34: 30 | L34: 480.8 | M34: =SUM(L35-L34)*1000000 -> 0 | N34: 30 | O34: 529.9 | P34: =SUM(O35-O34)*1000000 -> 800000 | Q34: 30 | R34: 580.7 | S34: =SUM(R35-R34)*1000000 -> 2200000 | T34: 30 | U34: 659.5 | V34: =SUM(U35-U34)*1000000 -> 2500000 | W34: 30 | X34: 730.2 | Y34: =SUM(X35-X34)*1000000 -> 1900000 | Z34: 30 | AA34: 781.4 | AB34: =SUM(AA35-AA34)*1000000 -> 1400000 | AC34: 30 | AD34: 789.8 | AE34: =SUM(AD35-AD34)*1000000 -> 0 | AF34: 30 | AG34: 789.8 | AH34: =SUM(AG35-AG34)*1000000 -> 0 | AI34: 30 | AJ34: 790 | AK34: =SUM(AJ35-AJ34)*1000000 -> 0
B35: 31 | C35: 461.8 | D35: 0 | H35: 31 | I35: 461.8 | J35: 0 | L35: 480.8 | N35: 31 | O35: 530.7 | P35: =SUM(O36-O35)*1000000 -> 700000 | R35: 582.9 | T35: 31 | U35: 662 | V35: =SUM(U36-U35)*1000000 -> 2300000 | W35: 31 | X35: 732.1 | Y35: =SUM(X36-X35)*1000000 -> 1800000 | AA35: 782.8 | AC35: 31 | AD35: 789.8 | AE35: =SUM(AD36-AD35)*1000000 -> 0 | AG35: 789.8 | AI35: 31 | AJ35: 790 | AK35: =SUM(AJ36-AJ35)*1000000 -> 0
C36: 461.8 | I36: 461.8 | O36: 531.4 | U36: 664.3 | X36: 733.9 | AD36: 789.8 | AJ36: 790
D37: 0 | G37: 0 | J37: 0 | M37: 19000000 | P37: 50600000 | S37: 51500000 | V37: 81400000 | Y37: 69600000 | AB37: 48900000 | AE37: 7000000 | AH37: 0 | AK37: 200000
B40: 39814 | E40: 39845 | H40: 39873 | K40: 39904 | N40: 39934 | Q40: 39965 | T40: 39995 | W40: 40026 | Z40: 40057 | AC40: 40087 | AF40: 40118 | AI40: 40148
B41: Date | C41: Meter | D41: Total Gallons Pumped | E41: Date | F41: Meter | G41: Total Gallons Pumped | H41: Date | I41: Meter | J41: Total Gallons Pumped | K41: Date | L41: Meter | M41: Total Gallons Pumped | N41: Date | O41: Meter | P41: Total Gallons Pumped | Q41: Date | R41: Meter | S41: Total Gallons Pumped | T41: Date | U41: Meter | V41: Total Gallons Pumped | W41: Date | X41: Meter | Y41: Total Gallons Pumped | Z41: Date | AA41: Meter | AB41: Total Gallons Pumped | AC41: Date | AD41: Meter | AE41: Total Gallons Pumped | AF41: Date | AG41: Meter | AH41: Total Gallons Pumped | AI41: Date | AJ41: Meter | AK41: Total Gallons Pumped
B43: 1 | C43: 790 | D43: =SUM(C44-C43)*1000000 -> 0 | E43: 1 | F43: 790.2 | G43: =SUM(F44-F43)*1000000 -> 0 | H43: 1 | I43: 790.3 | J43: =SUM(I44-I43)*1000000 -> 0 | K43: 1 | L43: 790.3 | M43: =SUM(L44-L43)*1000000 -> 0 | N43: 1 | O43: 798.2 | P43: =SUM(O44-O43)*1000000 -> 600000 | Q43: 1 | R43: 821.3 | S43: =SUM(R44-R43)*1000000 -> 900000 | T43: 1 | U43: 845.5 | V43: =SUM(U44-U43)*1000000 -> 1400000 | W43: 1 | X43: 902.9 | Y43: =SUM(X44-X43)*1000000 -> 2200000 | Z43: 1 | AA43: 960 | AB43: =SUM(AA44-AA43)*1000000 -> 2100000 | AC43: 1 | AD43: 978.4 | AE43: =SUM(AD44-AD43)*1000000 -> 400000 | AF43: 1 | AG43: 988.1 | AH43: =SUM(AG44-AG43)*1000000 -> 0 | AI43: 1 | AJ43: 988.1 | AK43: =SUM(AJ44-AJ43)*1000000 -> 0
B44: 2 | C44: 790 | D44: =SUM(C45-C44)*1000000 -> 100000 | E44: 2 | F44: 790.2 | G44: =SUM(F45-F44)*1000000 -> 0 | H44: 2 | I44: 790.3 | J44: =SUM(I45-I44)*1000000 -> 0 | K44: 2 | L44: 790.3 | M44: =SUM(L45-L44)*1000000 -> 0 | N44: 2 | O44: 798.8 | P44: =SUM(O45-O44)*1000000 -> 1400000 | Q44: 2 | R44: 822.2 | S44: =SUM(R45-R44)*1000000 -> 700000 | T44: 2 | U44: 846.9 | V44: =SUM(U45-U44)*1000000 -> 1400000 | W44: 2 | X44: 905.1 | Y44: =SUM(X45-X44)*1000000 -> 2200000 | Z44: 2 | AA44: 962.1 | AB44: =SUM(AA45-AA44)*1000000 -> 1400000 | AC44: 2 | AD44: 978.8 | AE44: =SUM(AD45-AD44)*1000000 -> 0 | AF44: 2 | AG44: 988.1 | AH44: =SUM(AG45-AG44)*1000000 -> 0 | AI44: 2 | AJ44: 988.1 | AK44: =SUM(AJ45-AJ44)*1000000 -> 0
B45: 3 | C45: 790.1 | D45: =SUM(C46-C45)*1000000 -> 0 | E45: 3 | F45: 790.2 | G45: =SUM(F46-F45)*1000000 -> 0 | H45: 3 | I45: 790.3 | J45: =SUM(I46-I45)*1000000 -> 0 | K45: 3 | L45: 790.3 | M45: =SUM(L46-L45)*1000000 -> 0 | N45: 3 | O45: 800.2 | P45: =SUM(O46-O45)*1000000 -> 1900000 | Q45: 3 | R45: 822.9 | S45: =SUM(R46-R45)*1000000 -> 800000 | T45: 3 | U45: 848.3 | V45: =SUM(U46-U45)*1000000 -> 1100000 | W45: 3 | X45: 907.3 | Y45: =SUM(X46-X45)*1000000 -> 2300000 | Z45: 3 | AA45: 963.5 | AB45: =SUM(AA46-AA45)*1000000 -> 0 | AC45: 3 | AD45: 978.8 | AE45: =SUM(AD46-AD45)*1000000 -> 0 | AF45: 3 | AG45: 988.1 | AH45: =SUM(AG46-AG45)*1000000 -> 0 | AI45: 3 | AJ45: 988.1 | AK45: =SUM(AJ46-AJ45)*1000000 -> 0
B46: 4 | C46: 790.1 | D46: =SUM(C47-C46)*1000000 -> 0 | E46: 4 | F46: 790.2 | G46: =SUM(F47-F46)*1000000 -> 0 | H46: 4 | I46: 790.3 | J46: =SUM(I47-I46)*1000000 -> 0 | K46: 4 | L46: 790.3 | M46: =SUM(L47-L46)*1000000 -> 300000 | N46: 4 | O46: 802.1 | P46: =SUM(O47-O46)*1000000 -> 300000 | Q46: 4 | R46: 823.7 | S46: =SUM(R47-R46)*1000000 -> 1000000 | T46: 4 | U46: 849.4 | V46: =SUM(U47-U46)*1000000 -> 1200000 | W46: 4 | X46: 909.6 | Y46: =SUM(X47-X46)*1000000 -> 1900000 | Z46: 4 | AA46: 963.5 | AB46: =SUM(AA47-AA46)*1000000 -> 1700000 | AC46: 4 | AD46: 978.8 | AE46: =SUM(AD47-AD46)*1000000 -> 0 | AF46: 4 | AG46: 988.1 | AH46: =SUM(AG47-AG46)*1000000 -> 0 | AI46: 4 | AJ46: 988.1 | AK46: =SUM(AJ47-AJ46)*1000000 -> 0
B47: 5 | C47: 790.1 | D47: =SUM(C48-C47)*1000000 -> 0 | E47: 5 | F47: 790.2 | G47: =SUM(F48-F47)*1000000 -> 0 | H47: 5 | I47: 790.3 | J47: =SUM(I48-I47)*1000000 -> 0 | K47: 5 | L47: 790.6 | M47: =SUM(L48-L47)*1000000 -> 300000 | N47: 5 | O47: 802.4 | P47: =SUM(O48-O47)*1000000 -> 0 | Q47: 5 | R47: 824.7 | S47: =SUM(R48-R47)*1000000 -> 900000 | T47: 5 | U47: 850.6 | V47: =SUM(U48-U47)*1000000 -> 1400000 | W47: 5 | X47: 911.5 | Y47: =SUM(X48-X47)*1000000 -> 2200000 | Z47: 5 | AA47: 965.2 | AB47: =SUM(AA48-AA47)*1000000 -> 1900000 | AC47: 5 | AD47: 978.8 | AE47: =SUM(AD48-AD47)*1000000 -> 0 | AF47: 5 | AG47: 988.1 | AH47: =SUM(AG48-AG47)*1000000 -> 0 | AI47: 5 | AJ47: 988.1 | AK47: =SUM(AJ48-AJ47)*1000000 -> 0
B48: 6 | C48: 790.1 | D48: =SUM(C49-C48)*1000000 -> 0 | E48: 6 | F48: 790.2 | G48: =SUM(F49-F48)*1000000 -> 0 | H48: 6 | I48: 790.3 | J48: =SUM(I49-I48)*1000000 -> 0 | K48: 6 | L48: 790.9 | M48: =SUM(L49-L48)*1000000 -> 700000 | N48: 6 | O48: 802.4 | P48: =SUM(O49-O48)*1000000 -> 100000 | Q48: 6 | R48: 825.6 | S48: =SUM(R49-R48)*1000000 -> 300000 | T48: 6 | U48: 852 | V48: =SUM(U49-U48)*1000000 -> 1900000 | W48: 6 | X48: 913.7 | Y48: =SUM(X49-X48)*1000000 -> 2500000 | Z48: 6 | AA48: 967.1 | AB48: =SUM(AA49-AA48)*1000000 -> 800000 | AC48: 6 | AD48: 978.8 | AE48: =SUM(AD49-AD48)*1000000 -> 100000 | AF48: 6 | AG48: 988.1 | AH48: =SUM(AG49-AG48)*1000000 -> 0 | AI48: 6 | AJ48: 988.1 | AK48: =SUM(AJ49-AJ48)*1000000 -> 0
B49: 7 | C49: 790.1 | D49: =SUM(C50-C49)*1000000 -> 0 | E49: 7 | F49: 790.2 | G49: =SUM(F50-F49)*1000000 -> 0 | H49: 7 | I49: 790.3 | J49: =SUM(I50-I49)*1000000 -> 0 | K49: 7 | L49: 791.6 | M49: =SUM(L50-L49)*1000000 -> 300000 | N49: 7 | O49: 802.5 | P49: =SUM(O50-O49)*1000000 -> 0 | Q49: 7 | R49: 825.9 | S49: =SUM(R50-R49)*1000000 -> 200000 | T49: 7 | U49: 853.9 | V49: =SUM(U50-U49)*1000000 -> 1300000 | W49: 7 | X49: 916.2 | Y49: =SUM(X50-X49)*1000000 -> 1600000 | Z49: 7 | AA49: 967.9 | AB49: =SUM(AA50-AA49)*1000000 -> 0 | AC49: 7 | AD49: 978.9 | AE49: =SUM(AD50-AD49)*1000000 -> 2000000 | AF49: 7 | AG49: 988.1 | AH49: =SUM(AG50-AG49)*1000000 -> 0 | AI49: 7 | AJ49: 988.1 | AK49: =SUM(AJ50-AJ49)*1000000 -> 0
B50: 8 | C50: 790.1 | D50: =SUM(C51-C50)*1000000 -> 0 | E50: 8 | F50: 790.2 | G50: =SUM(F51-F50)*1000000 -> 0 | H50: 8 | I50: 790.3 | J50: =SUM(I51-I50)*1000000 -> 0 | K50: 8 | L50: 791.9 | M50: =SUM(L51-L50)*1000000 -> 400000 | N50: 8 | O50: 802.5 | P50: =SUM(O51-O50)*1000000 -> 0 | Q50: 8 | R50: 826.1 | S50: =SUM(R51-R50)*1000000 -> 0 | T50: 8 | U50: 855.2 | V50: =SUM(U51-U50)*1000000 -> 1200000 | W50: 8 | X50: 917.8 | Y50: =SUM(X51-X50)*1000000 -> 2500000 | Z50: 8 | AA50: 967.9 | AB50: =SUM(AA51-AA50)*1000000 -> 1300000 | AC50: 8 | AD50: 980.9 | AE50: =SUM(AD51-AD50)*1000000 -> 2100000 | AF50: 8 | AG50: 988.1 | AH50: =SUM(AG51-AG50)*1000000 -> 0 | AI50: 8 | AJ50: 988.1 | AK50: =SUM(AJ51-AJ50)*1000000 -> 0
B51: 9 | C51: 790.1 | D51: =SUM(C52-C51)*1000000 -> 0 | E51: 9 | F51: 790.2 | G51: =SUM(F52-F51)*1000000 -> 0 | H51: 9 | I51: 790.3 | J51: =SUM(I52-I51)*1000000 -> 0 | K51: 9 | L51: 792.3 | M51: =SUM(L52-L51)*1000000 -> 600000 | N51: 9 | O51: 802.5 | P51: =SUM(O52-O51)*1000000 -> 0 | Q51: 9 | R51: 826.1 | S51: =SUM(R52-R51)*1000000 -> 400000 | T51: 9 | U51: 856.4 | V51: =SUM(U52-U51)*1000000 -> 1500000 | W51: 9 | X51: 920.3 | Y51: =SUM(X52-X51)*1000000 -> 2200000 | Z51: 9 | AA51: 969.2 | AB51: =SUM(AA52-AA51)*1000000 -> 700000 | AC51: 9 | AD51: 983 | AE51: =SUM(AD52-AD51)*1000000 -> 2200000 | AF51: 9 | AG51: 988.1 | AH51: =SUM(AG52-AG51)*1000000 -> 0 | AI51: 9 | AJ51: 988.1 | AK51: =SUM(AJ52-AJ51)*1000000 -> 0
B52: 10 | C52: 790.1 | D52: =SUM(C53-C52)*1000000 -> 0 | E52: 10 | F52: 790.2 | G52: =SUM(F53-F52)*1000000 -> 0 | H52: 10 | I52: 790.3 | J52: =SUM(I53-I52)*1000000 -> 0 | K52: 10 | L52: 792.9 | M52: =SUM(L53-L52)*1000000 -> 200000 | N52: 10 | O52: 802.5 | P52: =SUM(O53-O52)*1000000 -> 400000 | Q52: 10 | R52: 826.5 | S52: =SUM(R53-R52)*1000000 -> 200000 | T52: 10 | U52: 857.9 | V52: =SUM(U53-U52)*1000000 -> 1700000 | W52: 10 | X52: 922.5 | Y52: =SUM(X53-X52)*1000000 -> 2500000 | Z52: 10 | AA52: 969.9 | AB52: =SUM(AA53-AA52)*1000000 -> 500000 | AC52: 10 | AD52: 985.2 | AE52: =SUM(AD53-AD52)*1000000 -> 2100000 | AF52: 10 | AG52: 988.1 | AH52: =SUM(AG53-AG52)*1000000 -> 0 | AI52: 10 | AJ52: 988.1 | AK52: =SUM(AJ53-AJ52)*1000000 -> 0
B53: 11 | C53: 790.1 | D53: =SUM(C54-C53)*1000000 -> 0 | E53: 11 | F53: 790.2 | G53: =SUM(F54-F53)*1000000 -> 0 | H53: 11 | I53: 790.3 | J53: =SUM(I54-I53)*1000000 -> 0 | K53: 11 | L53: 793.1 | M53: =SUM(L54-L53)*1000000 -> 300000 | N53: 11 | O53: 802.9 | P53: =SUM(O54-O53)*1000000 -> 300000 | Q53: 11 | R53: 826.7 | S53: =SUM(R54-R53)*1000000 -> 500000 | T53: 11 | U53: 859.6 | V53: =SUM(U54-U53)*1000000 -> 1700000 | W53: 11 | X53: 925 | Y53: =SUM(X54-X53)*1000000 -> 2200000 | Z53: 11 | AA53: 970.4 | AB53: =SUM(AA54-AA53)*1000000 -> 400000 | AC53: 11 | AD53: 987.3 | AE53: =SUM(AD54-AD53)*1000000 -> 800000 | AF53: 11 | AG53: 988.1 | AH53: =SUM(AG54-AG53)*1000000 -> 0 | AI53: 11 | AJ53: 988.1 | AK53: =SUM(AJ54-AJ53)*1000000 -> 0
B54: 12 | C54: 790.1 | D54: =SUM(C55-C54)*1000000 -> 0 | E54: 12 | F54: 790.2 | G54: =SUM(F55-F54)*1000000 -> 0 | H54: 12 | I54: 790.3 | J54: =SUM(I55-I54)*1000000 -> 0 | K54: 12 | L54: 793.4 | M54: =SUM(L55-L54)*1000000 -> 300000 | N54: 12 | O54: 803.2 | P54: =SUM(O55-O54)*1000000 -> 0 | Q54: 12 | R54: 827.2 | S54: =SUM(R55-R54)*1000000 -> 400000 | T54: 12 | U54: 861.3 | V54: =SUM(U55-U54)*1000000 -> 2100000 | W54: 12 | X54: 927.2 | Y54: =SUM(X55-X54)*1000000 -> 2100000 | Z54: 12 | AA54: 970.8 | AB54: =SUM(AA55-AA54)*1000000 -> 300000 | AC54: 12 | AD54: 988.1 | AE54: =SUM(AD55-AD54)*1000000 -> 0 | AF54: 12 | AG54: 988.1 | AH54: =SUM(AG55-AG54)*1000000 -> 0 | AI54: 12 | AJ54: 988.1 | AK54: =SUM(AJ55-AJ54)*1000000 -> 0
... B70: 28 | C70: 790.2 | D70: =SUM(C71-C70)*1000000 -> 0 | E70: 28 | F70: 790.3 | G70: =SUM(F71-F70)*1000000 -> 0 | H70: 28 | I70: 790.3 | J70: =SUM(I71-I70)*1000000 -> 0 | K70: 28 | L70: 797 | M70: =SUM(L71-L70)*1000000 -> 200000 | N70: 28 | O70: 815.5 | P70: =SUM(O71-O70)*1000000 -> 1300000 | Q70: 28 | R70: 841 | S70: =SUM(R71-R70)*1000000 -> 1500000 | T70: 28 | U70: 893.4 | V70: =SUM(U71-U70)*1000000 -> 2700000 | W70: 28 | X70: 954.1 | Y70: =SUM(X71-X70)*1000000 -> 1600000 | Z70: 28 | AA70: 977.9 | AB70: =SUM(AA71-AA70)*1000000 -> 200000 | AC70: 28 | AD70: 988.1 | AE70: =SUM(AD71-AD70)*1000000 -> 0 | AF70: 28 | AG70: 988.1 | AH70: =SUM(AG71-AG70)*1000000 -> 0 | AI70: 28 | AJ70: 988.1 | AK70: =SUM(AJ71-AJ70)*1000000 -> 0
B71: 29 | C71: 790.2 | D71: =SUM(C72-C71)*1000000 -> 0 | F71: 790.3 | H71: 29 | I71: 790.3 | J71: =SUM(I72-I71)*1000000 -> 0 | K71: 29 | L71: 797.2 | M71: =SUM(L72-L71)*1000000 -> 700000 | N71: 29 | O71: 816.8 | P71: =SUM(O72-O71)*1000000 -> 1500000 | Q71: 29 | R71: 842.5 | S71: =SUM(R72-R71)*1000000 -> 1200000 | T71: 29 | U71: 896.1 | V71: =SUM(U72-U71)*1000000 -> 2000000 | W71: 29 | X71: 955.7 | Y71: =SUM(X72-X71)*1000000 -> 1800000 | Z71: 29 | AA71: 978.1 | AB71: =SUM(AA72-AA71)*1000000 -> 300000 | AC71: 29 | AD71: 988.1 | AE71: =SUM(AD72-AD71)*1000000 -> 0 | AF71: 29 | AG71: 988.1 | AH71: =SUM(AG72-AG71)*1000000 -> 0 | AI71: 29 | AJ71: 988.1 | AK71: =SUM(AJ72-AJ71)*1000000 -> 0
B72: 30 | C72: 790.2 | D72: =SUM(C73-C72)*1000000 -> 0 | H72: 30 | I72: 790.3 | J72: =SUM(I73-I72)*1000000 -> 0 | K72: 30 | L72: 797.9 | M72: =SUM(L73-L72)*1000000 -> 300000 | N72: 30 | O72: 818.3 | P72: =SUM(O73-O72)*1000000 -> 1400000 | Q72: 30 | R72: 843.7 | S72: =SUM(R73-R72)*1000000 -> 1800000 | T72: 30 | U72: 898.1 | V72: =SUM(U73-U72)*1000000 -> 2400000 | W72: 30 | X72: 957.5 | Y72: =SUM(X73-X72)*1000000 -> 1500000 | Z72: 30 | AA72: 978.4 | AB72: =SUM(AA73-AA72)*1000000 -> 0 | AC72: 30 | AD72: 988.1 | AE72: =SUM(AD73-AD72)*1000000 -> 0 | AF72: 30 | AG72: 988.1 | AH72: =SUM(AG73-AG72)*1000000 -> 0 | AI72: 30 | AJ72: 988.1 | AK72: =SUM(AJ73-AJ72)*1000000 -> 0
B73: 31 | C73: 790.2 | D73: =SUM(C74-C73)*1000000 -> 0 | H73: 31 | I73: 790.3 | J73: =SUM(I74-I73)*1000000 -> 0 | L73: 798.2 | N73: 31 | O73: 819.7 | P73: =SUM(O74-O73)*1000000 -> 1600000 | R73: 845.5 | T73: 31 | U73: 900.5 | V73: =SUM(U74-U73)*1000000 -> 2400000 | W73: 31 | X73: 959 | Y73: =SUM(X74-X73)*1000000 -> 1000000 | AA73: 978.4 | AC73: 31 | AD73: 988.1 | AE73: =SUM(AD74-AD73)*1000000 -> 0 | AG73: 988.1 | AI73: 31 | AJ73: 988.1 | AK73: =SUM(AJ74-AJ73)*1000000 -> 0
C74: 790.2 | I74: 790.3 | O74: 821.3 | U74: 902.9 | X74: 960 | AD74: 988.1 | AJ74: 988.1
D75: 200000 | G75: 100000 | J75: 0 | M75: 7900000 | P75: 23100000 | S75: 24200000 | V75: 57400000 | Y75: 57100000 | AB75: 18400000 | AE75: 9700000 | AH75: 0 | AK75: 0
B78: 40179 | E78: 40210 | H78: 40238 | K78: 40269 | N78: 40299 | Q78: 40330 | T78: 40360 | W78: 40391 | Z78: 40422 | AC78: 40452 | AF78: 40483 | AI78: 40513
B79: Date | C79: Meter | D79: Total Gallons Pumped | E79: Date | F79: Meter | G79: Total Gallons Pumped | H79: Date | I79: Meter | J79: Total Gallons Pumped | K79: Date | L79: Meter | M79: Total Gallons Pumped | N79: Date | O79: Meter | P79: Total Gallons Pumped | Q79: Date | R79: Meter | S79: Total Gallons Pumped | T79: Date | U79: Meter | V79: Total Gallons Pumped | W79: Date | X79: Meter | Y79: Total Gallons Pumped | Z79: Date | AA79: Meter | AB79: Total Gallons Pumped | AC79: Date | AD79: Meter | AE79: Total Gallons Pumped | AF79: Date | AG79: Meter | AH79: Total Gallons Pumped | AI79: Date | AJ79: Meter | AK79: Total Gallons Pumped
B81: 1 | C81: 0 | D81: =SUM(C82-C81) -> 0 | E81: 1 | F81: 0 | G81: =SUM(F82-F81) -> 0 | H81: 1 | I81: 0 | J81: =SUM(I82-I81) -> 0 | K81: 1 | L81: 0 | M81: =SUM(L82-L81) -> 0 | N81: 1 | O81: 0 | P81: =SUM(O82-O81) -> 0 | Q81: 1 | R81: 0 | S81: =SUM(R82-R81) -> 0 | T81: 1 | U81: 0 | V81: =SUM(U82-U81) -> 0 | W81: 1 | X81: 1040.495 | Y81: =SUM(X82-X81)*1000000 -> 2841000 | Z81: 1 | AA81: 1122.822 | AB81: =SUM(AA82-AA81)*1000000 -> 1946000 | AC81: 1 | AD81: 1173.547 | AE81: =SUM(AD82-AD81)*1000000 -> 1725000 | AF81: 1 | AG81: 1186.132 | AH81: =SUM(AG82-AG81)*1000000 -> 0 | AI81: 1 | AJ81: 1186.353 | AK81: =SUM(AJ82-AJ81)*1000000 -> 0
B82: 2 | C82: 0 | D82: =SUM(C83-C82) -> 0 | E82: 2 | F82: 0 | G82: =SUM(F83-F82) -> 0 | H82: 2 | I82: 0 | J82: =SUM(I83-I82) -> 0 | K82: 2 | L82: 0 | M82: =SUM(L83-L82) -> 0 | N82: 2 | O82: 0 | P82: =SUM(O83-O82) -> 0 | Q82: 2 | R82: 0 | S82: =SUM(R83-R82) -> 0 | T82: 2 | U82: 0 | V82: =SUM(U83-U82) -> 0 | W82: 2 | X82: 1043.336 | Y82: =SUM(X83-X82)*1000000 -> 2931000 | Z82: 2 | AA82: 1124.768 | AB82: =SUM(AA83-AA82)*1000000 -> 2079000 | AC82: 2 | AD82: 1175.272 | AE82: =SUM(AD83-AD82)*1000000 -> 1562000 | AF82: 2 | AG82: 1186.132 | AH82: =SUM(AG83-AG82)*1000000 -> 0 | AI82: 2 | AJ82: 1186.353 | AK82: =SUM(AJ83-AJ82)*1000000 -> 0
B83: 3 | C83: 0 | D83: =SUM(C84-C83) -> 0 | E83: 3 | F83: 0 | G83: =SUM(F84-F83) -> 0 | H83: 3 | I83: 0 | J83: =SUM(I84-I83) -> 0 | K83: 3 | L83: 0 | M83: =SUM(L84-L83) -> 0 | N83: 3 | O83: 0 | P83: =SUM(O84-O83) -> 0 | Q83: 3 | R83: 0 | S83: =SUM(R84-R83) -> 0 | T83: 3 | U83: 0 | V83: =SUM(U84-U83) -> 0 | W83: 3 | X83: 1046.267 | Y83: =SUM(X84-X83)*1000000 -> 3050000 | Z83: 3 | AA83: 1126.847 | AB83: =SUM(AA84-AA83)*1000000 -> 2082000 | AC83: 3 | AD83: 1176.834 | AE83: =SUM(AD84-AD83)*1000000 -> 1164000 | AF83: 3 | AG83: 1186.132 | AH83: =SUM(AG84-AG83)*1000000 -> 0 | AI83: 3 | AJ83: 1186.353 | AK83: =SUM(AJ84-AJ83)*1000000 -> 0
B84: 4 | C84: 0 | D84: =SUM(C85-C84) -> 0 | E84: 4 | F84: 0 | G84: =SUM(F85-F84) -> 0 | H84: 4 | I84: 0 | J84: =SUM(I85-I84) -> 0 | K84: 4 | L84: 0 | M84: =SUM(L85-L84) -> 0 | N84: 4 | O84: 0 | P84: =SUM(O85-O84) -> 0 | Q84: 4 | R84: 0 | S84: =SUM(R85-R84) -> 0 | T84: 4 | U84: 0 | V84: =SUM(U85-U84) -> 0 | W84: 4 | X84: 1049.317 | Y84: =SUM(X85-X84)*1000000 -> 2830000 | Z84: 4 | AA84: 1128.929 | AB84: =SUM(AA85-AA84)*1000000 -> 1725000 | AC84: 4 | AD84: 1177.998 | AE84: =SUM(AD85-AD84)*1000000 -> 998000 | AF84: 4 | AG84: 1186.132 | AH84: =SUM(AG85-AG84)*1000000 -> 0 | AI84: 4 | AJ84: 1186.353 | AK84: =SUM(AJ85-AJ84)*1000000 -> 0
B85: 5 | C85: 0 | D85: =SUM(C86-C85) -> 0 | E85: 5 | F85: 0 | G85: =SUM(F86-F85) -> 0 | H85: 5 | I85: 0 | J85: =SUM(I86-I85) -> 0 | K85: 5 | L85: 0 | M85: =SUM(L86-L85) -> 0 | N85: 5 | O85: 0 | P85: =SUM(O86-O85) -> 0 | Q85: 5 | R85: 0 | S85: =SUM(R86-R85) -> 0 | T85: 5 | U85: 0 | V85: =SUM(U86-U85) -> 0 | W85: 5 | X85: 1052.147 | Y85: =SUM(X86-X85)*1000000 -> 2989000 | Z85: 5 | AA85: 1130.654 | AB85: =SUM(AA86-AA85)*1000000 -> 1636000 | AC85: 5 | AD85: 1178.996 | AE85: =SUM(AD86-AD85)*1000000 -> 1176000 | AF85: 5 | AG85: 1186.132 | AH85: =SUM(AG86-AG85)*1000000 -> 0 | AI85: 5 | AJ85: 1186.353 | AK85: =SUM(AJ86-AJ85)*1000000 -> 0
B86: 6 | C86: 0 | D86: =SUM(C87-C86) -> 0 | E86: 6 | F86: 0 | G86: =SUM(F87-F86) -> 0 | H86: 6 | I86: 0 | J86: =SUM(I87-I86) -> 0 | K86: 6 | L86: 0 | M86: =SUM(L87-L86) -> 0 | N86: 6 | O86: 0 | P86: =SUM(O87-O86) -> 0 | Q86: 6 | R86: 0 | S86: =SUM(R87-R86) -> 0 | T86: 6 | U86: 0 | V86: =SUM(U87-U86) -> 0 | W86: 6 | X86: 1055.136 | Y86: =SUM(X87-X86)*1000000 -> 2752000 | Z86: 6 | AA86: 1132.29 | AB86: =SUM(AA87-AA86)*1000000 -> 2214000 | AC86: 6 | AD86: 1180.172 | AE86: =SUM(AD87-AD86)*1000000 -> 774000 | AF86: 6 | AG86: 1186.132 | AH86: =SUM(AG87-AG86)*1000000 -> 0 | AI86: 6 | AJ86: 1186.353 | AK86: =SUM(AJ87-AJ86)*1000000 -> 0
B87: 7 | C87: 0 | D87: =SUM(C88-C87) -> 0 | E87: 7 | F87: 0 | G87: =SUM(F88-F87) -> 0 | H87: 7 | I87: 0 | J87: =SUM(I88-I87) -> 0 | K87: 7 | L87: 0 | M87: =SUM(L88-L87) -> 0 | N87: 7 | O87: 0 | P87: =SUM(O88-O87) -> 0 | Q87: 7 | R87: 0 | S87: =SUM(R88-R87) -> 0 | T87: 7 | U87: 0 | V87: =SUM(U88-U87) -> 0 | W87: 7 | X87: 1057.888 | Y87: =SUM(X88-X87)*1000000 -> 2988000 | Z87: 7 | AA87: 1134.504 | AB87: =SUM(AA88-AA87)*1000000 -> 1621000 | AC87: 7 | AD87: 1180.946 | AE87: =SUM(AD88-AD87)*1000000 -> 754000 | AF87: 7 | AG87: 1186.132 | AH87: =SUM(AG88-AG87)*1000000 -> 0 | AI87: 7 | AJ87: 1186.353 | AK87: =SUM(AJ88-AJ87)*1000000 -> 0
B88: 8 | C88: 0 | D88: =SUM(C89-C88) -> 0 | E88: 8 | F88: 0 | G88: =SUM(F89-F88) -> 0 | H88: 8 | I88: 0 | J88: =SUM(I89-I88) -> 0 | K88: 8 | L88: 0 | M88: =SUM(L89-L88) -> 0 | N88: 8 | O88: 0 | P88: =SUM(O89-O88) -> 0 | Q88: 8 | R88: 0 | S88: =SUM(R89-R88) -> 0 | T88: 8 | U88: 0 | V88: =SUM(U89-U88) -> 0 | W88: 8 | X88: 1060.876 | Y88: =SUM(X89-X88)*1000000 -> 3229000 | Z88: 8 | AA88: 1136.125 | AB88: =SUM(AA89-AA88)*1000000 -> 1958000 | AC88: 8 | AD88: 1181.7 | AE88: =SUM(AD89-AD88)*1000000 -> 148000 | AF88: 8 | AG88: 1186.132 | AH88: =SUM(AG89-AG88)*1000000 -> 32000 | AI88: 8 | AJ88: 1186.353 | AK88: =SUM(AJ89-AJ88)*1000000 -> 0
B89: 9 | C89: 0 | D89: =SUM(C90-C89) -> 0 | E89: 9 | F89: 0 | G89: =SUM(F90-F89) -> 0 | H89: 9 | I89: 0 | J89: =SUM(I90-I89) -> 0 | K89: 9 | L89: 0 | M89: =SUM(L90-L89) -> 0 | N89: 9 | O89: 0 | P89: =SUM(O90-O89) -> 0 | Q89: 9 | R89: 0 | S89: =SUM(R90-R89) -> 0 | T89: 9 | U89: 0 | V89: =SUM(U90-U89) -> 0 | W89: 9 | X89: 1064.105 | Y89: =SUM(X90-X89)*1000000 -> 2866000 | Z89: 9 | AA89: 1138.083 | AB89: =SUM(AA90-AA89)*1000000 -> 1329000 | AC89: 9 | AD89: 1181.848 | AE89: =SUM(AD90-AD89)*1000000 -> 0 | AF89: 9 | AG89: 1186.164 | AH89: =SUM(AG90-AG89)*1000000 -> 0 | AI89: 9 | AJ89: 1186.353 | AK89: =SUM(AJ90-AJ89)*1000000 -> 0
B90: 10 | C90: 0 | D90: =SUM(C91-C90) -> 0 | E90: 10 | F90: 0 | G90: =SUM(F91-F90) -> 0 | H90: 10 | I90: 0 | J90: =SUM(I91-I90) -> 0 | K90: 10 | L90: 0 | M90: =SUM(L91-L90) -> 0 | N90: 10 | O90: 0 | P90: =SUM(O91-O90) -> 0 | Q90: 10 | R90: 0 | S90: =SUM(R91-R90) -> 0 | T90: 10 | U90: 0 | V90: =SUM(U91-U90) -> 0 | W90: 10 | X90: 1066.971 | Y90: =SUM(X91-X90)*1000000 -> 3501000 | Z90: 10 | AA90: 1139.412 | AB90: =SUM(AA91-AA90)*1000000 -> 1512000 | AC90: 10 | AD90: 1181.848 | AE90: =SUM(AD91-AD90)*1000000 -> 492000 | AF90: 10 | AG90: 1186.164 | AH90: =SUM(AG91-AG90)*1000000 -> 0 | AI90: 10 | AJ90: 1186.353 | AK90: =SUM(AJ91-AJ90)*1000000 -> 0
B91: 11 | C91: 0 | D91: =SUM(C92-C91) -> 0 | E91: 11 | F91: 0 | G91: =SUM(F92-F91) -> 0 | H91: 11 | I91: 0 | J91: =SUM(I92-I91) -> 0 | K91: 11 | L91: 0 | M91: =SUM(L92-L91) -> 0 | N91: 11 | O91: 0 | P91: =SUM(O92-O91) -> 0 | Q91: 11 | R91: 0 | S91: =SUM(R92-R91) -> 0 | T91: 11 | U91: 0 | V91: =SUM(U92-U91) -> 0 | W91: 11 | X91: 1070.472 | Y91: =SUM(X92-X91)*1000000 -> 2128000 | Z91: 11 | AA91: 1140.924 | AB91: =SUM(AA92-AA91)*1000000 -> 1605000 | AC91: 11 | AD91: 1182.34 | AE91: =SUM(AD92-AD91)*1000000 -> 12000 | AF91: 11 | AG91: 1186.164 | AH91: =SUM(AG92-AG91)*1000000 -> 189000 | AI91: 11 | AJ91: 1186.353 | AK91: =SUM(AJ92-AJ91)*1000000 -> 0
B92: 12 | C92: 0 | D92: =SUM(C93-C92) -> 0 | E92: 12 | F92: 0 | G92: =SUM(F93-F92) -> 0 | H92: 12 | I92: 0 | J92: =SUM(I93-I92) -> 0 | K92: 12 | L92: 0 | M92: =SUM(L93-L92) -> 0 | N92: 12 | O92: 0 | P92: =SUM(O93-O92) -> 0 | Q92: 12 | R92: 0 | S92: =SUM(R93-R92) -> 0 | T92: 12 | U92: 0 | V92: =SUM(U93-U92) -> 0 | W92: 12 | X92: 1072.6 | Y92: =SUM(X93-X92)*1000000 -> 2929000 | Z92: 12 | AA92: 1142.529 | AB92: =SUM(AA93-AA92)*1000000 -> 1909000 | AC92: 12 | AD92: 1182.352 | AE92: =SUM(AD93-AD92)*1000000 -> 213000 | AF92: 12 | AG92: 1186.353 | AH92: =SUM(AG93-AG92)*1000000 -> 0 | AI92: 12 | AJ92: 1186.353 | AK92: =SUM(AJ93-AJ92)*1000000 -> 0
B93: 13 | C93: 0 | D93: =SUM(C94-C93) -> 0 | E93: 13 | F93: 0 | G93: =SUM(F94-F93) -> 0 | H93: 13 | I93: 0 | J93: =SUM(I94-I93) -> 0 | K93: 13 | L93: 0 | M93: =SUM(L94-L93) -> 0 | N93: 13 | O93: 0 | P93: =SUM(O94-O93) -> 0 | Q93: 13 | R93: 0 | S93: =SUM(R94-R93) -> 0 | T93: 13 | U93: 0 | V93: 0 | W93: 13 | X93: 1075.529 | Y93: =SUM(X94-X93)*1000000 -> 2953000 | Z93: 13 | AA93: 1144.438 | AB93: =SUM(AA94-AA93)*1000000 -> 1858000 | AC93: 13 | AD93: 1182.565 | AE93: =SUM(AD94-AD93)*1000000 -> 351000 | AF93: 13 | AG93: 1186.353 | AH93: =SUM(AG94-AG93)*1000000 -> 0 | AI93: 13 | AJ93: 1186.353 | AK93: =SUM(AJ94-AJ93)*1000000 -> 0
B94: 14 | C94: 0 | D94: =SUM(C95-C94) -> 0 | E94: 14 | F94: 0 | G94: =SUM(F95-F94) -> 0 | H94: 14 | I94: 0 | J94: =SUM(I95-I94) -> 0 | K94: 14 | L94: 0 | M94: =SUM(L95-L94) -> 0 | N94: 14 | O94: 0 | P94: =SUM(O95-O94) -> 0 | Q94: 14 | R94: 0 | S94: =SUM(R95-R94) -> 0 | T94: 14 | U94: 988.1 | V94: =SUM(U95-U94)*1000000 -> 2630000 | W94: 14 | X94: 1078.482 | Y94: =SUM(X95-X94)*1000000 -> 1961000 | Z94: 14 | AA94: 1146.296 | AB94: =SUM(AA95-AA94)*1000000 -> 1820000 | AC94: 14 | AD94: 1182.916 | AE94: =SUM(AD95-AD94)*1000000 -> 1001000 | AF94: 14 | AG94: 1186.353 | AH94: =SUM(AG95-AG94)*1000000 -> 0 | AI94: 14 | AJ94: 1186.353 | AK94: =SUM(AJ95-AJ94)*1000000 -> 0
B95: 15 | C95: 0 | D95: =SUM(C96-C95) -> 0 | E95: 15 | F95: 0 | G95: =SUM(F96-F95) -> 0 | H95: 15 | I95: 0 | J95: =SUM(I96-I95) -> 0 | K95: 15 | L95: 0 | M95: =SUM(L96-L95) -> 0 | N95: 15 | O95: 0 | P95: =SUM(O96-O95) -> 0 | Q95: 15 | R95: 0 | S95: =SUM(R96-R95) -> 0 | T95: 15 | U95: 990.73 | V95: =SUM(U96-U95)*1000000 -> 3165000 | W95: 15 | X95: 1080.443 | Y95: =SUM(X96-X95)*1000000 -> 2993000 | Z95: 15 | AA95: 1148.116 | AB95: =SUM(AA96-AA95)*1000000 -> 1746000 | AC95: 15 | AD95: 1183.917 | AE95: =SUM(AD96-AD95)*1000000 -> 371000 | AF95: 15 | AG95: 1186.353 | AH95: =SUM(AG96-AG95)*1000000 -> 0 | AI95: 15 | AJ95: 1186.353 | AK95: =SUM(AJ96-AJ95)*1000000 -> 0
B96: 16 | C96: 0 | D96: =SUM(C97-C96) -> 0 | E96: 16 | F96: 0 | G96: =SUM(F97-F96) -> 0 | H96: 16 | I96: 0 | J96: =SUM(I97-I96) -> 0 | K96: 16 | L96: 0 | M96: =SUM(L97-L96) -> 0 | N96: 16 | O96: 0 | P96: =SUM(O97-O96) -> 0 | Q96: 16 | R96: 0 | S96: =SUM(R97-R96) -> 0 | T96: 16 | U96: 993.895 | V96: =SUM(U97-U96)*1000000 -> 2407000 | W96: 16 | X96: 1083.436 | Y96: =SUM(X97-X96)*1000000 -> 2752000 | Z96: 16 | AA96: 1149.862 | AB96: =SUM(AA97-AA96)*1000000 -> 1580000 | AC96: 16 | AD96: 1184.288 | AE96: =SUM(AD97-AD96)*1000000 -> 314000 | AF96: 16 | AG96: 1186.353 | AH96: =SUM(AG97-AG96)*1000000 -> 0 | AI96: 16 | AJ96: 1186.353 | AK96: =SUM(AJ97-AJ96)*1000000 -> 0
B97: 17 | C97: 0 | D97: =SUM(C98-C97) -> 0 | E97: 17 | F97: 0 | G97: =SUM(F98-F97) -> 0 | H97: 17 | I97: 0 | J97: =SUM(I98-I97) -> 0 | K97: 17 | L97: 0 | M97: =SUM(L98-L97) -> 0 | N97: 17 | O97: 0 | P97: =SUM(O98-O97) -> 0 | Q97: 17 | R97: 0 | S97: =SUM(R98-R97) -> 0 | T97: 17 | U97: 996.302 | V97: =SUM(U98-U97)*1000000 -> 3400000 | W97: 17 | X97: 1086.188 | Y97: =SUM(X98-X97)*1000000 -> 1646000 | Z97: 17 | AA97: 1151.442 | AB97: =SUM(AA98-AA97)*1000000 -> 2057000 | AC97: 17 | AD97: 1184.602 | AE97: =SUM(AD98-AD97)*1000000 -> 477000 | AF97: 17 | AG97: 1186.353 | AH97: =SUM(AG98-AG97)*1000000 -> 0 | AI97: 17 | AJ97: 1186.353 | AK97: =SUM(AJ98-AJ97)*1000000 -> 0
B98: 18 | C98: 0 | D98: =SUM(C99-C98) -> 0 | E98: 18 | F98: 0 | G98: =SUM(F99-F98) -> 0 | H98: 18 | I98: 0 | J98: =SUM(I99-I98) -> 0 | K98: 18 | L98: 0 | M98: =SUM(L99-L98) -> 0 | N98: 18 | O98: 0 | P98: =SUM(O99-O98) -> 0 | Q98: 18 | R98: 0 | S98: =SUM(R99-R98) -> 0 | T98: 18 | U98: 999.702 | V98: =SUM(U99-U98)*1000000 -> 2929000 | W98: 18 | X98: 1087.834 | Y98: =SUM(X99-X98)*1000000 -> 3097000 | Z98: 18 | AA98: 1153.499 | AB98: =SUM(AA99-AA98)*1000000 -> 1387000 | AC98: 18 | AD98: 1185.079 | AE98: =SUM(AD99-AD98)*1000000 -> 0 | AF98: 18 | AG98: 1186.353 | AH98: =SUM(AG99-AG98)*1000000 -> 0 | AI98: 18 | AJ98: 1186.353 | AK98: =SUM(AJ99-AJ98)*1000000 -> 0
B99: 19 | C99: 0 | D99: =SUM(C100-C99) -> 0 | E99: 19 | F99: 0 | G99: =SUM(F100-F99) -> 0 | H99: 19 | I99: 0 | J99: =SUM(I100-I99) -> 0 | K99: 19 | L99: 0 | M99: =SUM(L100-L99) -> 0 | N99: 19 | O99: 0 | P99: =SUM(O100-O99) -> 0 | Q99: 19 | R99: 0 | S99: =SUM(R100-R99) -> 0 | T99: 19 | U99: 1002.631 | V99: =SUM(U100-U99)*1000000 -> 2700000 | W99: 19 | X99: 1090.931 | Y99: =SUM(X100-X99)*1000000 -> 2698000 | Z99: 19 | AA99: 1154.886 | AB99: =SUM(AA100-AA99)*1000000 -> 1659000 | AC99: 19 | AD99: 1185.079 | AE99: =SUM(AD100-AD99)*1000000 -> 468000 | AF99: 19 | AG99: 1186.353 | AH99: =SUM(AG100-AG99)*1000000 -> 0 | AI99: 19 | AJ99: 1186.353 | AK99: =SUM(AJ100-AJ99)*1000000 -> 0
B100: 20 | C100: 0 | D100: =SUM(C101-C100) -> 0 | E100: 20 | F100: 0 | G100: =SUM(F101-F100) -> 0 | H100: 20 | I100: 0 | J100: =SUM(I101-I100) -> 0 | K100: 20 | L100: 0 | M100: =SUM(L101-L100) -> 0 | N100: 20 | O100: 0 | P100: =SUM(O101-O100) -> 0 | Q100: 20 | R100: 0 | S100: =SUM(R101-R100) -> 0 | T100: 20 | U100: 1005.331 | V100: =SUM(U101-U100)*1000000 -> 3339000 | W100: 20 | X100: 1093.629 | Y100: =SUM(X101-X100)*1000000 -> 3088000 | Z100: 20 | AA100: 1156.545 | AB100: =SUM(AA101-AA100)*1000000 -> 1551000 | AC100: 20 | AD100: 1185.547 | AE100: =SUM(AD101-AD100)*1000000 -> 0 | AF100: 20 | AG100: 1186.353 | AH100: =SUM(AG101-AG100)*1000000 -> 0 | AI100: 20 | AJ100: 1186.353 | AK100: =SUM(AJ101-AJ100)*1000000 -> 0
B101: 21 | C101: 0 | D101: =SUM(C102-C101) -> 0 | E101: 21 | F101: 0 | G101: =SUM(F102-F101) -> 0 | H101: 21 | I101: 0 | J101: =SUM(I102-I101) -> 0 | K101: 21 | L101: 0 | M101: =SUM(L102-L101) -> 0 | N101: 21 | O101: 0 | P101: =SUM(O102-O101) -> 0 | Q101: 21 | R101: 0 | S101: =SUM(R102-R101) -> 0 | T101: 21 | U101: 1008.67 | V101: =SUM(U102-U101)*1000000 -> 2122000 | W101: 21 | X101: 1096.717 | Y101: =SUM(X102-X101)*1000000 -> 2678000 | Z101: 21 | AA101: 1158.096 | AB101: =SUM(AA102-AA101)*1000000 -> 1562000 | AC101: 21 | AD101: 1185.547 | AE101: =SUM(AD102-AD101)*1000000 -> 29000 | AF101: 21 | AG101: 1186.353 | AH101: =SUM(AG102-AG101)*1000000 -> 0 | AI101: 21 | AJ101: 1186.353 | AK101: =SUM(AJ102-AJ101)*1000000 -> 0
B102: 22 | C102: 0 | D102: =SUM(C103-C102) -> 0 | E102: 22 | F102: 0 | G102: =SUM(F103-F102) -> 0 | H102: 22 | I102: 0 | J102: =SUM(I103-I102) -> 0 | K102: 22 | L102: 0 | M102: =SUM(L103-L102) -> 0 | N102: 22 | O102: 0 | P102: =SUM(O103-O102) -> 0 | Q102: 22 | R102: 0 | S102: =SUM(R103-R102) -> 0 | T102: 22 | U102: 1010.792 | V102: =SUM(U103-U102)*1000000 -> 3140000 | W102: 22 | X102: 1099.395 | Y102: =SUM(X103-X102)*1000000 -> 3004000 | Z102: 22 | AA102: 1159.658 | AB102: =SUM(AA103-AA102)*1000000 -> 1518000 | AC102: 22 | AD102: 1185.576 | AE102: =SUM(AD103-AD102)*1000000 -> 444000 | AF102: 22 | AG102: 1186.353 | AH102: =SUM(AG103-AG102)*1000000 -> 0 | AI102: 22 | AJ102: 1186.353 | AK102: =SUM(AJ103-AJ102)*1000000 -> 0
B103: 23 | C103: 0 | D103: =SUM(C104-C103) -> 0 | E103: 23 | F103: 0 | G103: =SUM(F104-F103) -> 0 | H103: 23 | I103: 0 | J103: =SUM(I104-I103) -> 0 | K103: 23 | L103: 0 | M103: =SUM(L104-L103) -> 0 | N103: 23 | O103: 0 | P103: =SUM(O104-O103) -> 0 | Q103: 23 | R103: 0 | S103: =SUM(R104-R103) -> 0 | T103: 23 | U103: 1013.932 | V103: =SUM(U104-U103)*1000000 -> 2879000 | W103: 23 | X103: 1102.399 | Y103: =SUM(X104-X103)*1000000 -> 2773000 | Z103: 23 | AA103: 1161.176 | AB103: =SUM(AA104-AA103)*1000000 -> 1622000 | AC103: 23 | AD103: 1186.02 | AE103: =SUM(AD104-AD103)*1000000 -> 0 | AF103: 23 | AG103: 1186.353 | AH103: =SUM(AG104-AG103)*1000000 -> 0 | AI103: 23 | AJ103: 1186.353 | AK103: =SUM(AJ104-AJ103)*1000000 -> 0
B104: 24 | C104: 0 | D104: =SUM(C105-C104) -> 0 | E104: 24 | F104: 0 | G104: =SUM(F105-F104) -> 0 | H104: 24 | I104: 0 | J104: =SUM(I105-I104) -> 0 | K104: 24 | L104: 0 | M104: =SUM(L105-L104) -> 0 | N104: 24 | O104: 0 | P104: =SUM(O105-O104) -> 0 | Q104: 24 | R104: 0 | S104: =SUM(R105-R104) -> 0 | T104: 24 | U104: 1016.811 | V104: =SUM(U105-U104)*1000000 -> 2992000 | W104: 24 | X104: 1105.172 | Y104: =SUM(X105-X104)*1000000 -> 2940000 | Z104: 24 | AA104: 1162.798 | AB104: =SUM(AA105-AA104)*1000000 -> 1635000 | AC104: 24 | AD104: 1186.02 | AE104: =SUM(AD105-AD104)*1000000 -> 0 | AF104: 24 | AG104: 1186.353 | AH104: =SUM(AG105-AG104)*1000000 -> 0 | AI104: 24 | AJ104: 1186.353 | AK104: =SUM(AJ105-AJ104)*1000000 -> 0
B105: 25 | C105: 0 | D105: =SUM(C106-C105) -> 0 | E105: 25 | F105: 0 | G105: =SUM(F106-F105) -> 0 | H105: 25 | I105: 0 | J105: =SUM(I106-I105) -> 0 | K105: 25 | L105: 0 | M105: =SUM(L106-L105) -> 0 | N105: 25 | O105: 0 | P105: =SUM(O106-O105) -> 0 | Q105: 25 | R105: 0 | S105: =SUM(R106-R105) -> 0 | T105: 25 | U105: 1019.803 | V105: =SUM(U106-U105)*1000000 -> 3287000 | W105: 25 | X105: 1108.112 | Y105: =SUM(X106-X105)*1000000 -> 2773000 | Z105: 25 | AA105: 1164.433 | AB105: =SUM(AA106-AA105)*1000000 -> 1517000 | AC105: 25 | AD105: 1186.02 | AE105: =SUM(AD106-AD105)*1000000 -> 0 | AF105: 25 | AG105: 1186.353 | AH105: =SUM(AG106-AG105)*1000000 -> 0 | AI105: 25 | AJ105: 1186.353 | AK105: =SUM(AJ106-AJ105)*1000000 -> 0
... B108: 28 | C108: 0 | D108: =SUM(C109-C108) -> 0 | E108: 28 | F108: 0 | G108: =SUM(F109-F108) -> 0 | H108: 28 | I108: 0 | J108: =SUM(I109-I108) -> 0 | K108: 28 | L108: 0 | M108: =SUM(L109-L108) -> 0 | N108: 28 | O108: 0 | P108: =SUM(O109-O108) -> 0 | Q108: 28 | R108: 0 | S108: =SUM(R109-R108) -> 0 | T108: 28 | U108: 1028.679 | V108: =SUM(U109-U108)*1000000 -> 2929000 | W108: 28 | X108: 1115.306 | Y108: =SUM(X109-X108)*1000000 -> 1788000 | Z108: 28 | AA108: 1168.95 | AB108: =SUM(AA109-AA108)*1000000 -> 1489000 | AC108: 28 | AD108: 1186.02 | AE108: =SUM(AD109-AD108)*1000000 -> 15000 | AF108: 28 | AG108: 1186.353 | AH108: =SUM(AG109-AG108)*1000000 -> 0 | AI108: 28 | AJ108: 1186.353 | AK108: =SUM(AJ109-AJ108)*1000000 -> 0
B109: 29 | C109: 0 | D109: =SUM(C110-C109) -> 0 | F109: 0 | H109: 29 | I109: 0 | J109: =SUM(I110-I109) -> 0 | K109: 29 | L109: 0 | M109: =SUM(L110-L109) -> 0 | N109: 29 | O109: 0 | P109: =SUM(O110-O109) -> 0 | Q109: 29 | R109: 0 | S109: =SUM(R110-R109) -> 0 | T109: 29 | U109: 1031.608 | V109: =SUM(U110-U109)*1000000 -> 3010000 | W109: 29 | X109: 1117.094 | Y109: =SUM(X110-X109)*1000000 -> 1630000 | Z109: 29 | AA109: 1170.439 | AB109: =SUM(AA110-AA109)*1000000 -> 1632000 | AC109: 29 | AD109: 1186.035 | AE109: =SUM(AD110-AD109)*1000000 -> 0 | AF109: 29 | AG109: 1186.353 | AH109: =SUM(AG110-AG109)*1000000 -> 0 | AI109: 29 | AJ109: 1186.353 | AK109: =SUM(AJ110-AJ109)*1000000 -> 0
B110: 30 | C110: 0 | D110: =SUM(C111-C110) -> 0 | H110: 30 | I110: 0 | J110: =SUM(I111-I110) -> 0 | K110: 30 | L110: 0 | M110: =SUM(L111-L110) -> 0 | N110: 30 | O110: 0 | P110: =SUM(O111-O110) -> 0 | Q110: 30 | R110: 0 | S110: =SUM(R111-R110) -> 0 | T110: 30 | U110: 1034.618 | V110: =SUM(U111-U110)*1000000 -> 3024000 | W110: 30 | X110: 1118.724 | Y110: =SUM(X111-X110)*1000000 -> 1940000 | Z110: 30 | AA110: 1172.071 | AB110: =SUM(AA111-AA110)*1000000 -> 1476000 | AC110: 30 | AD110: 1186.035 | AE110: =SUM(AD111-AD110)*1000000 -> 0 | AF110: 30 | AG110: 1186.353 | AH110: =SUM(AG111-AG110)*1000000 -> 0 | AI110: 30 | AJ110: 1186.353 | AK110: =SUM(AJ111-AJ110)*1000000 -> 0
B111: 31 | C111: 0 | D111: =SUM(C112-C111) -> 0 | H111: 31 | I111: 0 | J111: =SUM(I112-I111) -> 0 | N111: 31 | O111: 0 | P111: =SUM(O112-O111) -> 0 | T111: 31 | U111: 1037.642 | V111: =SUM(U112-U111)*1000000 -> 2853000 | W111: 31 | X111: 1120.664 | Y111: =SUM(X112-X111)*1000000 -> 2158000 | AA111: 1173.547 | AC111: 31 | AD111: 1186.035 | AE111: =SUM(AD112-AD111)*1000000 -> 97000 | AG111: 1186.353 | AI111: 31 | AJ111: 1186.353 | AK111: =SUM(AJ112-AJ111)*1000000 -> 0
C112: 0 | I112: 0 | O112: 0 | U112: 1040.495 | X112: 1122.822 | AD112: 1186.132 | AJ112: 1186.353
D113: =SUM(D81:D112) -> 0 | G113: =SUM(G81:G112) -> 0 | J113: =SUM(J81:J112) -> 0 | M113: =SUM(M81:M112) -> 0 | P113: =SUM(P81:P112) -> 0 | S113: =SUM(S81:S112) -> 0 | V113: =SUM(V81:V112) -> 52395000 | Y113: =SUM(Y81:Y112) -> 82327000 | AB113: =SUM(AB81:AB112) -> 50725000 | AE113: =SUM(AE81:AE112) -> 12585000 | AH113: =SUM(AH81:AH112) -> 221000 | AK113: =SUM(AK81:AK112) -> 0
B116: 40544 | E116: 40575 | H116: 40603 | K116: 40634 | N116: 40664 | Q116: 40695 | T116: 40725 | W116: 40756 | Z116: 40787 | AC116: 40817 | AF116: 40848 | AI116: 40878
B117: Date | C117: Meter | D117: Total Gallons Pumped | E117: Date | F117: Meter | G117: Total Gallons Pumped | H117: Date | I117: Meter | J117: Total Gallons Pumped | K117: Date | L117: Meter | M117: Total Gallons Pumped | N117: Date | O117: Meter | P117: Total Gallons Pumped | Q117: Date | R117: Meter | S117: Total Gallons Pumped | T117: Date | U117: Meter | V117: Total Gallons Pumped | W117: Date | X117: Meter | Y117: Total Gallons Pumped | Z117: Date | AA117: Meter | AB117: Total Gallons Pumped | AC117: Date | AD117: Meter | AE117: Total Gallons Pumped | AF117: Date | AG117: Meter | AH117: Total Gallons Pumped | AI117: Date | AJ117: Meter | AK117: Total Gallons Pumped
B119: 1 | C119: 1186.353 | D119: =SUM(C120-C119) -> 0 | E119: 1 | F119: 1186.353 | G119: =SUM(F120-F119) -> 0 | H119: 1 | I119: 1186.353 | J119: =SUM(I120-I119) -> 0 | K119: 1 | L119: 1186.353 | M119: =SUM(L120-L119) -> 0 | N119: 1 | O119: 1186.353 | P119: =SUM(O120-O119)*1000000 -> 0 | Q119: 1 | R119: 1225.868 | S119: =SUM(R120-R119)*1000000 -> 2670000 | T119: 1 | U119: 1296.76 | V119: =SUM(U120-U119)*1000000 -> 2923000 | W119: 1 | X119: 1365.049 | Y119: =SUM(X120-X119)*1000000 -> 2624000 | Z119: 1 | AA119: 1446.17 | AB119: =SUM(AA120-AA119)*1000000 -> 3030000 | AC119: 1 | AD119: 1525.453 | AE119: =SUM(AD120-AD119)*1000000 -> 3811000 | AF119: 1 | AG119: 1550.739 | AH119: =SUM(AG120-AG119)*1000000 -> 0 | AI119: 1 | AJ119: 1550.739 | AK119: =SUM(AJ120-AJ119)*1000000 -> 0
B120: 2 | C120: 1186.353 | D120: =SUM(C121-C120) -> 0 | E120: 2 | F120: 1186.353 | G120: =SUM(F121-F120) -> 0 | H120: 2 | I120: 1186.353 | J120: =SUM(I121-I120) -> 0 | K120: 2 | L120: 1186.353 | M120: =SUM(L121-L120) -> 0 | N120: 2 | O120: 1186.353 | P120: =SUM(O121-O120)*1000000 -> 0 | Q120: 2 | R120: 1228.538 | S120: =SUM(R121-R120)*1000000 -> 2281000 | T120: 2 | U120: 1299.683 | V120: =SUM(U121-U120)*1000000 -> 2850000 | W120: 2 | X120: 1367.673 | Y120: =SUM(X121-X120)*1000000 -> 2546000 | Z120: 2 | AA120: 1449.2 | AB120: =SUM(AA121-AA120)*1000000 -> 2114000 | AC120: 2 | AD120: 1529.264 | AE120: =SUM(AD121-AD120)*1000000 -> 1460000 | AF120: 2 | AG120: 1550.739 | AH120: =SUM(AG121-AG120)*1000000 -> 0 | AI120: 2 | AJ120: 1550.739 | AK120: =SUM(AJ121-AJ120)*1000000 -> 0
B121: 3 | C121: 1186.353 | D121: =SUM(C122-C121) -> 0 | E121: 3 | F121: 1186.353 | G121: =SUM(F122-F121) -> 0 | H121: 3 | I121: 1186.353 | J121: =SUM(I122-I121) -> 0 | K121: 3 | L121: 1186.353 | M121: =SUM(L122-L121) -> 0 | N121: 3 | O121: 1186.353 | P121: =SUM(O122-O121)*1000000 -> 0 | Q121: 3 | R121: 1230.819 | S121: =SUM(R122-R121)*1000000 -> 2324000 | T121: 3 | U121: 1302.533 | V121: =SUM(U122-U121)*1000000 -> 2657000 | W121: 3 | X121: 1370.219 | Y121: =SUM(X122-X121)*1000000 -> 2666000 | Z121: 3 | AA121: 1451.314 | AB121: =SUM(AA122-AA121)*1000000 -> 2675000 | AC121: 3 | AD121: 1530.724 | AE121: =SUM(AD122-AD121)*1000000 -> 494000 | AF121: 3 | AG121: 1550.739 | AH121: =SUM(AG122-AG121)*1000000 -> 0 | AI121: 3 | AJ121: 1550.739 | AK121: =SUM(AJ122-AJ121)*1000000 -> 0
B122: 4 | C122: 1186.353 | D122: =SUM(C123-C122) -> 0 | E122: 4 | F122: 1186.353 | G122: =SUM(F123-F122) -> 0 | H122: 4 | I122: 1186.353 | J122: =SUM(I123-I122) -> 0 | K122: 4 | L122: 1186.353 | M122: =SUM(L123-L122) -> 0 | N122: 4 | O122: 1186.353 | P122: =SUM(O123-O122)*1000000 -> 0 | Q122: 4 | R122: 1233.143 | S122: =SUM(R123-R122)*1000000 -> 3138000 | T122: 4 | U122: 1305.19 | V122: =SUM(U123-U122)*1000000 -> 2580000 | W122: 4 | X122: 1372.885 | Y122: =SUM(X123-X122)*1000000 -> 2556000 | Z122: 4 | AA122: 1453.989 | AB122: =SUM(AA123-AA122)*1000000 -> 2863000 | AC122: 4 | AD122: 1531.218 | AE122: =SUM(AD123-AD122)*1000000 -> 1891000 | AF122: 4 | AG122: 1550.739 | AH122: =SUM(AG123-AG122)*1000000 -> 0 | AI122: 4 | AJ122: 1550.739 | AK122: =SUM(AJ123-AJ122)*1000000 -> 0
B123: 5 | C123: 1186.353 | D123: =SUM(C124-C123) -> 0 | E123: 5 | F123: 1186.353 | G123: =SUM(F124-F123) -> 0 | H123: 5 | I123: 1186.353 | J123: =SUM(I124-I123) -> 0 | K123: 5 | L123: 1186.353 | M123: =SUM(L124-L123) -> 0 | N123: 5 | O123: 1186.353 | P123: =SUM(O124-O123)*1000000 -> 0 | Q123: 5 | R123: 1236.281 | S123: =SUM(R124-R123)*1000000 -> 2629000 | T123: 5 | U123: 1307.77 | V123: =SUM(U124-U123)*1000000 -> 2851000 | W123: 5 | X123: 1375.441 | Y123: =SUM(X124-X123)*1000000 -> 2396000 | Z123: 5 | AA123: 1456.852 | AB123: =SUM(AA124-AA123)*1000000 -> 2517000 | AC123: 5 | AD123: 1533.109 | AE123: =SUM(AD124-AD123)*1000000 -> 194000 | AF123: 5 | AG123: 1550.739 | AH123: =SUM(AG124-AG123)*1000000 -> 0 | AI123: 5 | AJ123: 1550.739 | AK123: =SUM(AJ124-AJ123)*1000000 -> 0
B124: 6 | C124: 1186.353 | D124: =SUM(C125-C124) -> 0 | E124: 6 | F124: 1186.353 | G124: =SUM(F125-F124) -> 0 | H124: 6 | I124: 1186.353 | J124: =SUM(I125-I124) -> 0 | K124: 6 | L124: 1186.353 | M124: =SUM(L125-L124) -> 0 | N124: 6 | O124: 1186.353 | P124: =SUM(O125-O124)*1000000 -> 0 | Q124: 6 | R124: 1238.91 | S124: =SUM(R125-R124)*1000000 -> 2789000 | T124: 6 | U124: 1310.621 | V124: =SUM(U125-U124)*1000000 -> 2806000 | W124: 6 | X124: 1377.837 | Y124: =SUM(X125-X124)*1000000 -> 2725000 | Z124: 6 | AA124: 1459.369 | AB124: =SUM(AA125-AA124)*1000000 -> 2718000 | AC124: 6 | AD124: 1533.303 | AE124: =SUM(AD125-AD124)*1000000 -> 2228000 | AF124: 6 | AG124: 1550.739 | AH124: =SUM(AG125-AG124)*1000000 -> 0 | AI124: 6 | AJ124: 1550.739 | AK124: =SUM(AJ125-AJ124)*1000000 -> 0
B125: 7 | C125: 1186.353 | D125: =SUM(C126-C125) -> 0 | E125: 7 | F125: 1186.353 | G125: =SUM(F126-F125) -> 0 | H125: 7 | I125: 1186.353 | J125: =SUM(I126-I125) -> 0 | K125: 7 | L125: 1186.353 | M125: =SUM(L126-L125) -> 0 | N125: 7 | O125: 1186.353 | P125: =SUM(O126-O125)*1000000 -> 0 | Q125: 7 | R125: 1241.699 | S125: =SUM(R126-R125)*1000000 -> 2136000 | T125: 7 | U125: 1313.427 | V125: =SUM(U126-U125)*1000000 -> 2594000 | W125: 7 | X125: 1380.562 | Y125: =SUM(X126-X125)*1000000 -> 3087000 | Z125: 7 | AA125: 1462.087 | AB125: =SUM(AA126-AA125)*1000000 -> 2618000 | AC125: 7 | AD125: 1535.531 | AE125: =SUM(AD126-AD125)*1000000 -> 2343000 | AF125: 7 | AG125: 1550.739 | AH125: =SUM(AG126-AG125)*1000000 -> 0 | AI125: 7 | AJ125: 1550.739 | AK125: =SUM(AJ126-AJ125)*1000000 -> 0
B126: 8 | C126: 1186.353 | D126: =SUM(C127-C126) -> 0 | E126: 8 | F126: 1186.353 | G126: =SUM(F127-F126) -> 0 | H126: 8 | I126: 1186.353 | J126: =SUM(I127-I126) -> 0 | K126: 8 | L126: 1186.353 | M126: =SUM(L127-L126) -> 0 | N126: 8 | O126: 1186.353 | P126: =SUM(O127-O126)*1000000 -> 0 | Q126: 8 | R126: 1243.835 | S126: =SUM(R127-R126)*1000000 -> 2328000 | T126: 8 | U126: 1316.021 | V126: =SUM(U127-U126)*1000000 -> 2540000 | W126: 8 | X126: 1383.649 | Y126: =SUM(X127-X126)*1000000 -> 2406000 | Z126: 8 | AA126: 1464.705 | AB126: =SUM(AA127-AA126)*1000000 -> 2674000 | AC126: 8 | AD126: 1537.874 | AE126: =SUM(AD127-AD126)*1000000 -> 2616000 | AF126: 8 | AG126: 1550.739 | AH126: =SUM(AG127-AG126)*1000000 -> 0 | AI126: 8 | AJ126: 1550.739 | AK126: =SUM(AJ127-AJ126)*1000000 -> 0
B127: 9 | C127: 1186.353 | D127: =SUM(C128-C127) -> 0 | E127: 9 | F127: 1186.353 | G127: =SUM(F128-F127) -> 0 | H127: 9 | I127: 1186.353 | J127: =SUM(I128-I127) -> 0 | K127: 9 | L127: 1186.353 | M127: =SUM(L128-L127) -> 0 | N127: 9 | O127: 1186.353 | P127: =SUM(O128-O127)*1000000 -> 0 | Q127: 9 | R127: 1246.163 | S127: =SUM(R128-R127)*1000000 -> 2665000 | T127: 9 | U127: 1318.561 | V127: =SUM(U128-U127)*1000000 -> 40000 | W127: 9 | X127: 1386.055 | Y127: =SUM(X128-X127)*1000000 -> 2799000 | Z127: 9 | AA127: 1467.379 | AB127: =SUM(AA128-AA127)*1000000 -> 3052000 | AC127: 9 | AD127: 1540.49 | AE127: =SUM(AD128-AD127)*1000000 -> 2669000 | AF127: 9 | AG127: 1550.739 | AH127: =SUM(AG128-AG127)*1000000 -> 0 | AI127: 9 | AJ127: 1550.739 | AK127: =SUM(AJ128-AJ127)*1000000 -> 0
B128: 10 | C128: 1186.353 | D128: =SUM(C129-C128) -> 0 | E128: 10 | F128: 1186.353 | G128: =SUM(F129-F128) -> 0 | H128: 10 | I128: 1186.353 | J128: =SUM(I129-I128) -> 0 | K128: 10 | L128: 1186.353 | M128: =SUM(L129-L128) -> 0 | N128: 10 | O128: 1186.353 | P128: =SUM(O129-O128)*1000000 -> 0 | Q128: 10 | R128: 1248.828 | S128: =SUM(R129-R128)*1000000 -> 2817000 | T128: 10 | U128: 1318.601 | V128: =SUM(U129-U128)*1000000 -> 0 | W128: 10 | X128: 1388.854 | Y128: =SUM(X129-X128)*1000000 -> 2485000 | Z128: 10 | AA128: 1470.431 | AB128: =SUM(AA129-AA128)*1000000 -> 2600000 | AC128: 10 | AD128: 1543.159 | AE128: =SUM(AD129-AD128)*1000000 -> 2695000 | AF128: 10 | AG128: 1550.739 | AH128: =SUM(AG129-AG128)*1000000 -> 0 | AI128: 10 | AJ128: 1550.739 | AK128: =SUM(AJ129-AJ128)*1000000 -> 0
B129: 11 | C129: 1186.353 | D129: =SUM(C130-C129) -> 0 | E129: 11 | F129: 1186.353 | G129: =SUM(F130-F129) -> 0 | H129: 11 | I129: 1186.353 | J129: =SUM(I130-I129) -> 0 | K129: 11 | L129: 1186.353 | M129: =SUM(L130-L129) -> 0 | N129: 11 | O129: 1186.353 | P129: =SUM(O130-O129)*1000000 -> 0 | Q129: 11 | R129: 1251.645 | S129: =SUM(R130-R129)*1000000 -> 3234000 | T129: 11 | U129: 1318.601 | V129: =SUM(U130-U129)*1000000 -> 0 | W129: 11 | X129: 1391.339 | Y129: =SUM(X130-X129)*1000000 -> 2562000 | Z129: 11 | AA129: 1473.031 | AB129: =SUM(AA130-AA129)*1000000 -> 2423000 | AC129: 11 | AD129: 1545.854 | AE129: =SUM(AD130-AD129)*1000000 -> 2451000 | AF129: 11 | AG129: 1550.739 | AH129: =SUM(AG130-AG129)*1000000 -> 0 | AI129: 11 | AJ129: 1550.739 | AK129: =SUM(AJ130-AJ129)*1000000 -> 0
B130: 12 | C130: 1186.353 | D130: =SUM(C131-C130) -> 0 | E130: 12 | F130: 1186.353 | G130: =SUM(F131-F130) -> 0 | H130: 12 | I130: 1186.353 | J130: =SUM(I131-I130) -> 0 | K130: 12 | L130: 1186.353 | M130: =SUM(L131-L130) -> 0 | N130: 12 | O130: 1186.353 | P130: =SUM(O131-O130)*1000000 -> 0 | Q130: 12 | R130: 1254.879 | S130: =SUM(R131-R130)*1000000 -> 2438000 | T130: 12 | U130: 1318.601 | V130: =SUM(U131-U130)*1000000 -> 0 | W130: 12 | X130: 1393.901 | Y130: =SUM(X131-X130)*1000000 -> 2642000 | Z130: 12 | AA130: 1475.454 | AB130: =SUM(AA131-AA130)*1000000 -> 2622000 | AC130: 12 | AD130: 1548.305 | AE130: =SUM(AD131-AD130)*1000000 -> 2246000 | AF130: 12 | AG130: 1550.739 | AH130: =SUM(AG131-AG130)*1000000 -> 0 | AI130: 12 | AJ130: 1550.739 | AK130: =SUM(AJ131-AJ130)*1000000 -> 0
... B146: 28 | C146: 1186.353 | D146: =SUM(C147-C146) -> 0 | E146: 28 | F146: 1186.353 | G146: =SUM(F147-F146) -> 0 | H146: 28 | I146: 1186.353 | J146: =SUM(I147-I146) -> 0 | K146: 28 | L146: 1186.353 | M146: =SUM(L147-L146) -> 0 | N146: 28 | O146: 1215.234 | P146: =SUM(O147-O146)*1000000 -> 2259000 | Q146: 28 | R146: 1289.51 | S146: =SUM(R147-R146)*1000000 -> 1992000 | T146: 28 | U146: 1354.543 | V146: =SUM(U147-U146)*1000000 -> 2477000 | W146: 28 | X146: 1435.878 | Y146: =SUM(X147-X146)*1000000 -> 2101000 | Z146: 28 | AA146: 1517.593 | AB146: =SUM(AA147-AA146)*1000000 -> 2743000 | AC146: 28 | AD146: 1550.739 | AE146: =SUM(AD147-AD146)*1000000 -> 0 | AF146: 28 | AG146: 1550.739 | AH146: =SUM(AG147-AG146)*1000000 -> 0 | AI146: 28 | AJ146: 1550.739 | AK146: =SUM(AJ147-AJ146)*1000000 -> 0
B147: 29 | C147: 1186.353 | D147: =SUM(C148-C147) -> 0 | F147: 1186.353 | H147: 29 | I147: 1186.353 | J147: =SUM(I148-I147) -> 0 | K147: 29 | L147: 1186.353 | M147: =SUM(L148-L147) -> 0 | N147: 29 | O147: 1217.493 | P147: =SUM(O148-O147)*1000000 -> 2456000 | Q147: 29 | R147: 1291.502 | S147: =SUM(R148-R147)*1000000 -> 2640000 | T147: 29 | U147: 1357.02 | V147: =SUM(U148-U147)*1000000 -> 2694000 | W147: 29 | X147: 1437.979 | Y147: =SUM(X148-X147)*1000000 -> 2715000 | Z147: 29 | AA147: 1520.336 | AB147: =SUM(AA148-AA147)*1000000 -> 2535000 | AC147: 29 | AD147: 1550.739 | AE147: =SUM(AD148-AD147)*1000000 -> 0 | AF147: 29 | AG147: 1550.739 | AH147: =SUM(AG148-AG147)*1000000 -> 0 | AI147: 29 | AJ147: 1550.739 | AK147: =SUM(AJ148-AJ147)*1000000 -> 0
B148: 30 | C148: 1186.353 | D148: =SUM(C149-C148) -> 0 | H148: 30 | I148: 1186.353 | J148: =SUM(I149-I148) -> 0 | K148: 30 | L148: 1186.353 | M148: =SUM(L149-L148) -> 0 | N148: 30 | O148: 1219.949 | P148: =SUM(O149-O148)*1000000 -> 3164000 | Q148: 30 | R148: 1294.142 | S148: =SUM(R149-R148)*1000000 -> 2618000 | T148: 30 | U148: 1359.714 | V148: =SUM(U149-U148)*1000000 -> 2768000 | W148: 30 | X148: 1440.694 | Y148: =SUM(X149-X148)*1000000 -> 2635000 | Z148: 30 | AA148: 1522.871 | AB148: =SUM(AA149-AA148)*1000000 -> 2582000 | AC148: 30 | AD148: 1550.739 | AE148: =SUM(AD149-AD148)*1000000 -> 0 | AF148: 30 | AG148: 1550.739 | AH148: =SUM(AG149-AG148)*1000000 -> 0 | AI148: 30 | AJ148: 1550.739 | AK148: =SUM(AJ149-AJ148)*1000000 -> 0
B149: 31 | C149: 1186.353 | D149: =SUM(C150-C149) -> 0 | H149: 31 | I149: 1186.353 | J149: =SUM(I150-I149) -> 0 | L149: 1186.353 | N149: 31 | O149: 1223.113 | P149: =SUM(O150-O149)*1000000 -> 2755000 | R149: 1296.76 | T149: 31 | U149: 1362.482 | V149: =SUM(U150-U149)*1000000 -> 2567000 | W149: 31 | X149: 1443.329 | Y149: =SUM(X150-X149)*1000000 -> 2841000 | AA149: 1525.453 | AC149: 31 | AD149: 1550.739 | AE149: =SUM(AD150-AD149)*1000000 -> 0 | AG149: 1550.739 | AI149: 31 | AJ149: 1550.739 | AK149: =SUM(AJ150-AJ149)*1000000 -> 0
C150: 1186.353 | I150: 1186.353 | O150: 1225.868 | U150: 1365.049 | X150: 1446.17 | AD150: 1550.739 | AJ150: 1550.739
D151: =SUM(D119:D150) -> 0 | G151: =SUM(G119:G150) -> 0 | J151: =SUM(J119:J150) -> 0 | M151: =SUM(M119:M150) -> 0 | P151: =SUM(P119:P150) -> 39515000 | S151: =SUM(S119:S150) -> 70892000 | V151: =SUM(V119:V150) -> 68289000 | Y151: =SUM(Y119:Y150) -> 81121000 | AB151: =SUM(AB119:AB150) -> 79283000 | AE151: =SUM(AE119:AE150) -> 25286000 | AH151: =SUM(AH119:AH150) -> 0 | AK151: =SUM(AK119:AK150) -> 0
B154: 40909 | E154: 40940 | H154: 40969 | K154: 41000 | N154: 41030 | Q154: 41061 | T154: 41091 | W154: 41122 | Z154: 41153 | AC154: 41183 | AF154: 41214 | AI154: 41244
B155: Date | C155: Meter | D155: Total Gallons Pumped | E155: Date | F155: Meter | G155: Total Gallons Pumped | H155: Date | I155: Meter | J155: Total Gallons Pumped | K155: Date | L155: Meter | M155: Total Gallons Pumped | N155: Date | O155: Meter | P155: Total Gallons Pumped | Q155: Date | R155: Meter | S155: Total Gallons Pumped | T155: Date | U155: Meter | V155: Total Gallons Pumped | W155: Date | X155: Meter | Y155: Total Gallons Pumped | Z155: Date | AA155: Meter | AB155: Total Gallons Pumped | AC155: Date | AD155: Meter | AE155: Total Gallons Pumped | AF155: Date | AG155: Meter | AH155: Total Gallons Pumped | AI155: Date | AJ155: Meter | AK155: Total Gallons Pumped
B157: 1 | C157: 1550.739 | D157: =SUM(C158-C157) -> 0 | E157: 1 | F157: 1550.739 | G157: =SUM(F158-F157) -> 0 | H157: 1 | I157: 1550.787 | J157: =SUM(I158-I157) -> 0 | K157: 1 | L157: 1550.787 | M157: =SUM(L158-L157)*1000000 -> 0 | N157: 1 | O157: 1552.717 | P157: =SUM(O158-O157)*1000000 -> 0 | Q157: 1 | R157: 1553.997 | S157: =SUM(R158-R157)*1000000 -> 0 | T157: 1 | U157: 1609.357 | V157: =SUM(U158-U157)*1000000 -> 2964000 | W157: 1 | X157: 1695.332 | Y157: =SUM(X158-X157)*1000000 -> 2410000 | Z157: 1 | AA157: 1776.117 | AB157: =SUM(AA158-AA157)*1000000 -> 2543000 | AC157: 1 | AD157: 1806.003 | AE157: =SUM(AD158-AD157)*1000000 -> 0 | AF157: 1 | AG157: 1806.102 | AH157: =SUM(AG158-AG157)*1000000 -> 0 | AI157: 1 | AJ157: 1806.102 | AK157: =SUM(AJ158-AJ157)*1000000 -> 0
B158: 2 | C158: 1550.739 | D158: =SUM(C159-C158) -> 0 | E158: 2 | F158: 1550.739 | G158: =SUM(F159-F158) -> 0 | H158: 2 | I158: 1550.787 | J158: =SUM(I159-I158) -> 0 | K158: 2 | L158: 1550.787 | M158: =SUM(L159-L158)*1000000 -> 0 | N158: 2 | O158: 1552.717 | P158: =SUM(O159-O158)*1000000 -> 7000 | Q158: 2 | R158: 1553.997 | S158: =SUM(R159-R158)*1000000 -> 0 | T158: 2 | U158: 1612.321 | V158: =SUM(U159-U158)*1000000 -> 2886000 | W158: 2 | X158: 1697.742 | Y158: =SUM(X159-X158)*1000000 -> 2673000 | Z158: 2 | AA158: 1778.66 | AB158: =SUM(AA159-AA158)*1000000 -> 2556000 | AC158: 2 | AD158: 1806.003 | AE158: =SUM(AD159-AD158)*1000000 -> 0 | AF158: 2 | AG158: 1806.102 | AH158: =SUM(AG159-AG158)*1000000 -> 0 | AI158: 2 | AJ158: 1806.102 | AK158: =SUM(AJ159-AJ158)*1000000 -> 0
B159: 3 | C159: 1550.739 | D159: =SUM(C160-C159) -> 0 | E159: 3 | F159: 1550.739 | G159: =SUM(F160-F159) -> 0 | H159: 3 | I159: 1550.787 | J159: =SUM(I160-I159) -> 0 | K159: 3 | L159: 1550.787 | M159: =SUM(L160-L159)*1000000 -> 0 | N159: 3 | O159: 1552.724 | P159: =SUM(O160-O159)*1000000 -> 0 | Q159: 3 | R159: 1553.997 | S159: =SUM(R160-R159)*1000000 -> 0 | T159: 3 | U159: 1615.207 | V159: =SUM(U160-U159)*1000000 -> 2736000 | W159: 3 | X159: 1700.415 | Y159: =SUM(X160-X159)*1000000 -> 2912000 | Z159: 3 | AA159: 1781.216 | AB159: =SUM(AA160-AA159)*1000000 -> 2432000 | AC159: 3 | AD159: 1806.003 | AE159: =SUM(AD160-AD159)*1000000 -> 0 | AF159: 3 | AG159: 1806.102 | AH159: =SUM(AG160-AG159)*1000000 -> 0 | AI159: 3 | AJ159: 1806.102 | AK159: =SUM(AJ160-AJ159)*1000000 -> 0
B160: 4 | C160: 1550.739 | D160: =SUM(C161-C160) -> 0 | E160: 4 | F160: 1550.739 | G160: =SUM(F161-F160) -> 0 | H160: 4 | I160: 1550.787 | J160: =SUM(I161-I160) -> 0 | K160: 4 | L160: 1550.787 | M160: =SUM(L161-L160)*1000000 -> 0 | N160: 4 | O160: 1552.724 | P160: =SUM(O161-O160)*1000000 -> 0 | Q160: 4 | R160: 1553.997 | S160: =SUM(R161-R160)*1000000 -> 0 | T160: 4 | U160: 1617.943 | V160: =SUM(U161-U160)*1000000 -> 2893000 | W160: 4 | X160: 1703.327 | Y160: =SUM(X161-X160)*1000000 -> 2543000 | Z160: 4 | AA160: 1783.648 | AB160: =SUM(AA161-AA160)*1000000 -> 2452000 | AC160: 4 | AD160: 1806.003 | AE160: =SUM(AD161-AD160)*1000000 -> 0 | AF160: 4 | AG160: 1806.102 | AH160: =SUM(AG161-AG160)*1000000 -> 0 | AI160: 4 | AJ160: 1806.102 | AK160: =SUM(AJ161-AJ160)*1000000 -> 0
B161: 5 | C161: 1550.739 | D161: =SUM(C162-C161) -> 0 | E161: 5 | F161: 1550.739 | G161: =SUM(F162-F161) -> 0 | H161: 5 | I161: 1550.787 | J161: =SUM(I162-I161) -> 0 | K161: 5 | L161: 1550.787 | M161: =SUM(L162-L161)*1000000 -> 0 | N161: 5 | O161: 1552.724 | P161: =SUM(O162-O161)*1000000 -> 1273000 | Q161: 5 | R161: 1553.997 | S161: =SUM(R162-R161)*1000000 -> 0 | T161: 5 | U161: 1620.836 | V161: =SUM(U162-U161)*1000000 -> 2908000 | W161: 5 | X161: 1705.87 | Y161: =SUM(X162-X161)*1000000 -> 2813000 | Z161: 5 | AA161: 1786.1 | AB161: =SUM(AA162-AA161)*1000000 -> 2544000 | AC161: 5 | AD161: 1806.003 | AE161: =SUM(AD162-AD161)*1000000 -> 0 | AF161: 5 | AG161: 1806.102 | AH161: =SUM(AG162-AG161)*1000000 -> 0 | AI161: 5 | AJ161: 1806.102 | AK161: =SUM(AJ162-AJ161)*1000000 -> 0
...

Sheet Well #9
B3: 40179 | E3: 40210 | H3: 40238 | K3: 40269 | N3: 40299 | Q3: 40330 | T3: 40360 | W3: 40391 | Z3: 40422 | AC3: 40452 | AF3: 40483 | AI3: 40513
B4: Date | C4: Meter | D4: Total Gallons Pumped | E4: Date | F4: Meter | G4: Total Gallons Pumped | H4: Date | I4: Meter | J4: Total Gallons Pumped | K4: Date | L4: Meter | M4: Total Gallons Pumped | N4: Date | O4: Meter | P4: Total Gallons Pumped | Q4: Date | R4: Meter | S4: Total Gallons Pumped | T4: Date | U4: Meter | V4: Total Gallons Pumped | W4: Date | X4: Meter | Y4: Total Gallons Pumped | Z4: Date | AA4: Meter | AB4: Total Gallons Pumped | AC4: Date | AD4: Meter | AE4: Total Gallons Pumped | AF4: Date | AG4: Meter | AH4: Total Gallons Pumped | AI4: Date | AJ4: Meter | AK4: Total Gallons Pumped
B6: 1 | C6: 0 | D6: =SUM(C7-C6) -> 0 | E6: 1 | F6: 0 | G6: =SUM(F7-F6) -> 0 | H6: 1 | I6: 0 | J6: =SUM(I7-I6) -> 0 | K6: 1 | L6: 0 | M6: =SUM(L7-L6) -> 0 | N6: 1 | O6: 0 | P6: =SUM(O7-O6) -> 0 | Q6: 1 | R6: 0 | S6: =SUM(R7-R6) -> 0 | T6: 1 | U6: 0 | V6: =SUM(U7-U6) -> 0 | W6: 1 | X6: 0 | Y6: =SUM(X7-X6) -> 0 | Z6: 1 | AA6: 0 | AB6: =SUM(AA7-AA6) -> 0 | AC6: 1 | AD6: 0 | AE6: =SUM(AD7-AD6) -> 0 | AF6: 1 | AG6: 0 | AH6: =SUM(AG7-AG6) -> 0 | AI6: 1 | AJ6: 0 | AK6: =SUM(AJ7-AJ6) -> 0
B7: 2 | C7: 0 | D7: =SUM(C8-C7) -> 0 | E7: 2 | F7: 0 | G7: =SUM(F8-F7) -> 0 | H7: 2 | I7: 0 | J7: =SUM(I8-I7) -> 0 | K7: 2 | L7: 0 | M7: =SUM(L8-L7) -> 0 | N7: 2 | O7: 0 | P7: =SUM(O8-O7) -> 0 | Q7: 2 | R7: 0 | S7: =SUM(R8-R7) -> 0 | T7: 2 | U7: 0 | V7: =SUM(U8-U7) -> 0 | W7: 2 | X7: 0 | Y7: =SUM(X8-X7) -> 0 | Z7: 2 | AA7: 0 | AB7: =SUM(AA8-AA7) -> 0 | AC7: 2 | AD7: 0 | AE7: =SUM(AD8-AD7) -> 0 | AF7: 2 | AG7: 0 | AH7: =SUM(AG8-AG7) -> 0 | AI7: 2 | AJ7: 0 | AK7: =SUM(AJ8-AJ7) -> 0
B8: 3 | C8: 0 | D8: =SUM(C9-C8) -> 0 | E8: 3 | F8: 0 | G8: =SUM(F9-F8) -> 0 | H8: 3 | I8: 0 | J8: =SUM(I9-I8) -> 0 | K8: 3 | L8: 0 | M8: =SUM(L9-L8) -> 0 | N8: 3 | O8: 0 | P8: =SUM(O9-O8) -> 0 | Q8: 3 | R8: 0 | S8: =SUM(R9-R8) -> 0 | T8: 3 | U8: 0 | V8: =SUM(U9-U8) -> 0 | W8: 3 | X8: 0 | Y8: =SUM(X9-X8) -> 0 | Z8: 3 | AA8: 0 | AB8: =SUM(AA9-AA8) -> 0 | AC8: 3 | AD8: 0 | AE8: =SUM(AD9-AD8) -> 0 | AF8: 3 | AG8: 0 | AH8: =SUM(AG9-AG8) -> 0 | AI8: 3 | AJ8: 0 | AK8: =SUM(AJ9-AJ8) -> 0
B9: 4 | C9: 0 | D9: =SUM(C10-C9) -> 0 | E9: 4 | F9: 0 | G9: =SUM(F10-F9) -> 0 | H9: 4 | I9: 0 | J9: =SUM(I10-I9) -> 0 | K9: 4 | L9: 0 | M9: =SUM(L10-L9) -> 0 | N9: 4 | O9: 0 | P9: =SUM(O10-O9) -> 0 | Q9: 4 | R9: 0 | S9: =SUM(R10-R9) -> 0 | T9: 4 | U9: 0 | V9: =SUM(U10-U9) -> 0 | W9: 4 | X9: 0 | Y9: =SUM(X10-X9) -> 0 | Z9: 4 | AA9: 0 | AB9: =SUM(AA10-AA9) -> 0 | AC9: 4 | AD9: 0 | AE9: =SUM(AD10-AD9) -> 0 | AF9: 4 | AG9: 0 | AH9: =SUM(AG10-AG9) -> 0 | AI9: 4 | AJ9: 0 | AK9: =SUM(AJ10-AJ9) -> 0
B10: 5 | C10: 0 | D10: =SUM(C11-C10) -> 0 | E10: 5 | F10: 0 | G10: =SUM(F11-F10) -> 0 | H10: 5 | I10: 0 | J10: =SUM(I11-I10) -> 0 | K10: 5 | L10: 0 | M10: =SUM(L11-L10) -> 0 | N10: 5 | O10: 0 | P10: =SUM(O11-O10) -> 0 | Q10: 5 | R10: 0 | S10: =SUM(R11-R10) -> 0 | T10: 5 | U10: 0 | V10: =SUM(U11-U10) -> 0 | W10: 5 | X10: 0 | Y10: =SUM(X11-X10) -> 0 | Z10: 5 | AA10: 0 | AB10: =SUM(AA11-AA10) -> 0 | AC10: 5 | AD10: 0 | AE10: =SUM(AD11-AD10) -> 0 | AF10: 5 | AG10: 0 | AH10: =SUM(AG11-AG10) -> 0 | AI10: 5 | AJ10: 0 | AK10: =SUM(AJ11-AJ10) -> 0
B11: 6 | C11: 0 | D11: =SUM(C12-C11) -> 0 | E11: 6 | F11: 0 | G11: =SUM(F12-F11) -> 0 | H11: 6 | I11: 0 | J11: =SUM(I12-I11) -> 0 | K11: 6 | L11: 0 | M11: =SUM(L12-L11) -> 0 | N11: 6 | O11: 0 | P11: =SUM(O12-O11) -> 0 | Q11: 6 | R11: 0 | S11: =SUM(R12-R11) -> 0 | T11: 6 | U11: 0 | V11: =SUM(U12-U11) -> 0 | W11: 6 | X11: 0 | Y11: =SUM(X12-X11) -> 0 | Z11: 6 | AA11: 0 | AB11: =SUM(AA12-AA11) -> 0 | AC11: 6 | AD11: 0 | AE11: =SUM(AD12-AD11) -> 0 | AF11: 6 | AG11: 0 | AH11: =SUM(AG12-AG11) -> 0 | AI11: 6 | AJ11: 0 | AK11: =SUM(AJ12-AJ11) -> 0
B12: 7 | C12: 0 | D12: =SUM(C13-C12) -> 0 | E12: 7 | F12: 0 | G12: =SUM(F13-F12) -> 0 | H12: 7 | I12: 0 | J12: =SUM(I13-I12) -> 0 | K12: 7 | L12: 0 | M12: =SUM(L13-L12) -> 0 | N12: 7 | O12: 0 | P12: =SUM(O13-O12) -> 0 | Q12: 7 | R12: 0 | S12: =SUM(R13-R12) -> 0 | T12: 7 | U12: 0 | V12: =SUM(U13-U12) -> 0 | W12: 7 | X12: 0 | Y12: =SUM(X13-X12) -> 0 | Z12: 7 | AA12: 0 | AB12: =SUM(AA13-AA12) -> 0 | AC12: 7 | AD12: 0 | AE12: =SUM(AD13-AD12) -> 0 | AF12: 7 | AG12: 0 | AH12: =SUM(AG13-AG12) -> 0 | AI12: 7 | AJ12: 0 | AK12: =SUM(AJ13-AJ12) -> 0
B13: 8 | C13: 0 | D13: =SUM(C14-C13) -> 0 | E13: 8 | F13: 0 | G13: =SUM(F14-F13) -> 0 | H13: 8 | I13: 0 | J13: =SUM(I14-I13) -> 0 | K13: 8 | L13: 0 | M13: =SUM(L14-L13) -> 0 | N13: 8 | O13: 0 | P13: =SUM(O14-O13) -> 0 | Q13: 8 | R13: 0 | S13: =SUM(R14-R13) -> 0 | T13: 8 | U13: 0 | V13: =SUM(U14-U13) -> 0 | W13: 8 | X13: 0 | Y13: =SUM(X14-X13) -> 0 | Z13: 8 | AA13: 0 | AB13: =SUM(AA14-AA13) -> 0 | AC13: 8 | AD13: 0 | AE13: =SUM(AD14-AD13) -> 0 | AF13: 8 | AG13: 0 | AH13: =SUM(AG14-AG13) -> 0 | AI13: 8 | AJ13: 0 | AK13: =SUM(AJ14-AJ13) -> 0
B14: 9 | C14: 0 | D14: =SUM(C15-C14) -> 0 | E14: 9 | F14: 0 | G14: =SUM(F15-F14) -> 0 | H14: 9 | I14: 0 | J14: =SUM(I15-I14) -> 0 | K14: 9 | L14: 0 | M14: =SUM(L15-L14) -> 0 | N14: 9 | O14: 0 | P14: =SUM(O15-O14) -> 0 | Q14: 9 | R14: 0 | S14: =SUM(R15-R14) -> 0 | T14: 9 | U14: 0 | V14: =SUM(U15-U14) -> 0 | W14: 9 | X14: 0 | Y14: =SUM(X15-X14) -> 0 | Z14: 9 | AA14: 0 | AB14: =SUM(AA15-AA14) -> 0 | AC14: 9 | AD14: 0 | AE14: =SUM(AD15-AD14) -> 0 | AF14: 9 | AG14: 0 | AH14: =SUM(AG15-AG14) -> 0 | AI14: 9 | AJ14: 0 | AK14: =SUM(AJ15-AJ14) -> 0
B15: 10 | C15: 0 | D15: =SUM(C16-C15) -> 0 | E15: 10 | F15: 0 | G15: =SUM(F16-F15) -> 0 | H15: 10 | I15: 0 | J15: =SUM(I16-I15) -> 0 | K15: 10 | L15: 0 | M15: =SUM(L16-L15) -> 0 | N15: 10 | O15: 0 | P15: =SUM(O16-O15) -> 0 | Q15: 10 | R15: 0 | S15: =SUM(R16-R15) -> 0 | T15: 10 | U15: 0 | V15: =SUM(U16-U15) -> 0 | W15: 10 | X15: 0 | Y15: =SUM(X16-X15) -> 0 | Z15: 10 | AA15: 0 | AB15: =SUM(AA16-AA15) -> 0 | AC15: 10 | AD15: 0 | AE15: =SUM(AD16-AD15) -> 0 | AF15: 10 | AG15: 0 | AH15: =SUM(AG16-AG15) -> 0 | AI15: 10 | AJ15: 0 | AK15: =SUM(AJ16-AJ15) -> 0
B16: 11 | C16: 0 | D16: =SUM(C17-C16) -> 0 | E16: 11 | F16: 0 | G16: =SUM(F17-F16) -> 0 | H16: 11 | I16: 0 | J16: =SUM(I17-I16) -> 0 | K16: 11 | L16: 0 | M16: =SUM(L17-L16) -> 0 | N16: 11 | O16: 0 | P16: =SUM(O17-O16) -> 0 | Q16: 11 | R16: 0 | S16: =SUM(R17-R16) -> 0 | T16: 11 | U16: 0 | V16: =SUM(U17-U16) -> 0 | W16: 11 | X16: 0 | Y16: =SUM(X17-X16) -> 0 | Z16: 11 | AA16: 0 | AB16: =SUM(AA17-AA16) -> 0 | AC16: 11 | AD16: 0 | AE16: =SUM(AD17-AD16) -> 0 | AF16: 11 | AG16: 0 | AH16: =SUM(AG17-AG16) -> 0 | AI16: 11 | AJ16: 0 | AK16: =SUM(AJ17-AJ16) -> 0
B17: 12 | C17: 0 | D17: =SUM(C18-C17) -> 0 | E17: 12 | F17: 0 | G17: =SUM(F18-F17) -> 0 | H17: 12 | I17: 0 | J17: =SUM(I18-I17) -> 0 | K17: 12 | L17: 0 | M17: =SUM(L18-L17) -> 0 | N17: 12 | O17: 0 | P17: =SUM(O18-O17) -> 0 | Q17: 12 | R17: 0 | S17: =SUM(R18-R17) -> 0 | T17: 12 | U17: 0 | V17: =SUM(U18-U17) -> 0 | W17: 12 | X17: 0 | Y17: =SUM(X18-X17) -> 0 | Z17: 12 | AA17: 0 | AB17: =SUM(AA18-AA17) -> 0 | AC17: 12 | AD17: 0 | AE17: =SUM(AD18-AD17) -> 0 | AF17: 12 | AG17: 0 | AH17: =SUM(AG18-AG17) -> 0 | AI17: 12 | AJ17: 0 | AK17: =SUM(AJ18-AJ17) -> 0
... B33: 28 | C33: 0 | D33: =SUM(C34-C33) -> 0 | E33: 28 | F33: 0 | G33: =SUM(F34-F33) -> 0 | H33: 28 | I33: 0 | J33: =SUM(I34-I33) -> 0 | K33: 28 | L33: 0 | M33: =SUM(L34-L33) -> 0 | N33: 28 | O33: 0 | P33: =SUM(O34-O33) -> 0 | Q33: 28 | R33: 0 | S33: =SUM(R34-R33) -> 0 | T33: 28 | U33: 0 | V33: =SUM(U34-U33) -> 0 | W33: 28 | X33: 0 | Y33: =SUM(X34-X33) -> 0 | Z33: 28 | AA33: 0 | AB33: =SUM(AA34-AA33) -> 0 | AC33: 28 | AD33: 0 | AE33: =SUM(AD34-AD33) -> 0 | AF33: 28 | AG33: 0 | AH33: =SUM(AG34-AG33) -> 0 | AI33: 28 | AJ33: 0 | AK33: =SUM(AJ34-AJ33) -> 0
B34: 29 | C34: 0 | D34: =SUM(C35-C34) -> 0 | F34: 0 | H34: 29 | I34: 0 | J34: =SUM(I35-I34) -> 0 | K34: 29 | L34: 0 | M34: =SUM(L35-L34) -> 0 | N34: 29 | O34: 0 | P34: =SUM(O35-O34) -> 0 | Q34: 29 | R34: 0 | S34: =SUM(R35-R34) -> 0 | T34: 29 | U34: 0 | V34: =SUM(U35-U34) -> 0 | W34: 29 | X34: 0 | Y34: =SUM(X35-X34) -> 0 | Z34: 29 | AA34: 0 | AB34: =SUM(AA35-AA34) -> 0 | AC34: 29 | AD34: 0 | AE34: =SUM(AD35-AD34) -> 0 | AF34: 29 | AG34: 0 | AH34: =SUM(AG35-AG34) -> 0 | AI34: 29 | AJ34: 0 | AK34: =SUM(AJ35-AJ34) -> 0
B35: 30 | C35: 0 | D35: =SUM(C36-C35) -> 0 | H35: 30 | I35: 0 | J35: =SUM(I36-I35) -> 0 | K35: 30 | L35: 0 | M35: =SUM(L36-L35) -> 0 | N35: 30 | O35: 0 | P35: =SUM(O36-O35) -> 0 | Q35: 30 | R35: 0 | S35: =SUM(R36-R35) -> 0 | T35: 30 | U35: 0 | V35: =SUM(U36-U35) -> 0 | W35: 30 | X35: 0 | Y35: =SUM(X36-X35) -> 0 | Z35: 30 | AA35: 0 | AB35: =SUM(AA36-AA35) -> 0 | AC35: 30 | AD35: 0 | AE35: =SUM(AD36-AD35) -> 0 | AF35: 30 | AG35: 0 | AH35: =SUM(AG36-AG35) -> 0 | AI35: 30 | AJ35: 0 | AK35: =SUM(AJ36-AJ35) -> 0
B36: 31 | C36: 0 | D36: =SUM(C37-C36) -> 0 | H36: 31 | I36: 0 | L36: 0 | N36: 31 | O36: 0 | P36: =SUM(O37-O36) -> 0 | R36: 0 | T36: 31 | U36: 0 | V36: =SUM(U37-U36) -> 0 | W36: 31 | X36: 0 | Y36: =SUM(X37-X36) -> 0 | AA36: 0 | AC36: 31 | AD36: 0 | AE36: =SUM(AD37-AD36) -> 0 | AG36: 0 | AI36: 31 | AJ36: 0 | AK36: =SUM(AJ37-AJ36) -> 0
C37: 0 | O37: 0 | U37: 0 | X37: 0 | AD37: 0 | AJ37: 0
D38: =SUM(D6:D37) -> 0 | G38: =SUM(G6:G37) -> 0 | J38: =SUM(J6:J37) -> 0 | M38: =SUM(M6:M37) -> 0 | P38: =SUM(P6:P37) -> 0 | S38: =SUM(S6:S37) -> 0 | V38: =SUM(V6:V37) -> 0 | Y38: =SUM(Y6:Y37) -> 0 | AB38: =SUM(AB6:AB37) -> 0 | AE38: =SUM(AE6:AE37) -> 0 | AH38: =SUM(AH6:AH37) -> 0 | AK38: =SUM(AK6:AK37) -> 0
B42: 40544 | E42: 40575 | H42: 40603 | K42: 40634 | N42: 40664 | Q42: 40695 | T42: 40725 | W42: 40756 | Z42: 40787 | AC42: 40817 | AF42: 40848 | AI42: 40878
B43: Date | C43: Meter | D43: Total Gallons Pumped | E43: Date | F43: Meter | G43: Total Gallons Pumped | H43: Date | I43: Meter | J43: Total Gallons Pumped | K43: Date | L43: Meter | M43: Total Gallons Pumped | N43: Date | O43: Meter | P43: Total Gallons Pumped | Q43: Date | R43: Meter | S43: Total Gallons Pumped | T43: Date | U43: Meter | V43: Total Gallons Pumped | W43: Date | X43: Meter | Y43: Total Gallons Pumped | Z43: Date | AA43: Meter | AB43: Total Gallons Pumped | AC43: Date | AD43: Meter | AE43: Total Gallons Pumped | AF43: Date | AG43: Meter | AH43: Total Gallons Pumped | AI43: Date | AJ43: Meter | AK43: Total Gallons Pumped
B45: 1 | C45: 0 | D45: =SUM(C46-C45) -> 0 | E45: 1 | F45: 0 | G45: =SUM(F46-F45) -> 0 | H45: 1 | I45: 0 | J45: =SUM(I46-I45) -> 0 | K45: 1 | L45: 0 | M45: =SUM(L46-L45) -> 0 | N45: 1 | O45: 0 | P45: =SUM(O46-O45) -> 0 | Q45: 1 | S45: =SUM(R46-R45) -> 0 | T45: 1 | U45: 47500 | V45: =SUM(U76-U45)*1000 -> 80694000 | W45: 1 | X45: 128194 | Y45: =SUM(X46-X45)*1000 -> 2342000 | Z45: 1 | AA45: 182926 | AB45: =SUM(AA46-AA45)*1000 -> 1119000 | AC45: 1 | AD45: 212235 | AE45: =SUM(AD46-AD45)*1000 -> 0 | AF45: 1 | AG45: 213537 | AH45: =SUM(AG46-AG45) -> 0 | AI45: 1 | AJ45: 213537 | AK45: =SUM(AJ46-AJ45) -> 0
B46: 2 | C46: 0 | D46: =SUM(C47-C46) -> 0 | E46: 2 | F46: 0 | G46: =SUM(F47-F46) -> 0 | H46: 2 | I46: 0 | J46: =SUM(I47-I46) -> 0 | K46: 2 | L46: 0 | M46: =SUM(L47-L46) -> 0 | N46: 2 | O46: 0 | P46: =SUM(O47-O46) -> 0 | Q46: 2 | S46: =SUM(R47-R46) -> 0 | T46: 2 | U46: 0 | V46: =SUM(U47-U46)*1000 -> 0 | W46: 2 | X46: 130536 | Y46: =SUM(X47-X46)*1000 -> 2660000 | Z46: 2 | AA46: 184045 | AB46: =SUM(AA47-AA46)*1000 -> 1452000 | AC46: 2 | AD46: 212235 | AE46: =SUM(AD47-AD46)*1000 -> 0 | AF46: 2 | AG46: 213537 | AH46: =SUM(AG47-AG46) -> 0 | AI46: 2 | AJ46: 213537 | AK46: =SUM(AJ47-AJ46) -> 0
