Workbook

Sheet Report_Table
D1: Gallons | O1: Acre-Feet
A2: Year | B2: Week | C2: # Days | D2: Well #1 | E2: Well #6 | F2: Well #9 | G2: Well #11 | H2: Well #12 | I2: Well #13 | J2: Well #14 | K2: Well #15 | L2: Farm Well | M2: Potable Total | N2: All Wells Total | O2: All Wells Total
A3: 2015 | B3: 1 | C3: =COUNTIFS(ALL_WELLS!$C$2:$C$732,Report_Table!$B3,ALL_WELLS!$A$2:$A$732,Report_Table!$A3) -> 3 | D3: =SUMIFS(ALL_WELLS!F$2:F$732,ALL_WELLS!$C$2:$C$732,Report_Table!$B3,ALL_WELLS!$A$2:$A$732,Report_Table!$A3) -> 2954257 | E3: =SUMIFS(ALL_WELLS!G$2:G$732,ALL_WELLS!$C$2:$C$732,Report_Table!$B3,ALL_WELLS!$A$2:$A$732,Report_Table!$A3) -> 0 | F3: =SUMIFS(ALL_WELLS!H$2:H$732,ALL_WELLS!$C$2:$C$732,Report_Table!$B3,ALL_WELLS!$A$2:$A$732,Report_Table!$A3) -> 0 | G3: =SUMIFS(ALL_WELLS!I$2:I$732,ALL_WELLS!$C$2:$C$732,Report_Table!$B3,ALL_WELLS!$A$2:$A$732,Report_Table!$A3) -> 0 | H3: =SUMIFS(ALL_WELLS!J$2:J$732,ALL_WELLS!$C$2:$C$732,Report_Table!$B3,ALL_WELLS!$A$2:$A$732,Report_Table!$A3) -> 0 | I3: =SUMIFS(ALL_WELLS!K$2:K$732,ALL_WELLS!$C$2:$C$732,Report_Table!$B3,ALL_WELLS!$A$2:$A$732,Report_Table!$A3) -> 517500 | J3: =SUMIFS(ALL_WELLS!L$2:L$732,ALL_WELLS!$C$2:$C$732,Report_Table!$B3,ALL_WELLS!$A$2:$A$732,Report_Table!$A3) -> 0 | K3: =SUMIFS(ALL_WELLS!M$2:M$732,ALL_WELLS!$C$2:$C$732,Report_Table!$B3,ALL_WELLS!$A$2:$A$732,Report_Table!$A3) -> 0 | ... N3: =SUMIFS(ALL_WELLS!P$2:P$732,ALL_WELLS!$C$2:$C$732,Report_Table!$B3,ALL_WELLS!$A$2:$A$732,Report_Table!$A3) -> 3471757 | O3: =N3/7.48/43560 -> 10.655157
A4: 2015 | B4: 2 | C4: =COUNTIFS(ALL_WELLS!$C$2:$C$732,Report_Table!$B4,ALL_WELLS!$A$2:$A$732,Report_Table!$A4) -> 7 | D4: =SUMIFS(ALL_WELLS!F$2:F$732,ALL_WELLS!$C$2:$C$732,Report_Table!$B4,ALL_WELLS!$A$2:$A$732,Report_Table!$A4) -> 7386638 | E4: =SUMIFS(ALL_WELLS!G$2:G$732,ALL_WELLS!$C$2:$C$732,Report_Table!$B4,ALL_WELLS!$A$2:$A$732,Report_Table!$A4) -> 0 | F4: =SUMIFS(ALL_WELLS!H$2:H$732,ALL_WELLS!$C$2:$C$732,Report_Table!$B4,ALL_WELLS!$A$2:$A$732,Report_Table!$A4) -> 0 | G4: =SUMIFS(ALL_WELLS!I$2:I$732,ALL_WELLS!$C$2:$C$732,Report_Table!$B4,ALL_WELLS!$A$2:$A$732,Report_Table!$A4) -> 0 | H4: =SUMIFS(ALL_WELLS!J$2:J$732,ALL_WELLS!$C$2:$C$732,Report_Table!$B4,ALL_WELLS!$A$2:$A$732,Report_Table!$A4) -> 0 | I4: =SUMIFS(ALL_WELLS!K$2:K$732,ALL_WELLS!$C$2:$C$732,Report_Table!$B4,ALL_WELLS!$A$2:$A$732,Report_Table!$A4) -> 1435270 | J4: =SUMIFS(ALL_WELLS!L$2:L$732,ALL_WELLS!$C$2:$C$732,Report_Table!$B4,ALL_WELLS!$A$2:$A$732,Report_Table!$A4) -> 0 | K4: =SUMIFS(ALL_WELLS!M$2:M$732,ALL_WELLS!$C$2:$C$732,Report_Table!$B4,ALL_WELLS!$A$2:$A$732,Report_Table!$A4) -> 0 | ... N4: =SUMIFS(ALL_WELLS!P$2:P$732,ALL_WELLS!$C$2:$C$732,Report_Table!$B4,ALL_WELLS!$A$2:$A$732,Report_Table!$A4) -> 8821908 | O4: =N4/7.48/43560 -> 27.075286
A5: 2015 | B5: 3 | C5: =COUNTIFS(ALL_WELLS!$C$2:$C$732,Report_Table!$B5,ALL_WELLS!$A$2:$A$732,Report_Table!$A5) -> 7 | D5: =SUMIFS(ALL_WELLS!F$2:F$732,ALL_WELLS!$C$2:$C$732,Report_Table!$B5,ALL_WELLS!$A$2:$A$732,Report_Table!$A5) -> 7076231 | E5: =SUMIFS(ALL_WELLS!G$2:G$732,ALL_WELLS!$C$2:$C$732,Report_Table!$B5,ALL_WELLS!$A$2:$A$732,Report_Table!$A5) -> 0 | F5: =SUMIFS(ALL_WELLS!H$2:H$732,ALL_WELLS!$C$2:$C$732,Report_Table!$B5,ALL_WELLS!$A$2:$A$732,Report_Table!$A5) -> 0 | G5: =SUMIFS(ALL_WELLS!I$2:I$732,ALL_WELLS!$C$2:$C$732,Report_Table!$B5,ALL_WELLS!$A$2:$A$732,Report_Table!$A5) -> 0 | H5: =SUMIFS(ALL_WELLS!J$2:J$732,ALL_WELLS!$C$2:$C$732,Report_Table!$B5,ALL_WELLS!$A$2:$A$732,Report_Table!$A5) -> 0 | I5: =SUMIFS(ALL_WELLS!K$2:K$732,ALL_WELLS!$C$2:$C$732,Report_Table!$B5,ALL_WELLS!$A$2:$A$732,Report_Table!$A5) -> 1475410 | J5: =SUMIFS(ALL_WELLS!L$2:L$732,ALL_WELLS!$C$2:$C$732,Report_Table!$B5,ALL_WELLS!$A$2:$A$732,Report_Table!$A5) -> 0 | K5: =SUMIFS(ALL_WELLS!M$2:M$732,ALL_WELLS!$C$2:$C$732,Report_Table!$B5,ALL_WELLS!$A$2:$A$732,Report_Table!$A5) -> 0 | ... N5: =SUMIFS(ALL_WELLS!P$2:P$732,ALL_WELLS!$C$2:$C$732,Report_Table!$B5,ALL_WELLS!$A$2:$A$732,Report_Table!$A5) -> 8551641 | O5: =N5/7.48/43560 -> 26.245811
A6: 2015 | B6: 4 | C6: =COUNTIFS(ALL_WELLS!$C$2:$C$732,Report_Table!$B6,ALL_WELLS!$A$2:$A$732,Report_Table!$A6) -> 7 | D6: =SUMIFS(ALL_WELLS!F$2:F$732,ALL_WELLS!$C$2:$C$732,Report_Table!$B6,ALL_WELLS!$A$2:$A$732,Report_Table!$A6) -> 7170175 | E6: =SUMIFS(ALL_WELLS!G$2:G$732,ALL_WELLS!$C$2:$C$732,Report_Table!$B6,ALL_WELLS!$A$2:$A$732,Report_Table!$A6) -> 0 | F6: =SUMIFS(ALL_WELLS!H$2:H$732,ALL_WELLS!$C$2:$C$732,Report_Table!$B6,ALL_WELLS!$A$2:$A$732,Report_Table!$A6) -> 0 | G6: =SUMIFS(ALL_WELLS!I$2:I$732,ALL_WELLS!$C$2:$C$732,Report_Table!$B6,ALL_WELLS!$A$2:$A$732,Report_Table!$A6) -> 0 | H6: =SUMIFS(ALL_WELLS!J$2:J$732,ALL_WELLS!$C$2:$C$732,Report_Table!$B6,ALL_WELLS!$A$2:$A$732,Report_Table!$A6) -> 0 | I6: =SUMIFS(ALL_WELLS!K$2:K$732,ALL_WELLS!$C$2:$C$732,Report_Table!$B6,ALL_WELLS!$A$2:$A$732,Report_Table!$A6) -> 1269450 | J6: =SUMIFS(ALL_WELLS!L$2:L$732,ALL_WELLS!$C$2:$C$732,Report_Table!$B6,ALL_WELLS!$A$2:$A$732,Report_Table!$A6) -> 0 | K6: =SUMIFS(ALL_WELLS!M$2:M$732,ALL_WELLS!$C$2:$C$732,Report_Table!$B6,ALL_WELLS!$A$2:$A$732,Report_Table!$A6) -> 0 | ... N6: =SUMIFS(ALL_WELLS!P$2:P$732,ALL_WELLS!$C$2:$C$732,Report_Table!$B6,ALL_WELLS!$A$2:$A$732,Report_Table!$A6) -> 8439625 | O6: =N6/7.48/43560 -> 25.902023
A7: 2015 | B7: 5 | C7: =COUNTIFS(ALL_WELLS!$C$2:$C$732,Report_Table!$B7,ALL_WELLS!$A$2:$A$732,Report_Table!$A7) -> 7 | D7: =SUMIFS(ALL_WELLS!F$2:F$732,ALL_WELLS!$C$2:$C$732,Report_Table!$B7,ALL_WELLS!$A$2:$A$732,Report_Table!$A7) -> 7182651 | E7: =SUMIFS(ALL_WELLS!G$2:G$732,ALL_WELLS!$C$2:$C$732,Report_Table!$B7,ALL_WELLS!$A$2:$A$732,Report_Table!$A7) -> 0 | F7: =SUMIFS(ALL_WELLS!H$2:H$732,ALL_WELLS!$C$2:$C$732,Report_Table!$B7,ALL_WELLS!$A$2:$A$732,Report_Table!$A7) -> 0 | G7: =SUMIFS(ALL_WELLS!I$2:I$732,ALL_WELLS!$C$2:$C$732,Report_Table!$B7,ALL_WELLS!$A$2:$A$732,Report_Table!$A7) -> 0 | H7: =SUMIFS(ALL_WELLS!J$2:J$732,ALL_WELLS!$C$2:$C$732,Report_Table!$B7,ALL_WELLS!$A$2:$A$732,Report_Table!$A7) -> 0 | I7: =SUMIFS(ALL_WELLS!K$2:K$732,ALL_WELLS!$C$2:$C$732,Report_Table!$B7,ALL_WELLS!$A$2:$A$732,Report_Table!$A7) -> 1090990 | J7: =SUMIFS(ALL_WELLS!L$2:L$732,ALL_WELLS!$C$2:$C$732,Report_Table!$B7,ALL_WELLS!$A$2:$A$732,Report_Table!$A7) -> 151000 | K7: =SUMIFS(ALL_WELLS!M$2:M$732,ALL_WELLS!$C$2:$C$732,Report_Table!$B7,ALL_WELLS!$A$2:$A$732,Report_Table!$A7) -> 0 | ... N7: =SUMIFS(ALL_WELLS!P$2:P$732,ALL_WELLS!$C$2:$C$732,Report_Table!$B7,ALL_WELLS!$A$2:$A$732,Report_Table!$A7) -> 8424641 | O7: =N7/7.48/43560 -> 25.856035
A8: 2015 | B8: 6 | C8: =COUNTIFS(ALL_WELLS!$C$2:$C$732,Report_Table!$B8,ALL_WELLS!$A$2:$A$732,Report_Table!$A8) -> 7 | D8: =SUMIFS(ALL_WELLS!F$2:F$732,ALL_WELLS!$C$2:$C$732,Report_Table!$B8,ALL_WELLS!$A$2:$A$732,Report_Table!$A8) -> 7169953 | E8: =SUMIFS(ALL_WELLS!G$2:G$732,ALL_WELLS!$C$2:$C$732,Report_Table!$B8,ALL_WELLS!$A$2:$A$732,Report_Table!$A8) -> 0 | F8: =SUMIFS(ALL_WELLS!H$2:H$732,ALL_WELLS!$C$2:$C$732,Report_Table!$B8,ALL_WELLS!$A$2:$A$732,Report_Table!$A8) -> 0 | G8: =SUMIFS(ALL_WELLS!I$2:I$732,ALL_WELLS!$C$2:$C$732,Report_Table!$B8,ALL_WELLS!$A$2:$A$732,Report_Table!$A8) -> 0 | H8: =SUMIFS(ALL_WELLS!J$2:J$732,ALL_WELLS!$C$2:$C$732,Report_Table!$B8,ALL_WELLS!$A$2:$A$732,Report_Table!$A8) -> 0 | I8: =SUMIFS(ALL_WELLS!K$2:K$732,ALL_WELLS!$C$2:$C$732,Report_Table!$B8,ALL_WELLS!$A$2:$A$732,Report_Table!$A8) -> 819220 | J8: =SUMIFS(ALL_WELLS!L$2:L$732,ALL_WELLS!$C$2:$C$732,Report_Table!$B8,ALL_WELLS!$A$2:$A$732,Report_Table!$A8) -> 210000 | K8: =SUMIFS(ALL_WELLS!M$2:M$732,ALL_WELLS!$C$2:$C$732,Report_Table!$B8,ALL_WELLS!$A$2:$A$732,Report_Table!$A8) -> 0 | ... N8: =SUMIFS(ALL_WELLS!P$2:P$732,ALL_WELLS!$C$2:$C$732,Report_Table!$B8,ALL_WELLS!$A$2:$A$732,Report_Table!$A8) -> 8199173 | O8: =N8/7.48/43560 -> 25.164052
A9: 2015 | B9: 7 | C9: =COUNTIFS(ALL_WELLS!$C$2:$C$732,Report_Table!$B9,ALL_WELLS!$A$2:$A$732,Report_Table!$A9) -> 7 | D9: =SUMIFS(ALL_WELLS!F$2:F$732,ALL_WELLS!$C$2:$C$732,Report_Table!$B9,ALL_WELLS!$A$2:$A$732,Report_Table!$A9) -> 6989894 | E9: =SUMIFS(ALL_WELLS!G$2:G$732,ALL_WELLS!$C$2:$C$732,Report_Table!$B9,ALL_WELLS!$A$2:$A$732,Report_Table!$A9) -> 0 | F9: =SUMIFS(ALL_WELLS!H$2:H$732,ALL_WELLS!$C$2:$C$732,Report_Table!$B9,ALL_WELLS!$A$2:$A$732,Report_Table!$A9) -> 0 | G9: =SUMIFS(ALL_WELLS!I$2:I$732,ALL_WELLS!$C$2:$C$732,Report_Table!$B9,ALL_WELLS!$A$2:$A$732,Report_Table!$A9) -> 0 | H9: =SUMIFS(ALL_WELLS!J$2:J$732,ALL_WELLS!$C$2:$C$732,Report_Table!$B9,ALL_WELLS!$A$2:$A$732,Report_Table!$A9) -> 0 | I9: =SUMIFS(ALL_WELLS!K$2:K$732,ALL_WELLS!$C$2:$C$732,Report_Table!$B9,ALL_WELLS!$A$2:$A$732,Report_Table!$A9) -> 980160 | J9: =SUMIFS(ALL_WELLS!L$2:L$732,ALL_WELLS!$C$2:$C$732,Report_Table!$B9,ALL_WELLS!$A$2:$A$732,Report_Table!$A9) -> 199000 | K9: =SUMIFS(ALL_WELLS!M$2:M$732,ALL_WELLS!$C$2:$C$732,Report_Table!$B9,ALL_WELLS!$A$2:$A$732,Report_Table!$A9) -> 0 | ... N9: =SUMIFS(ALL_WELLS!P$2:P$732,ALL_WELLS!$C$2:$C$732,Report_Table!$B9,ALL_WELLS!$A$2:$A$732,Report_Table!$A9) -> 8169054 | O9: =N9/7.48/43560 -> 25.071614
A10: 2015 | B10: 8 | C10: =COUNTIFS(ALL_WELLS!$C$2:$C$732,Report_Table!$B10,ALL_WELLS!$A$2:$A$732,Report_Table!$A10) -> 7 | D10: =SUMIFS(ALL_WELLS!F$2:F$732,ALL_WELLS!$C$2:$C$732,Report_Table!$B10,ALL_WELLS!$A$2:$A$732,Report_Table!$A10) -> 6955610 | E10: =SUMIFS(ALL_WELLS!G$2:G$732,ALL_WELLS!$C$2:$C$732,Report_Table!$B10,ALL_WELLS!$A$2:$A$732,Report_Table!$A10) -> 0 | F10: =SUMIFS(ALL_WELLS!H$2:H$732,ALL_WELLS!$C$2:$C$732,Report_Table!$B10,ALL_WELLS!$A$2:$A$732,Report_Table!$A10) -> 0 | G10: =SUMIFS(ALL_WELLS!I$2:I$732,ALL_WELLS!$C$2:$C$732,Report_Table!$B10,ALL_WELLS!$A$2:$A$732,Report_Table!$A10) -> 0 | H10: =SUMIFS(ALL_WELLS!J$2:J$732,ALL_WELLS!$C$2:$C$732,Report_Table!$B10,ALL_WELLS!$A$2:$A$732,Report_Table!$A10) -> 0 | I10: =SUMIFS(ALL_WELLS!K$2:K$732,ALL_WELLS!$C$2:$C$732,Report_Table!$B10,ALL_WELLS!$A$2:$A$732,Report_Table!$A10) -> 891270 | J10: =SUMIFS(ALL_WELLS!L$2:L$732,ALL_WELLS!$C$2:$C$732,Report_Table!$B10,ALL_WELLS!$A$2:$A$732,Report_Table!$A10) -> 318000 | K10: =SUMIFS(ALL_WELLS!M$2:M$732,ALL_WELLS!$C$2:$C$732,Report_Table!$B10,ALL_WELLS!$A$2:$A$732,Report_Table!$A10) -> 0 | ... N10: =SUMIFS(ALL_WELLS!P$2:P$732,ALL_WELLS!$C$2:$C$732,Report_Table!$B10,ALL_WELLS!$A$2:$A$732,Report_Table!$A10) -> 8164880 | O10: =N10/7.48/43560 -> 25.058804
A11: 2015 | B11: 9 | C11: =COUNTIFS(ALL_WELLS!$C$2:$C$732,Report_Table!$B11,ALL_WELLS!$A$2:$A$732,Report_Table!$A11) -> 7 | D11: =SUMIFS(ALL_WELLS!F$2:F$732,ALL_WELLS!$C$2:$C$732,Report_Table!$B11,ALL_WELLS!$A$2:$A$732,Report_Table!$A11) -> 6871054 | E11: =SUMIFS(ALL_WELLS!G$2:G$732,ALL_WELLS!$C$2:$C$732,Report_Table!$B11,ALL_WELLS!$A$2:$A$732,Report_Table!$A11) -> 0 | F11: =SUMIFS(ALL_WELLS!H$2:H$732,ALL_WELLS!$C$2:$C$732,Report_Table!$B11,ALL_WELLS!$A$2:$A$732,Report_Table!$A11) -> 0 | G11: =SUMIFS(ALL_WELLS!I$2:I$732,ALL_WELLS!$C$2:$C$732,Report_Table!$B11,ALL_WELLS!$A$2:$A$732,Report_Table!$A11) -> 0 | H11: =SUMIFS(ALL_WELLS!J$2:J$732,ALL_WELLS!$C$2:$C$732,Report_Table!$B11,ALL_WELLS!$A$2:$A$732,Report_Table!$A11) -> 0 | I11: =SUMIFS(ALL_WELLS!K$2:K$732,ALL_WELLS!$C$2:$C$732,Report_Table!$B11,ALL_WELLS!$A$2:$A$732,Report_Table!$A11) -> 542810 | J11: =SUMIFS(ALL_WELLS!L$2:L$732,ALL_WELLS!$C$2:$C$732,Report_Table!$B11,ALL_WELLS!$A$2:$A$732,Report_Table!$A11) -> 446000 | K11: =SUMIFS(ALL_WELLS!M$2:M$732,ALL_WELLS!$C$2:$C$732,Report_Table!$B11,ALL_WELLS!$A$2:$A$732,Report_Table!$A11) -> 0 | ... N11: =SUMIFS(ALL_WELLS!P$2:P$732,ALL_WELLS!$C$2:$C$732,Report_Table!$B11,ALL_WELLS!$A$2:$A$732,Report_Table!$A11) -> 7859864 | O11: =N11/7.48/43560 -> 24.12268
A12: 2015 | B12: 10 | C12: =COUNTIFS(ALL_WELLS!$C$2:$C$732,Report_Table!$B12,ALL_WELLS!$A$2:$A$732,Report_Table!$A12) -> 7 | D12: =SUMIFS(ALL_WELLS!F$2:F$732,ALL_WELLS!$C$2:$C$732,Report_Table!$B12,ALL_WELLS!$A$2:$A$732,Report_Table!$A12) -> 6922706 | E12: =SUMIFS(ALL_WELLS!G$2:G$732,ALL_WELLS!$C$2:$C$732,Report_Table!$B12,ALL_WELLS!$A$2:$A$732,Report_Table!$A12) -> 0 | F12: =SUMIFS(ALL_WELLS!H$2:H$732,ALL_WELLS!$C$2:$C$732,Report_Table!$B12,ALL_WELLS!$A$2:$A$732,Report_Table!$A12) -> 0 | G12: =SUMIFS(ALL_WELLS!I$2:I$732,ALL_WELLS!$C$2:$C$732,Report_Table!$B12,ALL_WELLS!$A$2:$A$732,Report_Table!$A12) -> 0 | H12: =SUMIFS(ALL_WELLS!J$2:J$732,ALL_WELLS!$C$2:$C$732,Report_Table!$B12,ALL_WELLS!$A$2:$A$732,Report_Table!$A12) -> 0 | I12: =SUMIFS(ALL_WELLS!K$2:K$732,ALL_WELLS!$C$2:$C$732,Report_Table!$B12,ALL_WELLS!$A$2:$A$732,Report_Table!$A12) -> 1108490 | J12: =SUMIFS(ALL_WELLS!L$2:L$732,ALL_WELLS!$C$2:$C$732,Report_Table!$B12,ALL_WELLS!$A$2:$A$732,Report_Table!$A12) -> 448000 | K12: =SUMIFS(ALL_WELLS!M$2:M$732,ALL_WELLS!$C$2:$C$732,Report_Table!$B12,ALL_WELLS!$A$2:$A$732,Report_Table!$A12) -> 0 | ... N12: =SUMIFS(ALL_WELLS!P$2:P$732,ALL_WELLS!$C$2:$C$732,Report_Table!$B12,ALL_WELLS!$A$2:$A$732,Report_Table!$A12) -> 8479196 | O12: =N12/7.48/43560 -> 26.02347
A13: 2015 | B13: 11 | C13: =COUNTIFS(ALL_WELLS!$C$2:$C$732,Report_Table!$B13,ALL_WELLS!$A$2:$A$732,Report_Table!$A13) -> 7 | D13: =SUMIFS(ALL_WELLS!F$2:F$732,ALL_WELLS!$C$2:$C$732,Report_Table!$B13,ALL_WELLS!$A$2:$A$732,Report_Table!$A13) -> 7416951 | E13: =SUMIFS(ALL_WELLS!G$2:G$732,ALL_WELLS!$C$2:$C$732,Report_Table!$B13,ALL_WELLS!$A$2:$A$732,Report_Table!$A13) -> 0 | F13: =SUMIFS(ALL_WELLS!H$2:H$732,ALL_WELLS!$C$2:$C$732,Report_Table!$B13,ALL_WELLS!$A$2:$A$732,Report_Table!$A13) -> 0 | G13: =SUMIFS(ALL_WELLS!I$2:I$732,ALL_WELLS!$C$2:$C$732,Report_Table!$B13,ALL_WELLS!$A$2:$A$732,Report_Table!$A13) -> 0 | H13: =SUMIFS(ALL_WELLS!J$2:J$732,ALL_WELLS!$C$2:$C$732,Report_Table!$B13,ALL_WELLS!$A$2:$A$732,Report_Table!$A13) -> 0 | I13: =SUMIFS(ALL_WELLS!K$2:K$732,ALL_WELLS!$C$2:$C$732,Report_Table!$B13,ALL_WELLS!$A$2:$A$732,Report_Table!$A13) -> 2851560 | J13: =SUMIFS(ALL_WELLS!L$2:L$732,ALL_WELLS!$C$2:$C$732,Report_Table!$B13,ALL_WELLS!$A$2:$A$732,Report_Table!$A13) -> 447000 | K13: =SUMIFS(ALL_WELLS!M$2:M$732,ALL_WELLS!$C$2:$C$732,Report_Table!$B13,ALL_WELLS!$A$2:$A$732,Report_Table!$A13) -> 0 | ... N13: =SUMIFS(ALL_WELLS!P$2:P$732,ALL_WELLS!$C$2:$C$732,Report_Table!$B13,ALL_WELLS!$A$2:$A$732,Report_Table!$A13) -> 10715511 | O13: =N13/7.48/43560 -> 32.886936
A14: 2015 | B14: 12 | C14: =COUNTIFS(ALL_WELLS!$C$2:$C$732,Report_Table!$B14,ALL_WELLS!$A$2:$A$732,Report_Table!$A14) -> 7 | D14: =SUMIFS(ALL_WELLS!F$2:F$732,ALL_WELLS!$C$2:$C$732,Report_Table!$B14,ALL_WELLS!$A$2:$A$732,Report_Table!$A14) -> 7749062 | E14: =SUMIFS(ALL_WELLS!G$2:G$732,ALL_WELLS!$C$2:$C$732,Report_Table!$B14,ALL_WELLS!$A$2:$A$732,Report_Table!$A14) -> 0 | F14: =SUMIFS(ALL_WELLS!H$2:H$732,ALL_WELLS!$C$2:$C$732,Report_Table!$B14,ALL_WELLS!$A$2:$A$732,Report_Table!$A14) -> 0 | G14: =SUMIFS(ALL_WELLS!I$2:I$732,ALL_WELLS!$C$2:$C$732,Report_Table!$B14,ALL_WELLS!$A$2:$A$732,Report_Table!$A14) -> 0 | H14: =SUMIFS(ALL_WELLS!J$2:J$732,ALL_WELLS!$C$2:$C$732,Report_Table!$B14,ALL_WELLS!$A$2:$A$732,Report_Table!$A14) -> 0 | I14: =SUMIFS(ALL_WELLS!K$2:K$732,ALL_WELLS!$C$2:$C$732,Report_Table!$B14,ALL_WELLS!$A$2:$A$732,Report_Table!$A14) -> 3829610 | J14: =SUMIFS(ALL_WELLS!L$2:L$732,ALL_WELLS!$C$2:$C$732,Report_Table!$B14,ALL_WELLS!$A$2:$A$732,Report_Table!$A14) -> 439000 | K14: =SUMIFS(ALL_WELLS!M$2:M$732,ALL_WELLS!$C$2:$C$732,Report_Table!$B14,ALL_WELLS!$A$2:$A$732,Report_Table!$A14) -> 0 | ... N14: =SUMIFS(ALL_WELLS!P$2:P$732,ALL_WELLS!$C$2:$C$732,Report_Table!$B14,ALL_WELLS!$A$2:$A$732,Report_Table!$A14) -> 12017672 | O14: =N14/7.48/43560 -> 36.883394
... A108: 2016 | B108: 53 | C108: =COUNTIFS(ALL_WELLS!$C$2:$C$732,Report_Table!$B108,ALL_WELLS!$A$2:$A$732,Report_Table!$A108) -> 7 | D108: =SUMIFS(ALL_WELLS!F$2:F$732,ALL_WELLS!$C$2:$C$732,Report_Table!$B108,ALL_WELLS!$A$2:$A$732,Report_Table!$A108) -> 7054988 | E108: =SUMIFS(ALL_WELLS!G$2:G$732,ALL_WELLS!$C$2:$C$732,Report_Table!$B108,ALL_WELLS!$A$2:$A$732,Report_Table!$A108) -> 0 | F108: =SUMIFS(ALL_WELLS!H$2:H$732,ALL_WELLS!$C$2:$C$732,Report_Table!$B108,ALL_WELLS!$A$2:$A$732,Report_Table!$A108) -> 0 | G108: =SUMIFS(ALL_WELLS!I$2:I$732,ALL_WELLS!$C$2:$C$732,Report_Table!$B108,ALL_WELLS!$A$2:$A$732,Report_Table!$A108) -> 0 | H108: =SUMIFS(ALL_WELLS!J$2:J$732,ALL_WELLS!$C$2:$C$732,Report_Table!$B108,ALL_WELLS!$A$2:$A$732,Report_Table!$A108) -> 0 | I108: =SUMIFS(ALL_WELLS!K$2:K$732,ALL_WELLS!$C$2:$C$732,Report_Table!$B108,ALL_WELLS!$A$2:$A$732,Report_Table!$A108) -> 1705000 | J108: =SUMIFS(ALL_WELLS!L$2:L$732,ALL_WELLS!$C$2:$C$732,Report_Table!$B108,ALL_WELLS!$A$2:$A$732,Report_Table!$A108) -> 389000 | K108: =SUMIFS(ALL_WELLS!M$2:M$732,ALL_WELLS!$C$2:$C$732,Report_Table!$B108,ALL_WELLS!$A$2:$A$732,Report_Table!$A108) -> 0 | ... N108: =SUMIFS(ALL_WELLS!P$2:P$732,ALL_WELLS!$C$2:$C$732,Report_Table!$B108,ALL_WELLS!$A$2:$A$732,Report_Table!$A108) -> 9148988 | O108: =N108/7.48/43560 -> 28.079126
G110: Total Volume Pumped
D111: Year | E111: Irrig. Max Wk | F111: Non Max Wk. | G111: Irrigation | H111: Non-irrig.
D112: All Well (Acre-Feet)
D113: 2015 | E113: =ALL_WELLS!V19 -> 261.60606 | F113: =ALL_WELLS!W19 -> 30.433639 | G113: =ALL_WELLS!X19 -> 5216.7098 | H113: =ALL_WELLS!Y19 -> 613.24424
D114: 2016 | E114: =ALL_WELLS!V20 -> 265.78916 | F114: =ALL_WELLS!W20 -> 28.079126 | G114: =ALL_WELLS!X20 -> 4928.4441 | H114: =ALL_WELLS!Y20 -> 590.33331

Sheet ALL_WELLS
A1: Year | B1: Month | C1: Week | D1: Day | E1: Date | F1: Well #1 | G1: Well #6 | H1: Well #9 | I1: Well #11 | J1: Well #12 | K1: Well #13 | L1: Well #14 | M1: Well #15 | N1: Farm Well | O1: Potable Total | P1: All Wells Total
A2: =YEAR(E2) -> 2015 | B2: =MONTH(E2) -> 1 | C2: =WEEKNUM(E2) -> 1 | D2: =DAY(E2) -> 1 | E2: 42005 | F2: ='Well #1'!D271 -> 960617 | G2: ='Well #6'!D271 -> 0 | H2: ='Well #9'!D201 -> 0 | I2: ='Well #11'!D275 -> 0 | J2: ='Well #12'!D276 -> 0 | K2: ='Well #13'!D276 -> 149780 | L2: ='Well #14'!D276 -> 0 | M2: ='Well #15'!D201 -> 0 | O2: =SUM(F2:M2) -> 1110397 | P2: =SUM(F2:N2) -> 1110397 | AD2: Total Volume Pumped
A3: =YEAR(E3) -> 2015 | B3: =MONTH(E3) -> 1 | C3: =WEEKNUM(E3) -> 1 | D3: =DAY(E3) -> 2 | E3: 42006 | F3: ='Well #1'!D272 -> 897288 | G3: ='Well #6'!D272 -> 0 | H3: ='Well #9'!D202 -> 0 | I3: ='Well #11'!D276 -> 0 | J3: ='Well #12'!D277 -> 0 | K3: ='Well #13'!D277 -> 136910 | L3: ='Well #14'!D277 -> 0 | M3: ='Well #15'!D202 -> 0 | O3: =SUM(F3:M3) -> 1034198 | P3: =SUM(F3:N3) -> 1034198 | AA3: Year | AB3: Max Week | AC3: Winter Max Week | AD3: Irrigation Season | AE3: Non-irrigation Season
A4: =YEAR(E4) -> 2015 | B4: =MONTH(E4) -> 1 | C4: =WEEKNUM(E4) -> 1 | D4: =DAY(E4) -> 3 | E4: 42007 | F4: ='Well #1'!D273 -> 1096352 | G4: ='Well #6'!D273 -> 0 | H4: ='Well #9'!D203 -> 0 | I4: ='Well #11'!D277 -> 0 | J4: ='Well #12'!D278 -> 0 | K4: ='Well #13'!D278 -> 230810 | L4: ='Well #14'!D278 -> 0 | M4: ='Well #15'!D203 -> 0 | O4: =SUM(F4:M4) -> 1327162 | P4: =SUM(F4:N4) -> 1327162 | R4: Row Labels | S4: Sum of Potable Total | T4: Sum of All Wells Total | U4: All Wells (gal) | AA4: All Wells (Acre-Feet)
A5: =YEAR(E5) -> 2015 | B5: =MONTH(E5) -> 1 | C5: =WEEKNUM(E5) -> 2 | D5: =DAY(E5) -> 4 | E5: 42008 | F5: ='Well #1'!D274 -> 1089502 | G5: ='Well #6'!D274 -> 0 | H5: ='Well #9'!D204 -> 0 | I5: ='Well #11'!D278 -> 0 | J5: ='Well #12'!D279 -> 0 | K5: ='Well #13'!D279 -> 317050 | L5: ='Well #14'!D279 -> 0 | M5: ='Well #15'!D204 -> 0 | O5: =SUM(F5:M5) -> 1406552 | P5: =SUM(F5:N5) -> 1406552 | R5: 2015 | S5: 1.6341769e+09 | T5: 1.8995669e+09 | X5: Total Volume Pumped | AA5: 2015 | AB5: =V19 -> 261.60606 | AC5: =W19 -> 30.433639 | AD5: =X19 -> 5216.7098 | AE5: =Y19 -> 613.24424
A6: =YEAR(E6) -> 2015 | B6: =MONTH(E6) -> 1 | C6: =WEEKNUM(E6) -> 2 | D6: =DAY(E6) -> 5 | E6: 42009 | F6: ='Well #1'!D275 -> 1051307 | G6: ='Well #6'!D275 -> 0 | H6: ='Well #9'!D205 -> 0 | I6: ='Well #11'!D279 -> 0 | J6: ='Well #12'!D280 -> 0 | K6: ='Well #13'!D280 -> 149570 | L6: ='Well #14'!D280 -> 0 | M6: ='Well #15'!D205 -> 0 | O6: =SUM(F6:M6) -> 1200877 | P6: =SUM(F6:N6) -> 1200877 | R6: 1 | S6: 3471757 | T6: 3471757 | V6: Max Week | W6: Winter Max Week | X6: Irrigation Season | Y6: Non-irrigation Season | AA6: 2016 | AB6: =V20 -> 265.78916 | AC6: =W20 -> 28.079126 | AD6: =X20 -> 4928.4441 | AE6: =Y20 -> 590.33331
A7: =YEAR(E7) -> 2015 | B7: =MONTH(E7) -> 1 | C7: =WEEKNUM(E7) -> 2 | D7: =DAY(E7) -> 6 | E7: 42010 | F7: ='Well #1'!D276 -> 1061768 | G7: ='Well #6'!D276 -> 0 | H7: ='Well #9'!D206 -> 0 | I7: ='Well #11'!D280 -> 0 | J7: ='Well #12'!D281 -> 0 | K7: ='Well #13'!D281 -> 352070 | L7: ='Well #14'!D281 -> 0 | M7: ='Well #15'!D206 -> 0 | O7: =SUM(F7:M7) -> 1413838 | P7: =SUM(F7:N7) -> 1413838 | R7: 2 | S7: 8821908 | T7: 8821908 | U7: 2015 | V7: =SUM(P180:P186) -> 85238789 | W7: =SUM(P334:P340) -> 9916156 | X7: =SUM(P92:P305) -> 1.6997543e+09 | Y7: =SUM(P2:P91,P306:P366) -> 1.9981264e+08
A8: =YEAR(E8) -> 2015 | B8: =MONTH(E8) -> 1 | C8: =WEEKNUM(E8) -> 2 | D8: =DAY(E8) -> 7 | E8: 42011 | F8: ='Well #1'!D277 -> 1015061 | G8: ='Well #6'!D277 -> 0 | H8: ='Well #9'!D207 -> 0 | I8: ='Well #11'!D281 -> 0 | J8: ='Well #12'!D282 -> 0 | K8: ='Well #13'!D282 -> 154860 | L8: ='Well #14'!D282 -> 0 | M8: ='Well #15'!D207 -> 0 | O8: =SUM(F8:M8) -> 1169921 | P8: =SUM(F8:N8) -> 1169921 | R8: 3 | S8: 8551641 | T8: 8551641 | U8: 2016 | V8: =SUM(P572:P578) -> 86601762 | W8: =SUM(P726:P732) -> 9148988 | X8: =SUM(P458:P671) -> 1.605829e+09 | Y8: =SUM(P367:P457,P672:P732) -> 1.9234759e+08
A9: =YEAR(E9) -> 2015 | B9: =MONTH(E9) -> 1 | C9: =WEEKNUM(E9) -> 2 | D9: =DAY(E9) -> 8 | E9: 42012 | F9: ='Well #1'!D278 -> 1043538 | G9: ='Well #6'!D278 -> 0 | H9: ='Well #9'!D208 -> 0 | I9: ='Well #11'!D282 -> 0 | J9: ='Well #12'!D283 -> 0 | K9: ='Well #13'!D283 -> 157220 | L9: ='Well #14'!D283 -> 0 | M9: ='Well #15'!D208 -> 0 | O9: =SUM(F9:M9) -> 1200758 | P9: =SUM(F9:N9) -> 1200758 | R9: 4 | S9: 8439625 | T9: 8439625
A10: =YEAR(E10) -> 2015 | B10: =MONTH(E10) -> 1 | C10: =WEEKNUM(E10) -> 2 | D10: =DAY(E10) -> 9 | E10: 42013 | F10: ='Well #1'!D279 -> 1236521 | G10: ='Well #6'!D279 -> 0 | H10: ='Well #9'!D209 -> 0 | I10: ='Well #11'!D283 -> 0 | J10: ='Well #12'!D284 -> 0 | K10: ='Well #13'!D284 -> 142720 | L10: ='Well #14'!D284 -> 0 | M10: ='Well #15'!D209 -> 0 | O10: =SUM(F10:M10) -> 1379241 | P10: =SUM(F10:N10) -> 1379241 | R10: 5 | S10: 8424641 | T10: 8424641 | U10: All Wells (MG)
A11: =YEAR(E11) -> 2015 | B11: =MONTH(E11) -> 1 | C11: =WEEKNUM(E11) -> 2 | D11: =DAY(E11) -> 10 | E11: 42014 | F11: ='Well #1'!D280 -> 888941 | G11: ='Well #6'!D280 -> 0 | H11: ='Well #9'!D210 -> 0 | I11: ='Well #11'!D284 -> 0 | J11: ='Well #12'!D285 -> 0 | K11: ='Well #13'!D285 -> 161780 | L11: ='Well #14'!D285 -> 0 | M11: ='Well #15'!D210 -> 0 | O11: =SUM(F11:M11) -> 1050721 | P11: =SUM(F11:N11) -> 1050721 | R11: 6 | S11: 8199173 | T11: 8199173 | X11: Total Volume Pumped
A12: =YEAR(E12) -> 2015 | B12: =MONTH(E12) -> 1 | C12: =WEEKNUM(E12) -> 3 | D12: =DAY(E12) -> 11 | E12: 42015 | F12: ='Well #1'!D281 -> 915369 | G12: ='Well #6'!D281 -> 0 | H12: ='Well #9'!D211 -> 0 | I12: ='Well #11'!D285 -> 0 | J12: ='Well #12'!D286 -> 0 | K12: ='Well #13'!D286 -> 474670 | L12: ='Well #14'!D286 -> 0 | M12: ='Well #15'!D211 -> 0 | O12: =SUM(F12:M12) -> 1390039 | P12: =SUM(F12:N12) -> 1390039 | R12: 7 | S12: 8169054 | T12: 8169054 | V12: Max Week | W12: Winter Max Week | X12: Irrigation Season | Y12: Non-irrigation Season
A13: =YEAR(E13) -> 2015 | B13: =MONTH(E13) -> 1 | C13: =WEEKNUM(E13) -> 3 | D13: =DAY(E13) -> 12 | E13: 42016 | F13: ='Well #1'!D282 -> 1026560 | G13: ='Well #6'!D282 -> 0 | H13: ='Well #9'!D212 -> 0 | I13: ='Well #11'!D286 -> 0 | J13: ='Well #12'!D287 -> 0 | K13: ='Well #13'!D287 -> 155280 | L13: ='Well #14'!D287 -> 0 | M13: ='Well #15'!D212 -> 0 | O13: =SUM(F13:M13) -> 1181840 | P13: =SUM(F13:N13) -> 1181840 | R13: 8 | S13: 8164880 | T13: 8164880 | U13: 2015 | V13: =V7/10^6 -> 85.238789 | W13: =W7/10^6 -> 9.916156 | X13: =X7/10^6 -> 1699.7543 | Y13: =Y7/10^6 -> 199.81264
A14: =YEAR(E14) -> 2015 | B14: =MONTH(E14) -> 1 | C14: =WEEKNUM(E14) -> 3 | D14: =DAY(E14) -> 13 | E14: 42017 | F14: ='Well #1'!D283 -> 1118617 | G14: ='Well #6'!D283 -> 0 | H14: ='Well #9'!D213 -> 0 | I14: ='Well #11'!D287 -> 0 | J14: ='Well #12'!D288 -> 0 | K14: ='Well #13'!D288 -> 132320 | L14: ='Well #14'!D288 -> 0 | M14: ='Well #15'!D213 -> 0 | O14: =SUM(F14:M14) -> 1250937 | P14: =SUM(F14:N14) -> 1250937 | R14: 9 | S14: 7859864 | T14: 7859864 | U14: 2016 | V14: =V8/10^6 -> 86.601762 | W14: =W8/10^6 -> 9.148988 | X14: =X8/10^6 -> 1605.829 | Y14: =Y8/10^6 -> 192.34759
A15: =YEAR(E15) -> 2015 | B15: =MONTH(E15) -> 1 | C15: =WEEKNUM(E15) -> 3 | D15: =DAY(E15) -> 14 | E15: 42018 | F15: ='Well #1'!D284 -> 1032696 | G15: ='Well #6'!D284 -> 0 | H15: ='Well #9'!D214 -> 0 | I15: ='Well #11'!D288 -> 0 | J15: ='Well #12'!D289 -> 0 | K15: ='Well #13'!D289 -> 202280 | L15: ='Well #14'!D289 -> 0 | M15: ='Well #15'!D214 -> 0 | O15: =SUM(F15:M15) -> 1234976 | P15: =SUM(F15:N15) -> 1234976 | R15: 10 | S15: 8479196 | T15: 8479196
A16: =YEAR(E16) -> 2015 | B16: =MONTH(E16) -> 1 | C16: =WEEKNUM(E16) -> 3 | D16: =DAY(E16) -> 15 | E16: 42019 | F16: ='Well #1'!D285 -> 968731 | G16: ='Well #6'!D285 -> 0 | H16: ='Well #9'!D215 -> 0 | I16: ='Well #11'!D289 -> 0 | J16: ='Well #12'!D290 -> 0 | K16: ='Well #13'!D290 -> 184840 | L16: ='Well #14'!D290 -> 0 | M16: ='Well #15'!D215 -> 0 | O16: =SUM(F16:M16) -> 1153571 | P16: =SUM(F16:N16) -> 1153571 | R16: 11 | S16: 10715511 | T16: 10715511 | U16: All Wells (AF)
A17: =YEAR(E17) -> 2015 | B17: =MONTH(E17) -> 1 | C17: =WEEKNUM(E17) -> 3 | D17: =DAY(E17) -> 16 | E17: 42020 | F17: ='Well #1'!D286 -> 962429 | G17: ='Well #6'!D286 -> 0 | H17: ='Well #9'!D216 -> 0 | I17: ='Well #11'!D290 -> 0 | J17: ='Well #12'!D291 -> 0 | K17: ='Well #13'!D291 -> 145610 | L17: ='Well #14'!D291 -> 0 | M17: ='Well #15'!D216 -> 0 | O17: =SUM(F17:M17) -> 1108039 | P17: =SUM(F17:N17) -> 1108039 | R17: 12 | S17: 12017672 | T17: 12017672 | X17: Total Volume Pumped
A18: =YEAR(E18) -> 2015 | B18: =MONTH(E18) -> 1 | C18: =WEEKNUM(E18) -> 3 | D18: =DAY(E18) -> 17 | E18: 42021 | F18: ='Well #1'!D287 -> 1051829 | G18: ='Well #6'!D287 -> 0 | H18: ='Well #9'!D217 -> 0 | I18: ='Well #11'!D291 -> 0 | J18: ='Well #12'!D292 -> 0 | K18: ='Well #13'!D292 -> 180410 | L18: ='Well #14'!D292 -> 0 | M18: ='Well #15'!D217 -> 0 | O18: =SUM(F18:M18) -> 1232239 | P18: =SUM(F18:N18) -> 1232239 | R18: 13 | S18: 15309250 | T18: 15309250 | V18: Max Week | W18: Winter Max Week | X18: Irrigation Season | Y18: Non-irrigation Season
A19: =YEAR(E19) -> 2015 | B19: =MONTH(E19) -> 1 | C19: =WEEKNUM(E19) -> 4 | D19: =DAY(E19) -> 18 | E19: 42022 | F19: ='Well #1'!D288 -> 1040576 | G19: ='Well #6'!D288 -> 0 | H19: ='Well #9'!D218 -> 0 | I19: ='Well #11'!D292 -> 0 | J19: ='Well #12'!D293 -> 0 | K19: ='Well #13'!D293 -> 149470 | L19: ='Well #14'!D293 -> 0 | M19: ='Well #15'!D218 -> 0 | O19: =SUM(F19:M19) -> 1190046 | P19: =SUM(F19:N19) -> 1190046 | R19: 14 | S19: 18722165 | T19: 18722165 | U19: 2015 | V19: =V7/7.48/43560 -> 261.60606 | W19: =W7/7.48/43560 -> 30.433639 | X19: =X7/7.48/43560 -> 5216.7098 | Y19: =Y7/7.48/43560 -> 613.24424
A20: =YEAR(E20) -> 2015 | B20: =MONTH(E20) -> 1 | C20: =WEEKNUM(E20) -> 4 | D20: =DAY(E20) -> 19 | E20: 42023 | F20: ='Well #1'!D289 -> 970607 | G20: ='Well #6'!D289 -> 0 | H20: ='Well #9'!D219 -> 0 | I20: ='Well #11'!D293 -> 0 | J20: ='Well #12'!D294 -> 0 | K20: ='Well #13'!D294 -> 356460 | L20: ='Well #14'!D294 -> 0 | M20: ='Well #15'!D219 -> 0 | O20: =SUM(F20:M20) -> 1327067 | P20: =SUM(F20:N20) -> 1327067 | R20: 15 | S20: 23112291 | T20: 29562291 | U20: 2016 | V20: =V8/7.48/43560 -> 265.78916 | W20: =W8/7.48/43560 -> 28.079126 | X20: =X8/7.48/43560 -> 4928.4441 | Y20: =Y8/7.48/43560 -> 590.33331
A21: =YEAR(E21) -> 2015 | B21: =MONTH(E21) -> 1 | C21: =WEEKNUM(E21) -> 4 | D21: =DAY(E21) -> 20 | E21: 42024 | F21: ='Well #1'!D290 -> 1066718 | G21: ='Well #6'!D290 -> 0 | H21: ='Well #9'!D220 -> 0 | I21: ='Well #11'!D294 -> 0 | J21: ='Well #12'!D295 -> 0 | K21: ='Well #13'!D295 -> 143920 | L21: ='Well #14'!D295 -> 0 | M21: ='Well #15'!D220 -> 0 | O21: =SUM(F21:M21) -> 1210638 | P21: =SUM(F21:N21) -> 1210638 | R21: 16 | S21: 26874146 | T21: 35794146
A22: =YEAR(E22) -> 2015 | B22: =MONTH(E22) -> 1 | C22: =WEEKNUM(E22) -> 4 | D22: =DAY(E22) -> 21 | E22: 42025 | F22: ='Well #1'!D291 -> 1021619 | G22: ='Well #6'!D291 -> 0 | H22: ='Well #9'!D221 -> 0 | I22: ='Well #11'!D295 -> 0 | J22: ='Well #12'!D296 -> 0 | K22: ='Well #13'!D296 -> 167840 | L22: ='Well #14'!D296 -> 0 | M22: ='Well #15'!D221 -> 0 | O22: =SUM(F22:M22) -> 1189459 | P22: =SUM(F22:N22) -> 1189459 | R22: 17 | S22: 35156841 | T22: 45226841
A23: =YEAR(E23) -> 2015 | B23: =MONTH(E23) -> 1 | C23: =WEEKNUM(E23) -> 4 | D23: =DAY(E23) -> 22 | E23: 42026 | F23: ='Well #1'!D292 -> 1097018 | G23: ='Well #6'!D292 -> 0 | H23: ='Well #9'!D222 -> 0 | I23: ='Well #11'!D296 -> 0 | J23: ='Well #12'!D297 -> 0 | K23: ='Well #13'!D297 -> 152670 | L23: ='Well #14'!D297 -> 0 | M23: ='Well #15'!D222 -> 0 | O23: =SUM(F23:M23) -> 1249688 | P23: =SUM(F23:N23) -> 1249688 | R23: 18 | S23: 41597306 | T23: 49917306
A24: =YEAR(E24) -> 2015 | B24: =MONTH(E24) -> 1 | C24: =WEEKNUM(E24) -> 4 | D24: =DAY(E24) -> 23 | E24: 42027 | F24: ='Well #1'!D293 -> 970759 | G24: ='Well #6'!D293 -> 0 | H24: ='Well #9'!D223 -> 0 | I24: ='Well #11'!D297 -> 0 | J24: ='Well #12'!D298 -> 0 | K24: ='Well #13'!D298 -> 156790 | L24: ='Well #14'!D298 -> 0 | M24: ='Well #15'!D223 -> 0 | O24: =SUM(F24:M24) -> 1127549 | P24: =SUM(F24:N24) -> 1127549 | R24: 19 | S24: 40108308 | T24: 42518308
A25: =YEAR(E25) -> 2015 | B25: =MONTH(E25) -> 1 | C25: =WEEKNUM(E25) -> 4 | D25: =DAY(E25) -> 24 | E25: 42028 | F25: ='Well #1'!D294 -> 1002878 | G25: ='Well #6'!D294 -> 0 | H25: ='Well #9'!D224 -> 0 | I25: ='Well #11'!D298 -> 0 | J25: ='Well #12'!D299 -> 0 | K25: ='Well #13'!D299 -> 142300 | L25: ='Well #14'!D299 -> 0 | M25: ='Well #15'!D224 -> 0 | O25: =SUM(F25:M25) -> 1145178 | P25: =SUM(F25:N25) -> 1145178 | R25: 20 | S25: 38921520 | T25: 47041520
A26: =YEAR(E26) -> 2015 | B26: =MONTH(E26) -> 1 | C26: =WEEKNUM(E26) -> 5 | D26: =DAY(E26) -> 25 | E26: 42029 | F26: ='Well #1'!D295 -> 1030546 | G26: ='Well #6'!D295 -> 0 | H26: ='Well #9'!D225 -> 0 | I26: ='Well #11'!D299 -> 0 | J26: ='Well #12'!D300 -> 0 | K26: ='Well #13'!D300 -> 153060 | L26: ='Well #14'!D300 -> 0 | M26: ='Well #15'!D225 -> 0 | O26: =SUM(F26:M26) -> 1183606 | P26: =SUM(F26:N26) -> 1183606 | R26: 21 | S26: 37143705 | T26: 47863705
A27: =YEAR(E27) -> 2015 | B27: =MONTH(E27) -> 1 | C27: =WEEKNUM(E27) -> 5 | D27: =DAY(E27) -> 26 | E27: 42030 | F27: ='Well #1'!D296 -> 1041795 | G27: ='Well #6'!D296 -> 0 | H27: ='Well #9'!D226 -> 0 | I27: ='Well #11'!D300 -> 0 | J27: ='Well #12'!D301 -> 0 | K27: ='Well #13'!D301 -> 200900 | L27: ='Well #14'!D301 -> 0 | M27: ='Well #15'!D226 -> 0 | O27: =SUM(F27:M27) -> 1242695 | P27: =SUM(F27:N27) -> 1242695 | R27: 22 | S27: 40839439 | T27: 42769439
A28: =YEAR(E28) -> 2015 | B28: =MONTH(E28) -> 1 | C28: =WEEKNUM(E28) -> 5 | D28: =DAY(E28) -> 27 | E28: 42031 | F28: ='Well #1'!D297 -> 991094 | G28: ='Well #6'!D297 -> 0 | H28: ='Well #9'!D227 -> 0 | I28: ='Well #11'!D301 -> 0 | J28: ='Well #12'!D302 -> 0 | K28: ='Well #13'!D302 -> 146640 | L28: ='Well #14'!D302 -> 0 | M28: ='Well #15'!D227 -> 0 | O28: =SUM(F28:M28) -> 1137734 | P28: =SUM(F28:N28) -> 1137734 | R28: 23 | S28: 43108087 | T28: 48348087
A29: =YEAR(E29) -> 2015 | B29: =MONTH(E29) -> 1 | C29: =WEEKNUM(E29) -> 5 | D29: =DAY(E29) -> 28 | E29: 42032 | F29: ='Well #1'!D298 -> 941956 | G29: ='Well #6'!D298 -> 0 | H29: ='Well #9'!D228 -> 0 | I29: ='Well #11'!D302 -> 0 | J29: ='Well #12'!D303 -> 0 | K29: ='Well #13'!D303 -> 146110 | L29: ='Well #14'!D303 -> 0 | M29: ='Well #15'!D228 -> 0 | O29: =SUM(F29:M29) -> 1088066 | P29: =SUM(F29:N29) -> 1088066 | R29: 24 | S29: 54113099 | T29: 58683099
A30: =YEAR(E30) -> 2015 | B30: =MONTH(E30) -> 1 | C30: =WEEKNUM(E30) -> 5 | D30: =DAY(E30) -> 29 | E30: 42033 | F30: ='Well #1'!D299 -> 1102494 | G30: ='Well #6'!D299 -> 0 | H30: ='Well #9'!D229 -> 0 | I30: ='Well #11'!D303 -> 0 | J30: ='Well #12'!D304 -> 0 | K30: ='Well #13'!D304 -> 153800 | L30: ='Well #14'!D304 -> 0 | M30: ='Well #15'!D229 -> 0 | O30: =SUM(F30:M30) -> 1256294 | P30: =SUM(F30:N30) -> 1256294 | R30: 25 | S30: 62905275 | T30: 75335275
A31: =YEAR(E31) -> 2015 | B31: =MONTH(E31) -> 1 | C31: =WEEKNUM(E31) -> 5 | D31: =DAY(E31) -> 30 | E31: 42034 | F31: ='Well #1'!D300 -> 1122012 | G31: ='Well #6'!D300 -> 0 | H31: ='Well #9'!D230 -> 0 | I31: ='Well #11'!D304 -> 0 | J31: ='Well #12'!D305 -> 0 | K31: ='Well #13'!D305 -> 154090 | L31: ='Well #14'!D305 -> 0 | M31: ='Well #15'!D230 -> 0 | O31: =SUM(F31:M31) -> 1276102 | P31: =SUM(F31:N31) -> 1276102 | R31: 26 | S31: 68712193 | T31: 83912193
A32: =YEAR(E32) -> 2015 | B32: =MONTH(E32) -> 1 | C32: =WEEKNUM(E32) -> 5 | D32: =DAY(E32) -> 31 | E32: 42035 | F32: ='Well #1'!D301 -> 952754 | G32: ='Well #6'!D301 -> 0 | H32: ='Well #9'!D231 -> 0 | I32: ='Well #11'!D305 -> 0 | J32: ='Well #12'!D306 -> 0 | K32: ='Well #13'!D306 -> 136390 | L32: ='Well #14'!D306 -> 151000 | M32: ='Well #15'!D231 -> 0 | O32: =SUM(F32:M32) -> 1240144 | P32: =SUM(F32:N32) -> 1240144 | R32: 27 | S32: 72368789 | T32: 85238789
A33: =YEAR(E33) -> 2015 | B33: =MONTH(E33) -> 2 | C33: =WEEKNUM(E33) -> 6 | D33: =DAY(E33) -> 1 | E33: 42036 | F33: ='Well #1'!G271 -> 892422 | G33: ='Well #6'!G271 -> 0 | H33: ='Well #9'!G201 -> 0 | I33: ='Well #11'!G275 -> 0 | J33: ='Well #12'!G276 -> 0 | K33: ='Well #13'!G276 -> 209660 | L33: ='Well #14'!G276 -> 25000 | M33: ='Well #15'!G201 -> 0 | O33: =SUM(F33:M33) -> 1127082 | P33: =SUM(F33:N33) -> 1127082 | R33: 28 | S33: 67842534 | T33: 83192534
A34: =YEAR(E34) -> 2015 | B34: =MONTH(E34) -> 2 | C34: =WEEKNUM(E34) -> 6 | D34: =DAY(E34) -> 2 | E34: 42037 | F34: ='Well #1'!G272 -> 1116489 | G34: ='Well #6'!G272 -> 0 | H34: ='Well #9'!G202 -> 0 | I34: ='Well #11'!G276 -> 0 | J34: ='Well #12'!G277 -> 0 | K34: ='Well #13'!G277 -> 151210 | L34: ='Well #14'!G277 -> 63000 | M34: ='Well #15'!G202 -> 0 | O34: =SUM(F34:M34) -> 1330699 | P34: =SUM(F34:N34) -> 1330699 | R34: 29 | S34: 61732477 | T34: 74022477
A35: =YEAR(E35) -> 2015 | B35: =MONTH(E35) -> 2 | C35: =WEEKNUM(E35) -> 6 | D35: =DAY(E35) -> 3 | E35: 42038 | F35: ='Well #1'!G273 -> 1039422 | G35: ='Well #6'!G273 -> 0 | H35: ='Well #9'!G203 -> 0 | I35: ='Well #11'!G277 -> 0 | J35: ='Well #12'!G278 -> 0 | K35: ='Well #13'!G278 -> 186580 | L35: ='Well #14'!G278 -> 0 | M35: ='Well #15'!G203 -> 0 | O35: =SUM(F35:M35) -> 1226002 | P35: =SUM(F35:N35) -> 1226002 | R35: 30 | S35: 62321570 | T35: 78091570
A36: =YEAR(E36) -> 2015 | B36: =MONTH(E36) -> 2 | C36: =WEEKNUM(E36) -> 6 | D36: =DAY(E36) -> 4 | E36: 42039 | F36: ='Well #1'!G274 -> 121060 | G36: ='Well #6'!G274 -> 0 | H36: ='Well #9'!G204 -> 0 | I36: ='Well #11'!G278 -> 0 | J36: ='Well #12'!G279 -> 0 | K36: ='Well #13'!G279 -> 0 | L36: ='Well #14'!G279 -> 0 | M36: ='Well #15'!G204 -> 0 | O36: =SUM(F36:M36) -> 121060 | P36: =SUM(F36:N36) -> 121060 | R36: 31 | S36: 64977728 | T36: 79737728
A37: =YEAR(E37) -> 2015 | B37: =MONTH(E37) -> 2 | C37: =WEEKNUM(E37) -> 6 | D37: =DAY(E37) -> 5 | E37: 42040 | F37: ='Well #1'!G275 -> 2039050 | G37: ='Well #6'!G275 -> 0 | H37: ='Well #9'!G205 -> 0 | I37: ='Well #11'!G279 -> 0 | J37: ='Well #12'!G280 -> 0 | K37: ='Well #13'!G280 -> 0 | L37: ='Well #14'!G280 -> 0 | M37: ='Well #15'!G205 -> 0 | O37: =SUM(F37:M37) -> 2039050 | P37: =SUM(F37:N37) -> 2039050 | R37: 32 | S37: 58233166 | T37: 72213166
A38: =YEAR(E38) -> 2015 | B38: =MONTH(E38) -> 2 | C38: =WEEKNUM(E38) -> 6 | D38: =DAY(E38) -> 6 | E38: 42041 | F38: ='Well #1'!G276 -> 1017028 | G38: ='Well #6'!G276 -> 0 | H38: ='Well #9'!G206 -> 0 | I38: ='Well #11'!G280 -> 0 | J38: ='Well #12'!G281 -> 0 | K38: ='Well #13'!G281 -> 130260 | L38: ='Well #14'!G281 -> 122000 | M38: ='Well #15'!G206 -> 0 | O38: =SUM(F38:M38) -> 1269288 | P38: =SUM(F38:N38) -> 1269288 | R38: 33 | S38: 59761059 | T38: 69751059
A39: =YEAR(E39) -> 2015 | B39: =MONTH(E39) -> 2 | C39: =WEEKNUM(E39) -> 6 | D39: =DAY(E39) -> 7 | E39: 42042 | F39: ='Well #1'!G277 -> 944482 | G39: ='Well #6'!G277 -> 0 | H39: ='Well #9'!G207 -> 0 | I39: ='Well #11'!G281 -> 0 | J39: ='Well #12'!G282 -> 0 | K39: ='Well #13'!G282 -> 141510 | L39: ='Well #14'!G282 -> 0 | M39: ='Well #15'!G207 -> 0 | O39: =SUM(F39:M39) -> 1085992 | P39: =SUM(F39:N39) -> 1085992 | R39: 34 | S39: 62270756 | T39: 78410756
A40: =YEAR(E40) -> 2015 | B40: =MONTH(E40) -> 2 | C40: =WEEKNUM(E40) -> 7 | D40: =DAY(E40) -> 8 | E40: 42043 | F40: ='Well #1'!G278 -> 1032865 | G40: ='Well #6'!G278 -> 0 | H40: ='Well #9'!G208 -> 0 | I40: ='Well #11'!G282 -> 0 | J40: ='Well #12'!G283 -> 0 | K40: ='Well #13'!G283 -> 159240 | L40: ='Well #14'!G283 -> 71000 | M40: ='Well #15'!G208 -> 0 | O40: =SUM(F40:M40) -> 1263105 | P40: =SUM(F40:N40) -> 1263105 | R40: 35 | S40: 61170623 | T40: 75430623
...

Sheet Well #1
B2: 39448 | E2: 39479 | H2: 39508 | K2: 39539 | N2: 39569 | Q2: 39600 | T2: 39630 | W2: 39661 | Z2: 39692 | AC2: 39722 | AF2: 39753 | AI2: 39783
B3: Date | C3: Meter | D3: Total Gallons Pumped | E3: Date | F3: Meter | G3: Total Gallons Pumped | H3: Date | I3: Meter | J3: Total Gallons Pumped | K3: Date | L3: Meter | M3: Total Gallons Pumped | N3: Date | O3: Meter | P3: Total Gallons Pumped | Q3: Date | R3: Meter | S3: Total Gallons Pumped | T3: Date | U3: Meter | V3: Total Gallons Pumped | W3: Date | X3: Meter | Y3: Total Gallons Pumped | Z3: Date | AA3: Meter | AB3: Total Gallons Pumped | AC3: Date | AD3: Meter | AE3: Total Gallons Pumped | AF3: Date | AG3: Meter | AH3: Total Gallons Pumped | AI3: Date | AJ3: Meter | AK3: Total Gallons Pumped
B5: 1 | C5: 678020699 | D5: =SUM(C6-C5) -> 972413 | E5: 1 | F5: 710327441 | G5: =SUM(F6-F5) -> 795135 | H5: 1 | I5: 736369951 | J5: =SUM(I6-I5) -> 805874 | K5: 1 | L5: 762798118 | M5: =SUM(L6-L5) -> 806758 | N5: 1 | O5: 777176335 | P5: =SUM(O6-O5) -> 0 | Q5: 1 | R5: 806523670 | S5: =SUM(R6-R5) -> 1753954 | T5: 1 | U5: 839890439 | V5: =SUM(U6-U5) -> 1172952 | W5: 1 | X5: 874969537 | Y5: =SUM(X6-X5) -> 1142446 | Z5: 1 | AA5: 909882195 | AB5: =SUM(AA6-AA5) -> 1170013 | AC5: 1 | AD5: 943610664 | AE5: =SUM(AD6-AD5) -> 1113012 | AF5: 1 | AG5: 979187961 | AH5: =SUM(AG6-AG5) -> 1308032 | AI5: 1 | AJ5: 9328412 | AK5: =SUM(AJ6-AJ5) -> 883907
B6: 2 | C6: 678993112 | D6: =SUM(C7-C6) -> 1175183 | E6: 2 | F6: 711122576 | G6: =SUM(F7-F6) -> 962561 | H6: 2 | I6: 737175825 | J6: =SUM(I7-I6) -> 882599 | K6: 2 | L6: 763604876 | M6: =SUM(L7-L6) -> 828113 | N6: 2 | O6: 777176335 | P6: =SUM(O7-O6) -> 0 | Q6: 2 | R6: 808277624 | S6: =SUM(R7-R6) -> 1204511 | T6: 2 | U6: 841063391 | V6: =SUM(U7-U6) -> 1167781 | W6: 2 | X6: 876111983 | Y6: =SUM(X7-X6) -> 1182316 | Z6: 2 | AA6: 911052208 | AB6: =SUM(AA7-AA6) -> 1138964 | AC6: 2 | AD6: 944723676 | AE6: =SUM(AD7-AD6) -> 1129314 | AF6: 2 | AG6: 980495993 | AH6: =SUM(AG7-AG6) -> 980091 | AI6: 2 | AJ6: 10212319 | AK6: =SUM(AJ7-AJ6) -> 983924
B7: 3 | C7: 680168295 | D7: =SUM(C8-C7) -> 1076495 | E7: 3 | F7: 712085137 | G7: =SUM(F8-F7) -> 825238 | H7: 3 | I7: 738058424 | J7: =SUM(I8-I7) -> 897878 | K7: 3 | L7: 764432989 | M7: =SUM(L8-L7) -> 955055 | N7: 3 | O7: 777176335 | P7: =SUM(O8-O7) -> 0 | Q7: 3 | R7: 809482135 | S7: =SUM(R8-R7) -> 1146245 | T7: 3 | U7: 842231172 | V7: =SUM(U8-U7) -> 1104789 | W7: 3 | X7: 877294299 | Y7: =SUM(X8-X7) -> 1075009 | Z7: 3 | AA7: 912191172 | AB7: =SUM(AA8-AA7) -> 1155965 | AC7: 3 | AD7: 945852990 | AE7: =SUM(AD8-AD7) -> 1188466 | AF7: 3 | AG7: 981476084 | AH7: =SUM(AG8-AG7) -> 1194909 | AI7: 3 | AJ7: 11196243 | AK7: =SUM(AJ8-AJ7) -> 767759
B8: 4 | C8: 681244790 | D8: =SUM(C9-C8) -> 1135517 | E8: 4 | F8: 712910375 | G8: =SUM(F9-F8) -> 917034 | H8: 4 | I8: 738956302 | J8: =SUM(I9-I8) -> 964775 | K8: 4 | L8: 765388044 | M8: =SUM(L9-L8) -> 752945 | N8: 4 | O8: 777176335 | P8: =SUM(O9-O8) -> 865899 | Q8: 4 | R8: 810628380 | S8: =SUM(R9-R8) -> 1231487 | T8: 4 | U8: 843335961 | V8: =SUM(U9-U8) -> 1126361 | W8: 4 | X8: 878369308 | Y8: =SUM(X9-X8) -> 1111438 | Z8: 4 | AA8: 913347137 | AB8: =SUM(AA9-AA8) -> 1167203 | AC8: 4 | AD8: 947041456 | AE8: =SUM(AD9-AD8) -> 1139288 | AF8: 4 | AG8: 982670993 | AH8: =SUM(AG9-AG8) -> 945257 | AI8: 4 | AJ8: 11964002 | AK8: =SUM(AJ9-AJ8) -> 931982
B9: 5 | C9: 682380307 | D9: =SUM(C10-C9) -> 1067012 | E9: 5 | F9: 713827409 | G9: =SUM(F10-F9) -> 1053886 | H9: 5 | I9: 739921077 | J9: =SUM(I10-I9) -> 828651 | K9: 5 | L9: 766140989 | M9: =SUM(L10-L9) -> 1030627 | N9: 5 | O9: 778042234 | P9: =SUM(O10-O9) -> 185742 | Q9: 5 | R9: 811859867 | S9: =SUM(R10-R9) -> 1172194 | T9: 5 | U9: 844462322 | V9: =SUM(U10-U9) -> 1092940 | W9: 5 | X9: 879480746 | Y9: =SUM(X10-X9) -> 1221545 | Z9: 5 | AA9: 914514340 | AB9: =SUM(AA10-AA9) -> 1005053 | AC9: 5 | AD9: 948180744 | AE9: =SUM(AD10-AD9) -> 1098906 | AF9: 5 | AG9: 983616250 | AH9: =SUM(AG10-AG9) -> 1099927 | AI9: 5 | AJ9: 12895984 | AK9: =SUM(AJ10-AJ9) -> 1024450
B10: 6 | C10: 683447319 | D10: =SUM(C11-C10) -> 911317 | E10: 6 | F10: 714881295 | G10: =SUM(F11-F10) -> 1000448 | H10: 6 | I10: 740749728 | J10: =SUM(I11-I10) -> 829906 | K10: 6 | L10: 767171616 | M10: =SUM(L11-L10) -> 1068238 | N10: 6 | O10: 778227976 | P10: =SUM(O11-O10) -> 684202 | Q10: 6 | R10: 813032061 | S10: =SUM(R11-R10) -> 1000776 | T10: 6 | U10: 845555262 | V10: =SUM(U11-U10) -> 1210438 | W10: 6 | X10: 880702291 | Y10: =SUM(X11-X10) -> 1028891 | Z10: 6 | AA10: 915519393 | AB10: =SUM(AA11-AA10) -> 1236714 | AC10: 6 | AD10: 949279650 | AE10: =SUM(AD11-AD10) -> 1179814 | AF10: 6 | AG10: 984716177 | AH10: =SUM(AG11-AG10) -> 1090588 | AI10: 6 | AJ10: 13920434 | AK10: =SUM(AJ11-AJ10) -> 946214
B11: 7 | C11: 684358636 | D11: =SUM(C12-C11) -> 996675 | E11: 7 | F11: 715881743 | G11: =SUM(F12-F11) -> 1025876 | H11: 7 | I11: 741579634 | J11: =SUM(I12-I11) -> 873704 | K11: 7 | L11: 768239854 | M11: =SUM(L12-L11) -> 928797 | N11: 7 | O11: 778912178 | P11: =SUM(O12-O11) -> 1161368 | Q11: 7 | R11: 814032837 | S11: =SUM(R12-R11) -> 1159948 | T11: 7 | U11: 846765700 | V11: =SUM(U12-U11) -> 1064639 | W11: 7 | X11: 881731182 | Y11: =SUM(X12-X11) -> 1120999 | Z11: 7 | AA11: 916756107 | AB11: =SUM(AA12-AA11) -> 1111369 | AC11: 7 | AD11: 950459464 | AE11: =SUM(AD12-AD11) -> 1107921 | AF11: 7 | AG11: 985806765 | AH11: =SUM(AG12-AG11) -> 925226 | AI11: 7 | AJ11: 14866648 | AK11: =SUM(AJ12-AJ11) -> 909136
B12: 8 | C12: 685355311 | D12: =SUM(C13-C12) -> 1029751 | E12: 8 | F12: 716907619 | G12: =SUM(F13-F12) -> 1008302 | H12: 8 | I12: 742453338 | J12: =SUM(I13-I12) -> 1007503 | K12: 8 | L12: 769168651 | M12: =SUM(L13-L12) -> 813302 | N12: 8 | O12: 780073546 | P12: =SUM(O13-O12) -> 1105805 | Q12: 8 | R12: 815192785 | S12: =SUM(R13-R12) -> 1268505 | T12: 8 | U12: 847830339 | V12: =SUM(U13-U12) -> 1134843 | W12: 8 | X12: 882852181 | Y12: =SUM(X13-X12) -> 1091661 | Z12: 8 | AA12: 917867476 | AB12: =SUM(AA13-AA12) -> 1106182 | AC12: 8 | AD12: 951567385 | AE12: =SUM(AD13-AD12) -> 1183074 | AF12: 8 | AG12: 986731991 | AH12: =SUM(AG13-AG12) -> 966349 | AI12: 8 | AJ12: 15775784 | AK12: =SUM(AJ13-AJ12) -> 849443
B13: 9 | C13: 686385062 | D13: =SUM(C14-C13) -> 1020940 | E13: 9 | F13: 717915921 | G13: =SUM(F14-F13) -> 808587 | H13: 9 | I13: 743460841 | J13: =SUM(I14-I13) -> 1014328 | K13: 9 | L13: 769981953 | M13: =SUM(L14-L13) -> 1005686 | N13: 9 | O13: 781179351 | P13: =SUM(O14-O13) -> 1182917 | Q13: 9 | R13: 816461290 | S13: =SUM(R14-R13) -> 1182958 | T13: 9 | U13: 848965182 | V13: =SUM(U14-U13) -> 1103250 | W13: 9 | X13: 883943842 | Y13: =SUM(X14-X13) -> 1169351 | Z13: 9 | AA13: 918973658 | AB13: =SUM(AA14-AA13) -> 1150939 | AC13: 9 | AD13: 952750459 | AE13: =SUM(AD14-AD13) -> 1139961 | AF13: 9 | AG13: 987698340 | AH13: =SUM(AG14-AG13) -> 1122645 | AI13: 9 | AJ13: 16625227 | AK13: =SUM(AJ14-AJ13) -> 1023107
B14: 10 | C14: 687406002 | D14: =SUM(C15-C14) -> 1182141 | E14: 10 | F14: 718724508 | G14: =SUM(F15-F14) -> 806779 | H14: 10 | I14: 744475169 | J14: =SUM(I15-I14) -> 864619 | K14: 10 | L14: 770987639 | M14: =SUM(L15-L14) -> 741572 | N14: 10 | O14: 782362268 | P14: =SUM(O15-O14) -> 1217997 | Q14: 10 | R14: 817644248 | S14: =SUM(R15-R14) -> 1223913 | T14: 10 | U14: 850068432 | V14: =SUM(U15-U14) -> 1185151 | W14: 10 | X14: 885113193 | Y14: =SUM(X15-X14) -> 1104478 | Z14: 10 | AA14: 920124597 | AB14: =SUM(AA15-AA14) -> 1150222 | AC14: 10 | AD14: 953890420 | AE14: =SUM(AD15-AD14) -> 1137483 | AF14: 10 | AG14: 988820985 | AH14: =SUM(AG15-AG14) -> 889791 | AI14: 10 | AJ14: 17648334 | AK14: =SUM(AJ15-AJ14) -> 981329
B15: 11 | C15: 688588143 | D15: =SUM(C16-C15) -> 1029627 | E15: 11 | F15: 719531287 | G15: =SUM(F16-F15) -> 885821 | H15: 11 | I15: 745339788 | J15: =SUM(I16-I15) -> 894408 | K15: 11 | L15: 771729211 | M15: =SUM(L16-L15) -> 867705 | N15: 11 | O15: 783580265 | P15: =SUM(O16-O15) -> 1087019 | Q15: 11 | R15: 818868161 | S15: =SUM(R16-R15) -> 1033726 | T15: 11 | U15: 851253583 | V15: =SUM(U16-U15) -> 1073695 | W15: 11 | X15: 886217671 | Y15: =SUM(X16-X15) -> 1144480 | Z15: 11 | AA15: 921274819 | AB15: =SUM(AA16-AA15) -> 1153300 | AC15: 11 | AD15: 955027903 | AE15: =SUM(AD16-AD15) -> 1132811 | AF15: 11 | AG15: 989710776 | AH15: =SUM(AG16-AG15) -> 1208366 | AI15: 11 | AJ15: 18629663 | AK15: =SUM(AJ16-AJ15) -> 1157964
B16: 12 | C16: 689617770 | D16: =SUM(C17-C16) -> 930936 | E16: 12 | F16: 720417108 | G16: =SUM(F17-F16) -> 778846 | H16: 12 | I16: 746234196 | J16: =SUM(I17-I16) -> 986629 | K16: 12 | L16: 772596916 | M16: =SUM(L17-L16) -> 1079006 | N16: 12 | O16: 784667284 | P16: =SUM(O17-O16) -> 1152011 | Q16: 12 | R16: 819901887 | S16: =SUM(R17-R16) -> 1175642 | T16: 12 | U16: 852327278 | V16: =SUM(U17-U16) -> 1205755 | W16: 12 | X16: 887362151 | Y16: =SUM(X17-X16) -> 1159876 | Z16: 12 | AA16: 922428119 | AB16: =SUM(AA17-AA16) -> 1107560 | AC16: 12 | AD16: 956160714 | AE16: =SUM(AD17-AD16) -> 1144114 | AF16: 12 | AG16: 990919142 | AH16: =SUM(AG17-AG16) -> 863928 | AI16: 12 | AJ16: 19787627 | AK16: =SUM(AJ17-AJ16) -> 1062819
... B33: 29 | C33: 707069359 | D33: =SUM(C34-C33) -> 1064014 | E33: 29 | F33: 735496545 | G33: =SUM(F34-F33) -> 873406 | H33: 29 | I33: 760275177 | J33: =SUM(I34-I33) -> 857953 | K33: 29 | L33: 777148086 | M33: =SUM(L34-L33) -> 28249 | N33: 29 | O33: 803611492 | P33: =SUM(O34-O33) -> 1194423 | Q33: 29 | R33: 837664403 | S33: =SUM(R34-R33) -> 1101914 | T33: 29 | U33: 871568911 | V33: =SUM(U34-U33) -> 1153680 | W33: 29 | X33: 906567032 | Y33: =SUM(X34-X33) -> 1022733 | Z33: 29 | AA33: 941348476 | AB33: =SUM(AA34-AA33) -> 1164684 | AC33: 29 | AD33: 975663985 | AE33: =SUM(AD34-AD33) -> 1191227 | AF33: 29 | AG33: 1007506431 | AH33: =SUM(AG34-AG33) -> 960363 | AI33: 29 | AJ33: 36927216 | AK33: =SUM(AJ34-AJ33) -> 1000778
B34: 30 | C34: 708133373 | D34: =SUM(C35-C34) -> 1125076 | F34: 736369951 | H34: 30 | I34: 761133130 | J34: =SUM(I35-I34) -> 726231 | K34: 30 | L34: 777176335 | M34: =SUM(L35-L34) -> 0 | N34: 30 | O34: 804805915 | P34: =SUM(O35-O34) -> 1211783 | Q34: 30 | R34: 838766317 | S34: =SUM(R35-R34) -> 1124122 | T34: 30 | U34: 872722591 | V34: =SUM(U35-U34) -> 1104656 | W34: 30 | X34: 907589765 | Y34: =SUM(X35-X34) -> 1236721 | Z34: 30 | AA34: 942513160 | AB34: =SUM(AA35-AA34) -> 1097504 | AC34: 30 | AD34: 976855212 | AE34: =SUM(AD35-AD34) -> 1135389 | AF34: 30 | AG34: 1008466794 | AH34: =SUM(AG35-AG34) -> 861618 | AI34: 30 | AJ34: 37927994 | AK34: =SUM(AJ35-AJ34) -> 1180250
B35: 31 | C35: 709258449 | D35: =SUM(C36-C35) -> 1068992 | H35: 31 | I35: 761859361 | J35: =SUM(I36-I35) -> 938757 | L35: 777176335 | N35: 31 | O35: 806017698 | P35: =SUM(O36-O35) -> 505972 | R35: 839890439 | T35: 31 | U35: 873827247 | V35: =SUM(U36-U35) -> 1142290 | W35: 31 | X35: 908826486 | Y35: =SUM(X36-X35) -> 1055709 | AA35: 943610664 | AC35: 31 | AD35: 977990601 | AE35: =SUM(AD36-AD35) -> 1197360 | AG35: 1009328412 | AI35: 31 | AJ35: 39108244 | AK35: =SUM(AJ36-AJ35) -> 1122031
C36: 710327441 | I36: 762798118 | O36: 806523670 | U36: 874969537 | X36: 909882195 | AD36: 979187961 | AJ36: 40230275
D37: 32306742 | G37: 25169104 | J37: 26428167 | M37: 14378217 | P37: 29347335 | S37: 33366769 | V37: 35079098 | Y37: 34912658 | AB37: 33728469 | AE37: 35577297 | AH37: 30140451 | AK37: 30901863
B40: 39814 | E40: 39845 | H40: 39873 | K40: 39904 | N40: 39934 | Q40: 39965 | T40: 39995 | W40: 40026 | Z40: 40057 | AC40: 40087 | AF40: 40118 | AI40: 40148
B41: Date | C41: Meter | D41: Total Gallons Pumped | E41: Date | F41: Meter | G41: Total Gallons Pumped | H41: Date | I41: Meter | J41: Total Gallons Pumped | K41: Date | L41: Meter | M41: Total Gallons Pumped | N41: Date | O41: Meter | P41: Total Gallons Pumped | Q41: Date | R41: Meter | S41: Total Gallons Pumped | T41: Date | U41: Meter | V41: Total Gallons Pumped | W41: Date | X41: Meter | Y41: Total Gallons Pumped | Z41: Date | AA41: Meter | AB41: Total Gallons Pumped | AC41: Date | AD41: Meter | AE41: Total Gallons Pumped | AF41: Date | AG41: Meter | AH41: Total Gallons Pumped | AI41: Date | AJ41: Meter | AK41: Total Gallons Pumped
B43: 1 | C43: 40230275 | D43: =SUM(C44-C43) -> 951667 | E43: 1 | F43: 69920801 | G43: =SUM(F44-F43) -> 983620 | H43: 1 | I43: 96880927 | J43: =SUM(I44-I43) -> 1144461 | K43: 1 | L43: 126883554 | M43: =SUM(L44-L43) -> 1181409 | N43: 1 | O43: 159345869 | P43: =SUM(O44-O43) -> 1163906 | Q43: 1 | R43: 195008690 | S43: =SUM(R44-R43) -> 1090242 | T43: 1 | U43: 224345872 | V43: =SUM(U44-U43) -> 1154395 | W43: 1 | X43: 259278683 | Y43: =SUM(X44-X43) -> 1112339 | Z43: 1 | AA43: 293519472 | AB43: =SUM(AA44-AA43) -> 1126397 | AC43: 1 | AD43: 327503547 | AE43: =SUM(AD44-AD43) -> 1205217 | AF43: 1 | AG43: 344574482 | AH43: =SUM(AG44-AG43) -> 1094880 | AI43: 1 | AJ43: 372259255 | AK43: =SUM(AJ44-AJ43) -> 41790
B44: 2 | C44: 41181942 | D44: =SUM(C45-C44) -> 864180 | E44: 2 | F44: 70904421 | G44: =SUM(F45-F44) -> 913635 | H44: 2 | I44: 98025388 | J44: =SUM(I45-I44) -> 1152611 | K44: 2 | L44: 128064963 | M44: =SUM(L45-L44) -> 1190432 | N44: 2 | O44: 160509775 | P44: =SUM(O45-O44) -> 1181863 | Q44: 2 | R44: 196098932 | S44: =SUM(R45-R44) -> 1171860 | T44: 2 | U44: 225500267 | V44: =SUM(U45-U44) -> 1158946 | W44: 2 | X44: 260391022 | Y44: =SUM(X45-X44) -> 1071145 | Z44: 2 | AA44: 294645869 | AB44: =SUM(AA45-AA44) -> 1145308 | AC44: 2 | AD44: 328708764 | AE44: =SUM(AD45-AD44) -> 1106414 | AF44: 2 | AG44: 345669362 | AH44: =SUM(AG45-AG44) -> 879339 | AI44: 2 | AJ44: 372301045 | AK44: =SUM(AJ45-AJ44) -> 656450
B45: 3 | C45: 42046122 | D45: =SUM(C46-C45) -> 946701 | E45: 3 | F45: 71818056 | G45: =SUM(F46-F45) -> 1000268 | H45: 3 | I45: 99177999 | J45: =SUM(I46-I45) -> 884177 | K45: 3 | L45: 129255395 | M45: =SUM(L46-L45) -> 958480 | N45: 3 | O45: 161691638 | P45: =SUM(O46-O45) -> 1092536 | Q45: 3 | R45: 197270792 | S45: =SUM(R46-R45) -> 1170178 | T45: 3 | U45: 226659213 | V45: =SUM(U46-U45) -> 1217594 | W45: 3 | X45: 261462167 | Y45: =SUM(X46-X45) -> 1066608 | Z45: 3 | AA45: 295791177 | AB45: =SUM(AA46-AA45) -> 1090346 | AC45: 3 | AD45: 329815178 | AE45: =SUM(AD46-AD45) -> 1101443 | AF45: 3 | AG45: 346548701 | AH45: =SUM(AG46-AG45) -> 1026543 | AI45: 3 | AJ45: 372957495 | AK45: =SUM(AJ46-AJ45) -> 648797
B46: 4 | C46: 42992823 | D46: =SUM(C47-C46) -> 830090 | E46: 4 | F46: 72818324 | G46: =SUM(F47-F46) -> 835938 | H46: 4 | I46: 100062176 | J46: =SUM(I47-I46) -> 937902 | K46: 4 | L46: 130213875 | M46: =SUM(L47-L46) -> 1243647 | N46: 4 | O46: 162784174 | P46: =SUM(O47-O46) -> 1172369 | Q46: 4 | R46: 198440970 | S46: =SUM(R47-R46) -> 1105220 | T46: 4 | U46: 227876807 | V46: =SUM(U47-U46) -> 1187272 | W46: 4 | X46: 262528775 | Y46: =SUM(X47-X46) -> 1139930 | Z46: 4 | AA46: 296881523 | AB46: =SUM(AA47-AA46) -> 1164174 | AC46: 4 | AD46: 330916621 | AE46: =SUM(AD47-AD46) -> 1177203 | AF46: 4 | AG46: 347575244 | AH46: =SUM(AG47-AG46) -> 640792 | AI46: 4 | AJ46: 373606292 | AK46: =SUM(AJ47-AJ46) -> 1081197
B47: 5 | C47: 43822913 | D47: =SUM(C48-C47) -> 937546 | E47: 5 | F47: 73654262 | G47: =SUM(F48-F47) -> 976028 | H47: 5 | I47: 101000078 | J47: =SUM(I48-I47) -> 895317 | K47: 5 | L47: 131457522 | M47: =SUM(L48-L47) -> 919069 | N47: 5 | O47: 163956543 | P47: =SUM(O48-O47) -> 1202912 | Q47: 5 | R47: 199546190 | S47: =SUM(R48-R47) -> 366368 | T47: 5 | U47: 229064079 | V47: =SUM(U48-U47) -> 1002169 | W47: 5 | X47: 263668705 | Y47: =SUM(X48-X47) -> 1063329 | Z47: 5 | AA47: 298045697 | AB47: =SUM(AA48-AA47) -> 1153727 | AC47: 5 | AD47: 332093824 | AE47: =SUM(AD48-AD47) -> 1139303 | AF47: 5 | AG47: 348216036 | AH47: =SUM(AG48-AG47) -> 888866 | AI47: 5 | AJ47: 374687489 | AK47: =SUM(AJ48-AJ47) -> 1026106
B48: 6 | C48: 44760459 | D48: =SUM(C49-C48) -> 1204833 | E48: 6 | F48: 74630290 | G48: =SUM(F49-F48) -> 1246331 | H48: 6 | I48: 101895395 | J48: =SUM(I49-I48) -> 905922 | K48: 6 | L48: 132376591 | M48: =SUM(L49-L48) -> 939283 | N48: 6 | O48: 165159455 | P48: =SUM(O49-O48) -> 1098026 | Q48: 6 | R48: 199912558 | S48: =SUM(R49-R48) -> 0 | T48: 6 | U48: 230066248 | V48: =SUM(U49-U48) -> 1134777 | W48: 6 | X48: 264732034 | Y48: =SUM(X49-X48) -> 1140528 | Z48: 6 | AA48: 299199424 | AB48: =SUM(AA49-AA48) -> 1115205 | AC48: 6 | AD48: 333233127 | AE48: =SUM(AD49-AD48) -> 1166965 | AF48: 6 | AG48: 349104902 | AH48: =SUM(AG49-AG48) -> 856401 | AI48: 6 | AJ48: 375713595 | AK48: =SUM(AJ49-AJ48) -> 820233
B49: 7 | C49: 45965292 | D49: =SUM(C50-C49) -> 854736 | E49: 7 | F49: 75876621 | G49: =SUM(F50-F49) -> 704072 | H49: 7 | I49: 102801317 | J49: =SUM(I50-I49) -> 1030160 | K49: 7 | L49: 133315874 | M49: =SUM(L50-L49) -> 1176091 | N49: 7 | O49: 166257481 | P49: =SUM(O50-O49) -> 1162372 | Q49: 7 | R49: 199912558 | S49: =SUM(R50-R49) -> 862663 | T49: 7 | U49: 231201025 | V49: =SUM(U50-U49) -> 1130040 | W49: 7 | X49: 265872562 | Y49: =SUM(X50-X49) -> 1118894 | Z49: 7 | AA49: 300314629 | AB49: =SUM(AA50-AA49) -> 1058770 | AC49: 7 | AD49: 334400092 | AE49: =SUM(AD50-AD49) -> 411150 | AF49: 7 | AG49: 349961303 | AH49: =SUM(AG50-AG49) -> 88009 | AI49: 7 | AJ49: 376533828 | AK49: =SUM(AJ50-AJ49) -> 810640
B50: 8 | C50: 46820028 | D50: =SUM(C51-C50) -> 954283 | E50: 8 | F50: 76580693 | G50: =SUM(F51-F50) -> 919262 | H50: 8 | I50: 103831477 | J50: =SUM(I51-I50) -> 931710 | K50: 8 | L50: 134491965 | M50: =SUM(L51-L50) -> 880377 | N50: 8 | O50: 167419853 | P50: =SUM(O51-O50) -> 1124137 | Q50: 8 | R50: 200775221 | S50: =SUM(R51-R50) -> 1094775 | T50: 8 | U50: 232331065 | V50: =SUM(U51-U50) -> 1287851 | W50: 8 | X50: 266991456 | Y50: =SUM(X51-X50) -> 1121643 | Z50: 8 | AA50: 301373399 | AB50: =SUM(AA51-AA50) -> 1192794 | AC50: 8 | AD50: 334811242 | AE50: =SUM(AD51-AD50) -> 310865 | AF50: 8 | AG50: 350049312 | AH50: =SUM(AG51-AG50) -> 1408605 | AI50: 8 | AJ50: 377344468 | AK50: =SUM(AJ51-AJ50) -> 700318
B51: 9 | C51: 47774311 | D51: =SUM(C52-C51) -> 911505 | E51: 9 | F51: 77499955 | G51: =SUM(F52-F51) -> 940729 | H51: 9 | I51: 104763187 | J51: =SUM(I52-I51) -> 1029602 | K51: 9 | L51: 135372342 | M51: =SUM(L52-L51) -> 634809 | N51: 9 | O51: 168543990 | P51: =SUM(O52-O51) -> 1220907 | Q51: 9 | R51: 201869996 | S51: =SUM(R52-R51) -> 1200907 | T51: 9 | U51: 233618916 | V51: =SUM(U52-U51) -> 1035806 | W51: 9 | X51: 268113099 | Y51: =SUM(X52-X51) -> 1175472 | Z51: 9 | AA51: 302566193 | AB51: =SUM(AA52-AA51) -> 1172019 | AC51: 9 | AD51: 335122107 | AE51: =SUM(AD52-AD51) -> 269617 | AF51: 9 | AG51: 351457917 | AH51: =SUM(AG52-AG51) -> 767086 | AI51: 9 | AJ51: 378044786 | AK51: =SUM(AJ52-AJ51) -> 1020053
B52: 10 | C52: 48685816 | D52: =SUM(C53-C52) -> 907344 | E52: 10 | F52: 78440684 | G52: =SUM(F53-F52) -> 906859 | H52: 10 | I52: 105792789 | J52: =SUM(I53-I52) -> 933942 | K52: 10 | L52: 136007151 | M52: =SUM(L53-L52) -> 667823 | N52: 10 | O52: 169764897 | P52: =SUM(O53-O52) -> 1142447 | Q52: 10 | R52: 203070903 | S52: =SUM(R53-R52) -> 1053649 | T52: 10 | U52: 234654722 | V52: =SUM(U53-U52) -> 1119641 | W52: 10 | X52: 269288571 | Y52: =SUM(X53-X52) -> 1155645 | Z52: 10 | AA52: 303738212 | AB52: =SUM(AA53-AA52) -> 1081296 | AC52: 10 | AD52: 335391724 | AE52: =SUM(AD53-AD52) -> 0 | AF52: 10 | AG52: 352225003 | AH52: =SUM(AG53-AG52) -> 1177736 | AI52: 10 | AJ52: 379064839 | AK52: =SUM(AJ53-AJ52) -> 1869345
B53: 11 | C53: 49593160 | D53: =SUM(C54-C53) -> 925411 | E53: 11 | F53: 79347543 | G53: =SUM(F54-F53) -> 987641 | H53: 11 | I53: 106726731 | J53: =SUM(I54-I53) -> 970873 | K53: 11 | L53: 136674974 | M53: =SUM(L54-L53) -> 1172262 | N53: 11 | O53: 170907344 | P53: =SUM(O54-O53) -> 1221384 | Q53: 11 | R53: 204124552 | S53: =SUM(R54-R53) -> 1029086 | T53: 11 | U53: 235774363 | V53: =SUM(U54-U53) -> 1113301 | W53: 11 | X53: 270444216 | Y53: =SUM(X54-X53) -> 1220091 | Z53: 11 | AA53: 304819508 | AB53: =SUM(AA54-AA53) -> 1098220 | AC53: 11 | AD53: 335391724 | AE53: =SUM(AD54-AD53) -> 0 | AF53: 11 | AG53: 353402739 | AH53: =SUM(AG54-AG53) -> 847421 | AI53: 11 | AJ53: 380934184 | AK53: =SUM(AJ54-AJ53) -> 41167
B54: 12 | C54: 50518571 | D54: =SUM(C55-C54) -> 875983 | E54: 12 | F54: 80335184 | G54: =SUM(F55-F54) -> 1030566 | H54: 12 | I54: 107697604 | J54: =SUM(I55-I54) -> 935076 | K54: 12 | L54: 137847236 | M54: =SUM(L55-L54) -> 1076252 | N54: 12 | O54: 172128728 | P54: =SUM(O55-O54) -> 1065247 | Q54: 12 | R54: 205153638 | S54: =SUM(R55-R54) -> 832110 | T54: 12 | U54: 236887664 | V54: =SUM(U55-U54) -> 1387995 | W54: 12 | X54: 271664307 | Y54: =SUM(X55-X54) -> 866192 | Z54: 12 | AA54: 305917728 | AB54: =SUM(AA55-AA54) -> 1133366 | AC54: 12 | AD54: 335391724 | AE54: =SUM(AD55-AD54) -> 70865 | AF54: 12 | AG54: 354250160 | AH54: =SUM(AG55-AG54) -> 1024124 | AI54: 12 | AJ54: 380975351 | AK54: =SUM(AJ55-AJ54) -> 875051
... B70: 28 | C70: 66085812 | D70: =SUM(C71-C70) -> 993362 | E70: 28 | F70: 95845402 | G70: =SUM(F71-F70) -> 1035525 | H70: 28 | I70: 123300580 | J70: =SUM(I71-I70) -> 1170180 | K70: 28 | L70: 155836856 | M70: =SUM(L71-L70) -> 1200365 | N70: 28 | O70: 190430271 | P70: =SUM(O71-O70) -> 1138916 | Q70: 28 | R70: 221085079 | S70: =SUM(R71-R70) -> 1035608 | T70: 28 | U70: 254744790 | V70: =SUM(U71-U70) -> 1236864 | W70: 28 | X70: 289247025 | Y70: =SUM(X71-X70) -> 1062011 | Z70: 28 | AA70: 324115995 | AB70: =SUM(AA71-AA70) -> 1110408 | AC70: 28 | AD70: 340803417 | AE70: =SUM(AD71-AD70) -> 851915 | AF70: 28 | AG70: 368715215 | AH70: =SUM(AG71-AG70) -> 890880 | AI70: 28 | AJ70: 392125063 | AK70: =SUM(AJ71-AJ70) -> 984425
B71: 29 | C71: 67079174 | D71: =SUM(C72-C71) -> 914970 | F71: 96880927 | H71: 29 | I71: 124470760 | J71: =SUM(I72-I71) -> 1005794 | K71: 29 | L71: 157037221 | M71: =SUM(L72-L71) -> 1143478 | N71: 29 | O71: 191569187 | P71: =SUM(O72-O71) -> 1128936 | Q71: 29 | R71: 222120687 | S71: =SUM(R72-R71) -> 1097376 | T71: 29 | U71: 255981654 | V71: =SUM(U72-U71) -> 980691 | W71: 29 | X71: 290309036 | Y71: =SUM(X72-X71) -> 1117731 | Z71: 29 | AA71: 325226403 | AB71: =SUM(AA72-AA71) -> 1180141 | AC71: 29 | AD71: 341655332 | AE71: =SUM(AD72-AD71) -> 797960 | AF71: 29 | AG71: 369606095 | AH71: =SUM(AG72-AG71) -> 657243 | AI71: 29 | AJ71: 393109488 | AK71: =SUM(AJ72-AJ71) -> 956423
B72: 30 | C72: 67994144 | D72: =SUM(C73-C72) -> 927341 | H72: 30 | I72: 125476554 | J72: =SUM(I73-I72) -> 1012572 | K72: 30 | L72: 158180699 | M72: =SUM(L73-L72) -> 1165170 | N72: 30 | O72: 192698123 | P72: =SUM(O73-O72) -> 1306588 | Q72: 30 | R72: 223218063 | S72: =SUM(R73-R72) -> 1127809 | T72: 30 | U72: 256962345 | V72: =SUM(U73-U72) -> 1189794 | W72: 30 | X72: 291426767 | Y72: =SUM(X73-X72) -> 1004908 | Z72: 30 | AA72: 326406544 | AB72: =SUM(AA73-AA72) -> 1097003 | AC72: 30 | AD72: 342453292 | AE72: =SUM(AD73-AD72) -> 1005282 | AF72: 30 | AG72: 370263338 | AH72: =SUM(AG73-AG72) -> 1995917 | AI72: 30 | AJ72: 394065911 | AK72: =SUM(AJ73-AJ72) -> 882870
B73: 31 | C73: 68921485 | D73: =SUM(C74-C73) -> 999316 | H73: 31 | I73: 126489126 | J73: =SUM(I74-I73) -> 394428 | L73: 159345869 | N73: 31 | O73: 194004711 | P73: =SUM(O74-O73) -> 1003979 | R73: 224345872 | T73: 31 | U73: 258152139 | V73: =SUM(U74-U73) -> 1126544 | W73: 31 | X73: 292431675 | Y73: =SUM(X74-X73) -> 1087797 | AA73: 327503547 | AC73: 31 | AD73: 343458574 | AE73: =SUM(AD74-AD73) -> 1115908 | AG73: 372259255 | AI73: 31 | AJ73: 394948781 | AK73: =SUM(AJ74-AJ73) -> 1120006
C74: 69920801 | I74: 126883554 | O74: 195008690 | U74: 259278683 | X74: 293519472 | AD74: 344574482 | AJ74: 396068787
D75: 29690526 | G75: 26960126 | J75: 30002627 | M75: 32462315 | P75: 35662821 | S75: 29337182 | V75: 34932811 | Y75: 34240789 | AB75: 33984075 | AE75: 17070935 | AH75: 27684773 | AK75: 23809532
