Workbook

Sheet Production Summary
A1: Client: | B1: City of Mountain Home
A2: Project: | B2: Water Rights - 2018 Annual Report
A3: Project No.: | B3: 214010-010
A4: Well Production Data
B6: Total Volume Pumped - All Wells (Gallons - rounded)
B7: Year | C7: Irrigation Season Max Week1 | D7: Non-irrigation Max Week1 | E7: Irrigation Season Total | F7: Non-irrigation Season Total | H7: Max Day Total | I7: Max Day Potable | J7: Max Day Farm
B8: 2018 | C8: =ROUND(MAX(F108:F321),-3) -> 85072000 | D8: =ROUND(MAX(F18:F107,F322:F382),-3) -> 11581000 | E8: =ROUND(SUM(E108:E321),-3) -> 1548190000 | F8: =ROUND(SUM(E18:E107)+SUM(E322:E382),-3) -> 183616000 | H8: =MAX(E18:E382) -> 13097913 | I8: =MAX(C18:C382) -> 11747913 | J8: =MAX(D18:D382) -> 1870000
B9: 1. Based on a 7 day rolling total.
H10: 7-day Running Toal | I10: Max Irrigation Season | J10: Max Non-Irrigation Season
B11: Total Volume Pumped - All Wells (Acre Feet) | I11: =MAX(F108:F321) -> 85071643 | J11: =MAX(F18:F107,F322:F382) -> 11581273
B12: Year | C12: Irrigation Season Max Week1 | D12: Non-irrigation Max Week1 | E12: Irrigation Season Total | F12: Non-irrigation Season Total | G12: Gal per ft3 | H12: ft2 per ac
B13: 2018 | C13: =C8/($G$13*$H$13) -> 261.07672 | D13: =D8/($G$13*$H$13) -> 35.54083 | E13: =E8/($G$13*$H$13) -> 4751.2268 | F13: =F8/($G$13*$H$13) -> 563.49754 | G13: 7.4805 | H13: 43560
B14: 1. Based on a 7 day rolling total.
B16: Irr Season | C16: Non-Irr Season Max Week | D16: Irr Season Max Week
A17: Day | B17: Day of Year | C17: Total Potable (gal) | D17: Farm Well (gal) | E17: Total Pumped (gal) | F17: 7 Day Running Total (gal) | G17: Calendar Week Total (Sunday - Saturday)
A18: 43101 | B18: 1 | C18: 1394542 | D18: 0 | E18: =C18+D18 -> 1394542 | F18: =SUM(E18:E24) -> 8592060 | H18: Monday
A19: 43102 | B19: 2 | C19: 1089680 | D19: 0 | E19: =C19+D19 -> 1089680 | F19: =SUM(E19:E25) -> 8394332 | H19: Tuesday
A20: 43103 | B20: 3 | C20: 1162370 | D20: 0 | E20: =C20+D20 -> 1162370 | F20: =SUM(E20:E26) -> 8622259 | H20: Wednesday
A21: 43104 | B21: 4 | C21: 1593143 | D21: 0 | E21: =C21+D21 -> 1593143 | F21: =SUM(E21:E27) -> 8592331 | H21: Thursday | K21: Irrigation Season 4/1 - 10/31
A22: 43105 | B22: 5 | C22: 1076170 | D22: 0 | E22: =C22+D22 -> 1076170 | F22: =SUM(E22:E28) -> 8203456 | H22: Friday | K22: Non Irrigation Season 1/1 - 3/31 & 11/1 - 12/31
A23: 43106 | B23: 6 | C23: 1063862 | D23: 0 | E23: =C23+D23 -> 1063862 | F23: =SUM(E23:E29) -> 8246275 | G23: =SUM(E18:E23) -> 7379767 | H23: Saturday | I23: Week 1 | K23: Calendar Week Check
A24: 43107 | B24: 7 | C24: 1212293 | D24: 0 | E24: =C24+D24 -> 1212293 | F24: =SUM(E24:E30) -> 8356789 | H24: Sunday | K24: Max Week Irr Season | L24: =MAX(G108:G321) -> 84158298
A25: 43108 | B25: 8 | C25: 1196814 | D25: 0 | E25: =C25+D25 -> 1196814 | F25: =SUM(E25:E31) -> 8252931 | H25: Monday | K25: Max Week Non-Irr Season | L25: =MAX(G18:G107,G322:G382) -> 13980787
A26: 43109 | B26: 9 | C26: 1317607 | D26: 0 | E26: =C26+D26 -> 1317607 | F26: =SUM(E26:E32) -> 8467045 | H26: Tuesday
A27: 43110 | B27: 10 | C27: 1132442 | D27: 0 | E27: =C27+D27 -> 1132442 | F27: =SUM(E27:E33) -> 8347522 | H27: Wednesday
A28: 43111 | B28: 11 | C28: 1204268 | D28: 0 | E28: =C28+D28 -> 1204268 | F28: =SUM(E28:E34) -> 8398925 | H28: Thursday
A29: 43112 | B29: 12 | C29: 1118989 | D29: 0 | E29: =C29+D29 -> 1118989 | F29: =SUM(E29:E35) -> 8468003 | H29: Friday
A30: 43113 | B30: 13 | C30: 1174376 | D30: 0 | E30: =C30+D30 -> 1174376 | F30: =SUM(E30:E36) -> 8559758 | G30: =SUM(E24:E30) -> 8356789 | H30: Saturday | I30: Week 2
A31: 43114 | B31: 14 | C31: 1108435 | D31: 0 | E31: =C31+D31 -> 1108435 | F31: =SUM(E31:E37) -> 8381454 | H31: Sunday
A32: 43115 | B32: 15 | C32: 1410928 | D32: 0 | E32: =C32+D32 -> 1410928 | F32: =SUM(E32:E38) -> 8539891 | H32: Monday
A33: 43116 | B33: 16 | C33: 1198084 | D33: 0 | E33: =C33+D33 -> 1198084 | F33: =SUM(E33:E39) -> 8385077 | H33: Tuesday
A34: 43117 | B34: 17 | C34: 1183845 | D34: 0 | E34: =C34+D34 -> 1183845 | F34: =SUM(E34:E40) -> 8376570 | H34: Wednesday
A35: 43118 | B35: 18 | C35: 1273346 | D35: 0 | E35: =C35+D35 -> 1273346 | F35: =SUM(E35:E41) -> 8321072 | H35: Thursday
A36: 43119 | B36: 19 | C36: 1210744 | D36: 0 | E36: =C36+D36 -> 1210744 | F36: =SUM(E36:E42) -> 8206330 | H36: Friday
A37: 43120 | B37: 20 | C37: 996072 | D37: 0 | E37: =C37+D37 -> 996072 | F37: =SUM(E37:E43) -> 8123610 | G37: =SUM(E31:E37) -> 8381454 | H37: Saturday | I37: Week 3
A38: 43121 | B38: 21 | C38: 1266872 | D38: 0 | E38: =C38+D38 -> 1266872 | F38: =SUM(E38:E44) -> 8121421 | H38: Sunday
A39: 43122 | B39: 22 | C39: 1256114 | D39: 0 | E39: =C39+D39 -> 1256114 | F39: =SUM(E39:E45) -> 8202469 | H39: Monday
A40: 43123 | B40: 23 | C40: 1189577 | D40: 0 | E40: =C40+D40 -> 1189577 | F40: =SUM(E40:E46) -> 8419334 | H40: Tuesday
A41: 43124 | B41: 24 | C41: 1128347 | D41: 0 | E41: =C41+D41 -> 1128347 | F41: =SUM(E41:E47) -> 8033658 | H41: Wednesday
A42: 43125 | B42: 25 | C42: 1158604 | D42: 0 | E42: =C42+D42 -> 1158604 | F42: =SUM(E42:E48) -> 8131966 | H42: Thursday
...

Sheet Farm Well Tracking
F4: Handlines Alfalfa | G4: Pivot 1 Alfalfa | H4: Pivot 2 Triticale | I4: Pivot 2 Corn | J4: Pivot 3 Alfalfa | K4: Total Farm Well
D5: 43191 | E5: 91 | F5: 0 | G5: 0 | H5: 0 | I5: 0 | J5: 0 | K5: =SUM(F5:J5) -> 0
D6: 43192 | E6: 92 | F6: 0 | G6: 0 | H6: 0 | I6: 0 | J6: 0 | K6: =SUM(F6:J6) -> 0
D7: 43193 | E7: 93 | F7: 0 | G7: 0 | H7: 0 | I7: 0 | J7: 0 | K7: =SUM(F7:J7) -> 0
D8: 43194 | E8: 94 | F8: 0 | G8: 0 | H8: 0 | I8: 0 | J8: 0 | K8: =SUM(F8:J8) -> 0
D9: 43195 | E9: 95 | F9: 0 | G9: 0 | H9: 0 | I9: 0 | J9: 0 | K9: =SUM(F9:J9) -> 0
D10: 43196 | E10: 96 | F10: 0 | G10: 0 | H10: 0 | I10: 0 | J10: 0 | K10: =SUM(F10:J10) -> 0
D11: 43197 | E11: 97 | F11: 0 | G11: 0 | H11: 0 | I11: 0 | J11: 0 | K11: =SUM(F11:J11) -> 0
D12: 43198 | E12: 98 | F12: 0 | G12: 0 | H12: 0 | I12: 0 | J12: 0 | K12: =SUM(F12:J12) -> 0
D13: 43199 | E13: 99 | F13: 0 | G13: 0 | H13: 0 | I13: 0 | J13: 0 | K13: =SUM(F13:J13) -> 0
D14: 43200 | E14: 100 | F14: 0 | G14: 0 | H14: 0 | I14: 0 | J14: 0 | K14: =SUM(F14:J14) -> 0
D15: 43201 | E15: 101 | F15: 0 | G15: 0 | H15: 0 | I15: 0 | J15: 0 | K15: =SUM(F15:J15) -> 0
D16: 43202 | E16: 102 | F16: 0 | G16: 0 | H16: 0 | I16: 0 | J16: 0 | K16: =SUM(F16:J16) -> 0
... D218: 43404 | E218: 304 | F218: 0 | G218: 0 | H218: 0 | I218: 0 | J218: 0 | K218: =SUM(F218:J218) -> 0
F219: =SUM(F5:F218) -> 0 | G219: =SUM(G5:G218) -> 2570000 | H219: =SUM(H5:H218) -> 0 | I219: =SUM(I5:I218) -> 24410000 | J219: =SUM(J5:J218) -> 126020000
