Workbook

Sheet Production Summary
A1: Client: | B1: City of Mountain Home
A2: Project: | B2: Water Rights - 2018 Annual Report
A3: Project No.: | B3: 214010-010
A4: Well Production Data
B6: Total Volume Pumped - All Wells (Gallons - rounded)
B7: Year | C7: Irrigation Season Max Week1 | D7: Non-irrigation Max Week1 | E7: Irrigation Season Total | F7: Non-irrigation Season Total | H7: Max Day Total | I7: Max Day Potable | J7: Max Day Farm
B8: 2018 | C8: =ROUND(MAX(F108:F321),-3) -> 85072000 | D8: =ROUND(MAX(F18:F107,F322:F382),-3) -> 11581000 | E8: =ROUND(SUM(E108:E321),-3) -> 1548190000 | F8: =ROUND(SUM(E18:E107)+SUM(E322:E382),-3) -> 183616000 | H8: =MAX(E18:E382) -> 13097913 | I8: =MAX(C18:C382) -> 11747913 | J8: =MAX(D18:D382) -> 1870000
B9: 1. Based on a 7 day rolling total.
H10: 7-day Running Toal | I10: Max Irrigation Season | J10: Max Non-Irrigation Season
B11: Total Volume Pumped - All Wells (Acre Feet) | I11: =MAX(F108:F321) -> 85071643 | J11: =MAX(F18:F107,F322:F382) -> 11581273
B12: Year | C12: Irrigation Season Max Week1 | D12: Non-irrigation Max Week1 | E12: Irrigation Season Total | F12: Non-irrigation Season Total | G12: Gal per ft3 | H12: ft2 per ac
B13: 2018 | C13: =C8/($G$13*$H$13) -> 261.07672 | D13: =D8/($G$13*$H$13) -> 35.54083 | E13: =E8/($G$13*$H$13) -> 4751.2268 | F13: =F8/($G$13*$H$13) -> 563.49754 | G13: 7.4805 | H13: 43560
B14: 1. Based on a 7 day rolling total.
B16: Irr Season | C16: Non-Irr Season Max Week | D16: Irr Season Max Week
A17: Day | B17: Day of Year | C17: Total Potable (gal) | D17: Farm Well (gal) | E17: Total Pumped (gal) | F17: 7 Day Running Total (gal) | G17: Calendar Week Total (Sunday - Saturday)
A18: 43101 | B18: 1 | C18: 1394542 | D18: 0 | E18: =C18+D18 -> 1394542 | F18: =SUM(E18:E24) -> 8592060 | H18: Monday
A19: 43102 | B19: 2 | C19: 1089680 | D19: 0 | E19: =C19+D19 -> 1089680 | F19: =SUM(E19:E25) -> 8394332 | H19: Tuesday
A20: 43103 | B20: 3 | C20: 1162370 | D20: 0 | E20: =C20+D20 -> 1162370 | F20: =SUM(E20:E26) -> 8622259 | H20: Wednesday
A21: 43104 | B21: 4 | C21: 1593143 | D21: 0 | E21: =C21+D21 -> 1593143 | F21: =SUM(E21:E27) -> 8592331 | H21: Thursday | K21: Irrigation Season 4/1 - 10/31
A22: 43105 | B22: 5 | C22: 1076170 | D22: 0 | E22: =C22+D22 -> 1076170 | F22: =SUM(E22:E28) -> 8203456 | H22: Friday | K22: Non Irrigation Season 1/1 - 3/31 & 11/1 - 12/31
A23: 43106 | B23: 6 | C23: 1063862 | D23: 0 | E23: =C23+D23 -> 1063862 | F23: =SUM(E23:E29) -> 8246275 | G23: =SUM(E18:E23) -> 7379767 | H23: Saturday | I23: Week 1 | K23: Calendar Week Check
A24: 43107 | B24: 7 | C24: 1212293 | D24: 0 | E24: =C24+D24 -> 1212293 | F24: =SUM(E24:E30) -> 8356789 | H24: Sunday | K24: Max Week Irr Season | L24: =MAX(G108:G321) -> 84158298
A25: 43108 | B25: 8 | C25: 1196814 | D25: 0 | E25: =C25+D25 -> 1196814 | F25: =SUM(E25:E31) -> 8252931 | H25: Monday | K25: Max Week Non-Irr Season | L25: =MAX(G18:G107,G322:G382) -> 13980787
A26: 43109 | B26: 9 | C26: 1317607 | D26: 0 | E26: =C26+D26 -> 1317607 | F26: =SUM(E26:E32) -> 8467045 | H26: Tuesday
A27: 43110 | B27: 10 | C27: 1132442 | D27: 0 | E27: =C27+D27 -> 1132442 | F27: =SUM(E27:E33) -> 8347522 | H27: Wednesday
A28: 43111 | B28: 11 | C28: 1204268 | D28: 0 | E28: =C28+D28 -> 1204268 | F28: =SUM(E28:E34) -> 8398925 | H28: Thursday
A29: 43112 | B29: 12 | C29: 1118989 | D29: 0 | E29: =C29+D29 -> 1118989 | F29: =SUM(E29:E35) -> 8468003 | H29: Friday
A30: 43113 | B30: 13 | C30: 1174376 | D30: 0 | E30: =C30+D30 -> 1174376 | F30: =SUM(E30:E36) -> 8559758 | G30: =SUM(E24:E30) -> 8356789 | H30: Saturday | I30: Week 2
A31: 43114 | B31: 14 | C31: 1108435 | D31: 0 | E31: =C31+D31 -> 1108435 | F31: =SUM(E31:E37) -> 8381454 | H31: Sunday
A32: 43115 | B32: 15 | C32: 1410928 | D32: 0 | E32: =C32+D32 -> 1410928 | F32: =SUM(E32:E38) -> 8539891 | H32: Monday
A33: 43116 | B33: 16 | C33: 1198084 | D33: 0 | E33: =C33+D33 -> 1198084 | F33: =SUM(E33:E39) -> 8385077 | H33: Tuesday
A34: 43117 | B34: 17 | C34: 1183845 | D34: 0 | E34: =C34+D34 -> 1183845 | F34: =SUM(E34:E40) -> 8376570 | H34: Wednesday
A35: 43118 | B35: 18 | C35: 1273346 | D35: 0 | E35: =C35+D35 -> 1273346 | F35: =SUM(E35:E41) -> 8321072 | H35: Thursday
A36: 43119 | B36: 19 | C36: 1210744 | D36: 0 | E36: =C36+D36 -> 1210744 | F36: =SUM(E36:E42) -> 8206330 | H36: Friday
A37: 43120 | B37: 20 | C37: 996072 | D37: 0 | E37: =C37+D37 -> 996072 | F37: =SUM(E37:E43) -> 8123610 | G37: =SUM(E31:E37) -> 8381454 | H37: Saturday | I37: Week 3
A38: 43121 | B38: 21 | C38: 1266872 | D38: 0 | E38: =C38+D38 -> 1266872 | F38: =SUM(E38:E44) -> 8121421 | H38: Sunday
A39: 43122 | B39: 22 | C39: 1256114 | D39: 0 | E39: =C39+D39 -> 1256114 | F39: =SUM(E39:E45) -> 8202469 | H39: Monday
A40: 43123 | B40: 23 | C40: 1189577 | D40: 0 | E40: =C40+D40 -> 1189577 | F40: =SUM(E40:E46) -> 8419334 | H40: Tuesday
A41: 43124 | B41: 24 | C41: 1128347 | D41: 0 | E41: =C41+D41 -> 1128347 | F41: =SUM(E41:E47) -> 8033658 | H41: Wednesday
A42: 43125 | B42: 25 | C42: 1158604 | D42: 0 | E42: =C42+D42 -> 1158604 | F42: =SUM(E42:E48) -> 8131966 | H42: Thursday
A43: 43126 | B43: 26 | C43: 1128024 | D43: 0 | E43: =C43+D43 -> 1128024 | F43: =SUM(E43:E49) -> 8118273 | H43: Friday
A44: 43127 | B44: 27 | C44: 993883 | D44: 0 | E44: =C44+D44 -> 993883 | F44: =SUM(E44:E50) -> 8344864 | G44: =SUM(E38:E44) -> 8121421 | H44: Saturday | I44: Week 4
A45: 43128 | B45: 28 | C45: 1347920 | D45: 0 | E45: =C45+D45 -> 1347920 | F45: =SUM(E45:E51) -> 8376623 | H45: Sunday
A46: 43129 | B46: 29 | C46: 1472979 | D46: 0 | E46: =C46+D46 -> 1472979 | F46: =SUM(E46:E52) -> 8356857 | H46: Monday
A47: 43130 | B47: 30 | C47: 803901 | D47: 0 | E47: =C47+D47 -> 803901 | F47: =SUM(E47:E53) -> 8275878 | H47: Tuesday
A48: 43131 | B48: 31 | C48: 1226655 | D48: 0 | E48: =C48+D48 -> 1226655 | F48: =SUM(E48:E54) -> 8834138 | H48: Wednesday
A49: 43132 | B49: 32 | C49: 1144911 | D49: 0 | E49: =C49+D49 -> 1144911 | F49: =SUM(E49:E55) -> 8601681 | H49: Thursday
A50: 43133 | B50: 33 | C50: 1354615 | D50: 0 | E50: =C50+D50 -> 1354615 | F50: =SUM(E50:E56) -> 8672878 | H50: Friday
A51: 43134 | B51: 34 | C51: 1025642 | D51: 0 | E51: =C51+D51 -> 1025642 | F51: =SUM(E51:E57) -> 8350138 | G51: =SUM(E45:E51) -> 8376623 | H51: Saturday | I51: Week 5
A52: 43135 | B52: 35 | C52: 1328154 | D52: 0 | E52: =C52+D52 -> 1328154 | F52: =SUM(E52:E58) -> 8516988 | H52: Sunday
A53: 43136 | B53: 36 | C53: 1392000 | D53: 0 | E53: =C53+D53 -> 1392000 | F53: =SUM(E53:E59) -> 8390781 | H53: Monday
A54: 43137 | B54: 37 | C54: 1362161 | D54: 0 | E54: =C54+D54 -> 1362161 | F54: =SUM(E54:E60) -> 8357754 | H54: Tuesday
A55: 43138 | B55: 38 | C55: 994198 | D55: 0 | E55: =C55+D55 -> 994198 | F55: =SUM(E55:E61) -> 8221110 | H55: Wednesday
A56: 43139 | B56: 39 | C56: 1216108 | D56: 0 | E56: =C56+D56 -> 1216108 | F56: =SUM(E56:E62) -> 8421188 | H56: Thursday
A57: 43140 | B57: 40 | C57: 1031875 | D57: 0 | E57: =C57+D57 -> 1031875 | F57: =SUM(E57:E63) -> 8283475 | H57: Friday
A58: 43141 | B58: 41 | C58: 1192492 | D58: 0 | E58: =C58+D58 -> 1192492 | F58: =SUM(E58:E64) -> 8134405 | G58: =SUM(E52:E58) -> 8516988 | H58: Saturday | I58: Week 6
A59: 43142 | B59: 42 | C59: 1201947 | D59: 0 | E59: =C59+D59 -> 1201947 | F59: =SUM(E59:E65) -> 8165182 | H59: Sunday
A60: 43143 | B60: 43 | C60: 1358973 | D60: 0 | E60: =C60+D60 -> 1358973 | F60: =SUM(E60:E66) -> 8119521 | H60: Monday
A61: 43144 | B61: 44 | C61: 1225517 | D61: 0 | E61: =C61+D61 -> 1225517 | F61: =SUM(E61:E67) -> 8025161 | H61: Tuesday
A62: 43145 | B62: 45 | C62: 1194276 | D62: 0 | E62: =C62+D62 -> 1194276 | F62: =SUM(E62:E68) -> 7944951 | H62: Wednesday
A63: 43146 | B63: 46 | C63: 1078395 | D63: 0 | E63: =C63+D63 -> 1078395 | F63: =SUM(E63:E69) -> 7992639 | H63: Thursday
A64: 43147 | B64: 47 | C64: 882805 | D64: 0 | E64: =C64+D64 -> 882805 | F64: =SUM(E64:E70) -> 8119140 | H64: Friday
A65: 43148 | B65: 48 | C65: 1223269 | D65: 0 | E65: =C65+D65 -> 1223269 | F65: =SUM(E65:E71) -> 8264310 | G65: =SUM(E59:E65) -> 8165182 | H65: Saturday | I65: Week 7
A66: 43149 | B66: 49 | C66: 1156286 | D66: 0 | E66: =C66+D66 -> 1156286 | F66: =SUM(E66:E72) -> 8264049 | H66: Sunday
A67: 43150 | B67: 50 | C67: 1264613 | D67: 0 | E67: =C67+D67 -> 1264613 | F67: =SUM(E67:E73) -> 8447928 | H67: Monday
A68: 43151 | B68: 51 | C68: 1145307 | D68: 0 | E68: =C68+D68 -> 1145307 | F68: =SUM(E68:E74) -> 8421972 | H68: Tuesday
A69: 43152 | B69: 52 | C69: 1241964 | D69: 0 | E69: =C69+D69 -> 1241964 | F69: =SUM(E69:E75) -> 8403328 | H69: Wednesday
A70: 43153 | B70: 53 | C70: 1204896 | D70: 0 | E70: =C70+D70 -> 1204896 | F70: =SUM(E70:E76) -> 8458865.1 | H70: Thursday
A71: 43154 | B71: 54 | C71: 1027975 | D71: 0 | E71: =C71+D71 -> 1027975 | F71: =SUM(E71:E77) -> 8310571.1 | H71: Friday
A72: 43155 | B72: 55 | C72: 1223008 | D72: 0 | E72: =C72+D72 -> 1223008 | F72: =SUM(E72:E78) -> 8568170.1 | G72: =SUM(E66:E72) -> 8264049 | H72: Saturday | I72: Week 8
A73: 43156 | B73: 56 | C73: 1340165 | D73: 0 | E73: =C73+D73 -> 1340165 | F73: =SUM(E73:E79) -> 8332082.1 | H73: Sunday
A74: 43157 | B74: 57 | C74: 1238657 | D74: 0 | E74: =C74+D74 -> 1238657 | F74: =SUM(E74:E80) -> 8175695.1 | H74: Monday
A75: 43158 | B75: 58 | C75: 1126663 | D75: 0 | E75: =C75+D75 -> 1126663 | F75: =SUM(E75:E81) -> 8204648.1 | H75: Tuesday
A76: 43159 | B76: 59 | C76: 1297501.1 | D76: 0 | E76: =C76+D76 -> 1297501.1 | F76: =SUM(E76:E82) -> 8377488.1 | H76: Wednesday
A77: 43160 | B77: 60 | C77: 1056602 | D77: 0 | E77: =C77+D77 -> 1056602 | F77: =SUM(E77:E83) -> 8405221 | H77: Thursday
A78: 43161 | B78: 61 | C78: 1285574 | D78: 0 | E78: =C78+D78 -> 1285574 | F78: =SUM(E78:E84) -> 8632702 | H78: Friday
A79: 43162 | B79: 62 | C79: 986920 | D79: 0 | E79: =C79+D79 -> 986920 | F79: =SUM(E79:E85) -> 8427484 | G79: =SUM(E73:E79) -> 8332082.1 | H79: Saturday | I79: Week 9
A80: 43163 | B80: 63 | C80: 1183778 | D80: 0 | E80: =C80+D80 -> 1183778 | F80: =SUM(E80:E86) -> 8585573 | H80: Sunday
A81: 43164 | B81: 64 | C81: 1267610 | D81: 0 | E81: =C81+D81 -> 1267610 | F81: =SUM(E81:E87) -> 8717693 | H81: Monday
A82: 43165 | B82: 65 | C82: 1299503 | D82: 0 | E82: =C82+D82 -> 1299503 | F82: =SUM(E82:E88) -> 8567762 | H82: Tuesday
A83: 43166 | B83: 66 | C83: 1325234 | D83: 0 | E83: =C83+D83 -> 1325234 | F83: =SUM(E83:E89) -> 8373974 | H83: Wednesday
A84: 43167 | B84: 67 | C84: 1284083 | D84: 0 | E84: =C84+D84 -> 1284083 | F84: =SUM(E84:E90) -> 8168284 | H84: Thursday
A85: 43168 | B85: 68 | C85: 1080356 | D85: 0 | E85: =C85+D85 -> 1080356 | F85: =SUM(E85:E91) -> 8069614 | H85: Friday
A86: 43169 | B86: 69 | C86: 1145009 | D86: 0 | E86: =C86+D86 -> 1145009 | F86: =SUM(E86:E92) -> 8274475 | G86: =SUM(E80:E86) -> 8585573 | H86: Saturday | I86: Week 10
A87: 43170 | B87: 70 | C87: 1315898 | D87: 0 | E87: =C87+D87 -> 1315898 | F87: =SUM(E87:E93) -> 8255345 | H87: Sunday
A88: 43171 | B88: 71 | C88: 1117679 | D88: 0 | E88: =C88+D88 -> 1117679 | F88: =SUM(E88:E94) -> 8377973 | H88: Monday
A89: 43172 | B89: 72 | C89: 1105715 | D89: 0 | E89: =C89+D89 -> 1105715 | F89: =SUM(E89:E95) -> 8534135 | H89: Tuesday
A90: 43173 | B90: 73 | C90: 1119544 | D90: 0 | E90: =C90+D90 -> 1119544 | F90: =SUM(E90:E96) -> 8539431 | H90: Wednesday
A91: 43174 | B91: 74 | C91: 1185413 | D91: 0 | E91: =C91+D91 -> 1185413 | F91: =SUM(E91:E97) -> 8670655 | H91: Thursday
A92: 43175 | B92: 75 | C92: 1285217 | D92: 0 | E92: =C92+D92 -> 1285217 | F92: =SUM(E92:E98) -> 8509454 | H92: Friday
A93: 43176 | B93: 76 | C93: 1125879 | D93: 0 | E93: =C93+D93 -> 1125879 | F93: =SUM(E93:E99) -> 8756428 | G93: =SUM(E87:E93) -> 8255345 | H93: Saturday | I93: Week 11
A94: 43177 | B94: 77 | C94: 1438526 | D94: 0 | E94: =C94+D94 -> 1438526 | F94: =SUM(E94:E100) -> 9101503 | H94: Sunday
A95: 43178 | B95: 78 | C95: 1273841 | D95: 0 | E95: =C95+D95 -> 1273841 | F95: =SUM(E95:E101) -> 8910899 | H95: Monday
A96: 43179 | B96: 79 | C96: 1111011 | D96: 0 | E96: =C96+D96 -> 1111011 | F96: =SUM(E96:E102) -> 8765584 | H96: Tuesday
A97: 43180 | B97: 80 | C97: 1250768 | D97: 0 | E97: =C97+D97 -> 1250768 | F97: =SUM(E97:E103) -> 8982203 | H97: Wednesday
A98: 43181 | B98: 81 | C98: 1024212 | D98: 0 | E98: =C98+D98 -> 1024212 | F98: =SUM(E98:E104) -> 9571530 | H98: Thursday
A99: 43182 | B99: 82 | C99: 1532191 | D99: 0 | E99: =C99+D99 -> 1532191 | F99: =SUM(E99:E105) -> 9837838 | H99: Friday
A100: 43183 | B100: 83 | C100: 1470954 | D100: 0 | E100: =C100+D100 -> 1470954 | F100: =SUM(E100:E106) -> 9519960 | G100: =SUM(E94:E100) -> 9101503 | H100: Saturday | I100: Week 12
A101: 43184 | B101: 84 | C101: 1247922 | D101: 0 | E101: =C101+D101 -> 1247922 | F101: =SUM(E101:E107) -> 9651503 | H101: Sunday
A102: 43185 | B102: 85 | C102: 1128526 | D102: 0 | E102: =C102+D102 -> 1128526 | F102: =SUM(E102:E108) -> 9885142 | H102: Monday
...

Sheet Farm Well Tracking
F4: Handlines Alfalfa | G4: Pivot 1 Alfalfa | H4: Pivot 2 Triticale | I4: Pivot 2 Corn | J4: Pivot 3 Alfalfa | K4: Total Farm Well
D5: 43191 | E5: 91 | F5: 0 | G5: 0 | H5: 0 | I5: 0 | J5: 0 | K5: =SUM(F5:J5) -> 0
D6: 43192 | E6: 92 | F6: 0 | G6: 0 | H6: 0 | I6: 0 | J6: 0 | K6: =SUM(F6:J6) -> 0
D7: 43193 | E7: 93 | F7: 0 | G7: 0 | H7: 0 | I7: 0 | J7: 0 | K7: =SUM(F7:J7) -> 0
D8: 43194 | E8: 94 | F8: 0 | G8: 0 | H8: 0 | I8: 0 | J8: 0 | K8: =SUM(F8:J8) -> 0
D9: 43195 | E9: 95 | F9: 0 | G9: 0 | H9: 0 | I9: 0 | J9: 0 | K9: =SUM(F9:J9) -> 0
D10: 43196 | E10: 96 | F10: 0 | G10: 0 | H10: 0 | I10: 0 | J10: 0 | K10: =SUM(F10:J10) -> 0
D11: 43197 | E11: 97 | F11: 0 | G11: 0 | H11: 0 | I11: 0 | J11: 0 | K11: =SUM(F11:J11) -> 0
D12: 43198 | E12: 98 | F12: 0 | G12: 0 | H12: 0 | I12: 0 | J12: 0 | K12: =SUM(F12:J12) -> 0
D13: 43199 | E13: 99 | F13: 0 | G13: 0 | H13: 0 | I13: 0 | J13: 0 | K13: =SUM(F13:J13) -> 0
D14: 43200 | E14: 100 | F14: 0 | G14: 0 | H14: 0 | I14: 0 | J14: 0 | K14: =SUM(F14:J14) -> 0
D15: 43201 | E15: 101 | F15: 0 | G15: 0 | H15: 0 | I15: 0 | J15: 0 | K15: =SUM(F15:J15) -> 0
D16: 43202 | E16: 102 | F16: 0 | G16: 0 | H16: 0 | I16: 0 | J16: 0 | K16: =SUM(F16:J16) -> 0
... D218: 43404 | E218: 304 | F218: 0 | G218: 0 | H218: 0 | I218: 0 | J218: 0 | K218: =SUM(F218:J218) -> 0
F219: =SUM(F5:F218) -> 0 | G219: =SUM(G5:G218) -> 2570000 | H219: =SUM(H5:H218) -> 0 | I219: =SUM(I5:I218) -> 24410000 | J219: =SUM(J5:J218) -> 126020000
