Workbook
Name the_units: [1]Main!$C$22
Name the_year: [1]Main!$C$19

Sheet 2020 Production Summary
A1: Client: | B1: City of Mountain Home
A2: Project: | B2: Water Rights - 2019 Annual Report
A3: Project No.: | B3: 214010-010
A5: 2020 Well Production Data
B7: Volume Diverted - All Wells (Gallons - rounded)
B8: Year | C8: Irrigation Season Max Week1 | D8: Non-irrigation Max Week1 | E8: Irrigation Season Total | F8: Non-irrigation Season Total
B9: 2020
B10: 1. Based on a 7 day rolling total.
B12: Volume Diverted - All Wells (Acre Feet)
B13: Year | C13: Irrigation Season Max Week1 | D13: Non-irrigation Max Week1 | E13: Irrigation Season Total | F13: Non-irrigation Season Total | H13: Gal per ft3 | I13: ft2 per ac
B14: 2020 | H14: 7.4805 | I14: 43560
B15: 1. Based on a 7 day rolling total.
A18: Day | B18: Day of Year | C18: Total Potable (gal) | D18: Farm Well (gal) | E18: Total Pumped (gal) | F18: 7 Day Running Total (gal)
A19: 43831 | B19: 1 | C19: ='City Raw Data'!P5 -> 1170110 | D19: 0 | E19: =C19+D19 -> 1170110 | F19: =SUM(E19:E25) -> 8236925
A20: 43832 | B20: 2 | C20: ='City Raw Data'!P6 -> 1051255 | D20: 0 | E20: =C20+D20 -> 1051255 | F20: =SUM(E20:E26) -> 8130793 | K20: Irrigation Season 4/1 - 10/31
A21: 43833 | B21: 3 | C21: ='City Raw Data'!P7 -> 1299593 | D21: 0 | E21: =C21+D21 -> 1299593 | F21: =SUM(E21:E27) -> 8129073 | K21: Non Irrigation Season 1/1 - 3/31 & 11/1 - 12/31
A22: 43834 | B22: 4 | C22: ='City Raw Data'!P8 -> 1050580 | D22: 0 | E22: =C22+D22 -> 1050580 | F22: =SUM(E22:E28) -> 8136383
A23: 43835 | B23: 5 | C23: ='City Raw Data'!P9 -> 1370095 | D23: 0 | E23: =C23+D23 -> 1370095 | F23: =SUM(E23:E29) -> 8345042
A24: 43836 | B24: 6 | C24: ='City Raw Data'!P10 -> 962376 | D24: 0 | E24: =C24+D24 -> 962376 | F24: =SUM(E24:E30) -> 8229563
A25: 43837 | B25: 7 | C25: ='City Raw Data'!P11 -> 1332916 | D25: 0 | E25: =C25+D25 -> 1332916 | F25: =SUM(E25:E31) -> 8594422
A26: 43838 | B26: 8 | C26: ='City Raw Data'!P12 -> 1063978 | D26: 0 | E26: =C26+D26 -> 1063978 | F26: =SUM(E26:E32) -> 8239508
A27: 43839 | B27: 9 | C27: ='City Raw Data'!P13 -> 1049535 | D27: 0 | E27: =C27+D27 -> 1049535 | F27: =SUM(E27:E33) -> 8133378
A28: 43840 | B28: 10 | C28: ='City Raw Data'!P14 -> 1306903 | D28: 0 | E28: =C28+D28 -> 1306903 | F28: =SUM(E28:E34) -> 8448274
A29: 43841 | B29: 11 | C29: ='City Raw Data'!P15 -> 1259239 | D29: 0 | E29: =C29+D29 -> 1259239 | F29: =SUM(E29:E35) -> 8182496
A30: 43842 | B30: 12 | C30: ='City Raw Data'!P16 -> 1254616 | D30: 0 | E30: =C30+D30 -> 1254616 | F30: =SUM(E30:E36) -> 8133457
A31: 43843 | B31: 13 | C31: ='City Raw Data'!P17 -> 1327235 | D31: 0 | E31: =C31+D31 -> 1327235 | F31: =SUM(E31:E37) -> 7937601
A32: 43844 | B32: 14 | C32: ='City Raw Data'!P18 -> 978002 | D32: 0 | E32: =C32+D32 -> 978002 | F32: =SUM(E32:E38) -> 7919956
A33: 43845 | B33: 15 | C33: ='City Raw Data'!P19 -> 957848 | D33: 0 | E33: =C33+D33 -> 957848 | F33: =SUM(E33:E39) -> 7917991
... A109: 43921 | B109: 91 | C109: ='City Raw Data'!P95 -> 1765855 | D109: 0 | E109: =C109+D109 -> 1765855 | F109: =SUM(E109:E115) -> 12940107
A110: 43922 | B110: 92 | C110: ='City Raw Data'!P96 -> 1581345 | D110: ='Farm Well'!G5 -> 0 | E110: =C110+D110 -> 1581345 | F110: =SUM(E110:E116) -> 14025481
A111: 43923 | B111: 93 | C111: ='City Raw Data'!P97 -> 1763227 | D111: ='Farm Well'!G6 -> 0 | E111: =C111+D111 -> 1763227 | F111: =SUM(E111:E117) -> 15722711
A112: 43924 | B112: 94 | C112: ='City Raw Data'!P98 -> 1583641 | D112: ='Farm Well'!G7 -> 0 | E112: =C112+D112 -> 1583641 | F112: =SUM(E112:E118) -> 18411558
A113: 43925 | B113: 95 | C113: ='City Raw Data'!P99 -> 2369335 | D113: ='Farm Well'!G8 -> 0 | E113: =C113+D113 -> 2369335 | F113: =SUM(E113:E119) -> 20875798
A114: 43926 | B114: 96 | C114: ='City Raw Data'!P100 -> 2109529 | D114: ='Farm Well'!G9 -> 0 | E114: =C114+D114 -> 2109529 | F114: =SUM(E114:E120) -> 22097860
A115: 43927 | B115: 97 | C115: ='City Raw Data'!P101 -> 1767175 | D115: ='Farm Well'!G10 -> 0 | E115: =C115+D115 -> 1767175 | F115: =SUM(E115:E121) -> 23247361
A116: 43928 | B116: 98 | C116: ='City Raw Data'!P102 -> 2851229 | D116: ='Farm Well'!G11 -> 0 | E116: =C116+D116 -> 2851229 | F116: =SUM(E116:E122) -> 24910703
A117: 43929 | B117: 99 | C117: ='City Raw Data'!P103 -> 3278575 | D117: ='Farm Well'!G12 -> 0 | E117: =C117+D117 -> 3278575 | F117: =SUM(E117:E123) -> 28021331
A118: 43930 | B118: 100 | C118: ='City Raw Data'!P104 -> 3632074 | D118: ='Farm Well'!G13 -> 820000 | E118: =C118+D118 -> 4452074 | F118: =SUM(E118:E124) -> 28667244
A119: 43931 | B119: 101 | C119: ='City Raw Data'!P105 -> 3047881 | D119: ='Farm Well'!G14 -> 1000000 | E119: =C119+D119 -> 4047881 | F119: =SUM(E119:E125) -> 28319445
A120: 43932 | B120: 102 | C120: ='City Raw Data'!P106 -> 2811397 | D120: ='Farm Well'!G15 -> 780000 | E120: =C120+D120 -> 3591397 | F120: =SUM(E120:E126) -> 28644555
A121: 43933 | B121: 103 | C121: ='City Raw Data'!P107 -> 3259030 | D121: ='Farm Well'!G16 -> 0 | E121: =C121+D121 -> 3259030 | F121: =SUM(E121:E127) -> 30469576
... A323: 44135 | B323: 305 | C323: ='City Raw Data'!P309 -> 1319902 | D323: ='Farm Well'!G218 -> 0 | E323: =C323+D323 -> 1319902 | F323: =SUM(E323:E329) -> 12361532
A324: 44136 | B324: 306 | C324: ='City Raw Data'!P310 -> 2138849 | D324: 0 | E324: =C324+D324 -> 2138849 | F324: =SUM(E324:E330) -> 12354474
A325: 44137 | B325: 307 | C325: ='City Raw Data'!P311 -> 1621100 | D325: 0 | E325: =C325+D325 -> 1621100 | F325: =SUM(E325:E331) -> 12286124
A326: 44138 | B326: 308 | C326: ='City Raw Data'!P312 -> 1699048 | D326: 0 | E326: =C326+D326 -> 1699048 | F326: =SUM(E326:E332) -> 12021958
A327: 44139 | B327: 309 | C327: ='City Raw Data'!P313 -> 2122847 | D327: 0 | E327: =C327+D327 -> 2122847 | F327: =SUM(E327:E333) -> 11724955
A328: 44140 | B328: 310 | C328: ='City Raw Data'!P314 -> 1322338 | D328: 0 | E328: =C328+D328 -> 1322338 | F328: =SUM(E328:E334) -> 10826095
A329: 44141 | B329: 311 | C329: ='City Raw Data'!P315 -> 2137448 | D329: 0 | E329: =C329+D329 -> 2137448 | F329: =SUM(E329:E335) -> 10616472
A330: 44142 | B330: 312 | C330: ='City Raw Data'!P316 -> 1312844 | D330: 0 | E330: =C330+D330 -> 1312844 | F330: =SUM(E330:E336) -> 9763414
A331: 44143 | B331: 313 | C331: ='City Raw Data'!P317 -> 2070499 | D331: 0 | E331: =C331+D331 -> 2070499 | F331: =SUM(E331:E337) -> 9543325
A332: 44144 | B332: 314 | C332: ='City Raw Data'!P318 -> 1356934 | D332: 0 | E332: =C332+D332 -> 1356934 | F332: =SUM(E332:E338) -> 8830826
A333: 44145 | B333: 315 | C333: ='City Raw Data'!P319 -> 1402045 | D333: 0 | E333: =C333+D333 -> 1402045 | F333: =SUM(E333:E339) -> 8554473
A334: 44146 | B334: 316 | C334: ='City Raw Data'!P320 -> 1223987 | D334: 0 | E334: =C334+D334 -> 1223987 | F334: =SUM(E334:E340) -> 8702929
A335: 44147 | B335: 317 | C335: ='City Raw Data'!P321 -> 1112715 | D335: 0 | E335: =C335+D335 -> 1112715 | F335: =SUM(E335:E341) -> 8598781
... A378: 44190 | B378: 360 | C378: ='City Raw Data'!P364 -> 1146535 | D378: 0 | E378: =C378+D378 -> 1146535 | F378: =SUM(E378:E384) -> 8331375
A379: 44191 | B379: 361 | C379: ='City Raw Data'!P365 -> 1112256 | D379: 0 | E379: =C379+D379 -> 1112256
A380: 44192 | B380: 362 | C380: ='City Raw Data'!P366 -> 1348370 | D380: 0 | E380: =C380+D380 -> 1348370
A381: 44193 | B381: 363 | C381: ='City Raw Data'!P367 -> 1112406 | D381: 0 | E381: =C381+D381 -> 1112406
A382: 44194 | B382: 364 | C382: ='City Raw Data'!P368 -> 1118657 | D382: 0 | E382: =C382+D382 -> 1118657
A383: 44195 | B383: 365 | C383: ='City Raw Data'!P369 -> 1339068 | D383: 0 | E383: =C383+D383 -> 1339068
A384: 44196 | B384: 366 | C384: ='City Raw Data'!P370 -> 1154083 | D384: 0 | E384: =C384+D384 -> 1154083
B385: Total Check | C385: =SUM(C19:C384) -> 1633782959 | D385: =SUM(D19:D384) -> 108820000
C386: =IF(C385='City Raw Data'!P371,"ok","Not ok") -> ok | D386: =IF(D385='Farm Well'!I5,"ok","Not ok") -> ok

Sheet Farm Well
A2: Fram Well Production from City
B4: Day | C4: Handlines (Alfalfa) | D4: Pivot 1 (Alfalfa) | E4: Pivot 2 (Triticale) | F4: Pivot 2 (corn) | G4: Pivot 3 (Alfalfa) | I4: Total
B5: 43922 | C5: 0 | D5: 0 | E5: 0 | F5: 0 | G5: 0 | I5: =SUM(G5:G218) -> 108820000 | J5: Gal
B6: 43923 | C6: 0 | D6: 0 | E6: 0 | F6: 0 | G6: 0 | I6: =I5/10^6 -> 108.82 | J6: MG
B7: 43924 | C7: 0 | D7: 0 | E7: 0 | F7: 0 | G7: 0
B8: 43925 | C8: 0 | D8: 0 | E8: 0 | F8: 0 | G8: 0
B9: 43926 | C9: 0 | D9: 0 | E9: 0 | F9: 0 | G9: 0
B10: 43927 | C10: 0 | D10: 0 | E10: 0 | F10: 0 | G10: 0
B11: 43928 | C11: 0 | D11: 0 | E11: 0 | F11: 0 | G11: 0
B12: 43929 | C12: 0 | D12: 0 | E12: 0 | F12: 0 | G12: 0
B13: 43930 | C13: 0 | D13: 0 | E13: 0 | F13: 0 | G13: 820000
B14: 43931 | C14: 0 | D14: 0 | E14: 0 | F14: 0 | G14: 1000000
B15: 43932 | C15: 0 | D15: 0 | E15: 0 | F15: 0 | G15: 780000
B16: 43933 | C16: 0 | D16: 0 | E16: 0 | F16: 0 | G16: 0
B17: 43934 | C17: 0 | D17: 0 | E17: 0 | F17: 0 | G17: 0
B18: 43935 | C18: 0 | D18: 0 | E18: 0 | F18: 0 | G18: 1010000
... B218: 44135 | C218: 0 | D218: 0 | E218: 0 | F218: 0 | G218: 0

Sheet City Raw Data
C2: Potable Well Production from City | R2: FALSE
A4: ="Day of Year " & the_year -> Day of Year 2020 | B4: Daily System Flow | C4: Units | D4: Weekday | F4: ="Day of Year " & the_year -> Day of Year 2020 | G4: #1 | H4: #6 | I4: #9 | J4: #11 | K4: #12 | L4: #13 | M4: #14 | N4: #15 | O4: #16 | P4: Total Day | Q4: Total Day Keller Check | R4: Check
A5: =DATEVALUE("1 Jan " & the_year) -> 43831 | B5: 1170110 | C5: =the_units -> USG (US gallons) | D5: =VLOOKUP(WEEKDAY(A5),[1]weekday!$A$2:$B$8,2,0) -> Wed | E5: 1 | F5: =DATEVALUE("1 Jan " & the_year) -> 43831 | G5: 903766 | H5: 0 | I5: 0 | J5: 0 | K5: 0 | L5: 190000 | M5: 0 | N5: 0 | O5: 76344 | P5: =SUM(G5:O5) -> 1170110 | Q5: =SUM(G5:O5) -> 1170110 | R5: =P5=Q5 -> TRUE
A6: =A5+1 -> 43832 | B6: 1051255 | C6: =the_units -> USG (US gallons) | D6: =VLOOKUP(WEEKDAY(A6),[1]weekday!$A$2:$B$8,2,0) -> Thu | E6: 2 | F6: =F5+1 -> 43832 | G6: 975255 | H6: 0 | I6: 0 | J6: 0 | K6: 0 | L6: 0 | M6: 76000 | N6: 0 | O6: 0 | P6: =SUM(G6:O6) -> 1051255 | Q6: =SUM(G6:O6) -> 1051255 | R6: =P6=Q6 -> TRUE
A7: =A6+1 -> 43833 | B7: 1299593 | C7: =the_units -> USG (US gallons) | D7: =VLOOKUP(WEEKDAY(A7),[1]weekday!$A$2:$B$8,2,0) -> Fri | E7: 3 | F7: =F6+1 -> 43833 | G7: 951971 | H7: 0 | I7: 0 | J7: 0 | K7: 0 | L7: 191000 | M7: 79000 | N7: 0 | O7: 77622 | P7: =SUM(G7:O7) -> 1299593 | Q7: =SUM(G7:O7) -> 1299593 | R7: =P7=Q7 -> TRUE
A8: =A7+1 -> 43834 | B8: 1050580 | C8: =the_units -> USG (US gallons) | D8: =VLOOKUP(WEEKDAY(A8),[1]weekday!$A$2:$B$8,2,0) -> Sat | E8: 4 | F8: =F7+1 -> 43834 | G8: 961580 | H8: 0 | I8: 0 | J8: 0 | K8: 0 | L8: 0 | M8: 89000 | N8: 0 | O8: 0 | P8: =SUM(G8:O8) -> 1050580 | Q8: =SUM(G8:O8) -> 1050580 | R8: =P8=Q8 -> TRUE
A9: =A8+1 -> 43835 | B9: 1370095 | C9: =the_units -> USG (US gallons) | D9: =VLOOKUP(WEEKDAY(A9),[1]weekday!$A$2:$B$8,2,0) -> Sun | E9: 5 | F9: =F8+1 -> 43835 | G9: 911629 | H9: 0 | I9: 0 | J9: 0 | K9: 0 | L9: 0 | M9: 46000 | N9: 0 | O9: 412466 | P9: =SUM(G9:O9) -> 1370095 | Q9: =SUM(G9:O9) -> 1370095 | R9: =P9=Q9 -> TRUE
A10: =A9+1 -> 43836 | B10: 962376 | C10: =the_units -> USG (US gallons) | D10: =VLOOKUP(WEEKDAY(A10),[1]weekday!$A$2:$B$8,2,0) -> Mon | E10: 6 | F10: =F9+1 -> 43836 | G10: 962376 | H10: 0 | I10: 0 | J10: 0 | K10: 0 | L10: 0 | M10: 0 | N10: 0 | O10: 0 | P10: =SUM(G10:O10) -> 962376 | Q10: =SUM(G10:O10) -> 962376 | R10: =P10=Q10 -> TRUE
A11: =A10+1 -> 43837 | B11: 1332916 | C11: =the_units -> USG (US gallons) | D11: =VLOOKUP(WEEKDAY(A11),[1]weekday!$A$2:$B$8,2,0) -> Tue | E11: 7 | F11: =F10+1 -> 43837 | G11: 963455 | H11: 0 | I11: 0 | J11: 0 | K11: 0 | L11: 194000 | M11: 97000 | N11: 0 | O11: 78461 | P11: =SUM(G11:O11) -> 1332916 | Q11: =SUM(G11:O11) -> 1332916 | R11: =P11=Q11 -> TRUE
A12: =A11+1 -> 43838 | B12: 1063978 | C12: =the_units -> USG (US gallons) | D12: =VLOOKUP(WEEKDAY(A12),[1]weekday!$A$2:$B$8,2,0) -> Wed | E12: 8 | F12: =F11+1 -> 43838 | G12: 981978 | H12: 0 | I12: 0 | J12: 0 | K12: 0 | L12: 0 | M12: 82000 | N12: 0 | O12: 0 | P12: =SUM(G12:O12) -> 1063978 | Q12: =SUM(G12:O12) -> 1063978 | R12: =P12=Q12 -> TRUE
A13: =A12+1 -> 43839 | B13: 1049535 | C13: =the_units -> USG (US gallons) | D13: =VLOOKUP(WEEKDAY(A13),[1]weekday!$A$2:$B$8,2,0) -> Thu | E13: 9 | F13: =F12+1 -> 43839 | G13: 968291 | H13: 0 | I13: 0 | J13: 0 | K13: 0 | L13: 0 | M13: 0 | N13: 0 | O13: 81244 | P13: =SUM(G13:O13) -> 1049535 | Q13: =SUM(G13:O13) -> 1049535 | R13: =P13=Q13 -> TRUE
A14: =A13+1 -> 43840 | B14: 1306903 | C14: =the_units -> USG (US gallons) | D14: =VLOOKUP(WEEKDAY(A14),[1]weekday!$A$2:$B$8,2,0) -> Fri | E14: 10 | F14: =F13+1 -> 43840 | G14: 1013903 | H14: 0 | I14: 0 | J14: 0 | K14: 0 | L14: 209000 | M14: 84000 | N14: 0 | O14: 0 | P14: =SUM(G14:O14) -> 1306903 | Q14: =SUM(G14:O14) -> 1306903 | R14: =P14=Q14 -> TRUE
A15: =A14+1 -> 43841 | B15: 1259239 | C15: =the_units -> USG (US gallons) | D15: =VLOOKUP(WEEKDAY(A15),[1]weekday!$A$2:$B$8,2,0) -> Sat | E15: 11 | F15: =F14+1 -> 43841 | G15: 855094 | H15: 0 | I15: 0 | J15: 0 | K15: 0 | L15: 0 | M15: 0 | N15: 0 | O15: 404145 | P15: =SUM(G15:O15) -> 1259239 | Q15: =SUM(G15:O15) -> 1259239 | R15: =P15=Q15 -> TRUE
A16: =A15+1 -> 43842 | B16: 1254616 | C16: =the_units -> USG (US gallons) | D16: =VLOOKUP(WEEKDAY(A16),[1]weekday!$A$2:$B$8,2,0) -> Sun | E16: 12 | F16: =F15+1 -> 43842 | G16: 917392 | H16: 0 | I16: 0 | J16: 0 | K16: 0 | L16: 0 | M16: 77000 | N16: 0 | O16: 260224 | P16: =SUM(G16:O16) -> 1254616 | Q16: =SUM(G16:O16) -> 1254616 | R16: =P16=Q16 -> TRUE
A17: =A16+1 -> 43843 | B17: 1327235 | C17: =the_units -> USG (US gallons) | D17: =VLOOKUP(WEEKDAY(A17),[1]weekday!$A$2:$B$8,2,0) -> Mon | E17: 13 | F17: =F16+1 -> 43843 | G17: 969781 | H17: 0 | I17: 0 | J17: 0 | K17: 0 | L17: 0 | M17: 88000 | N17: 0 | O17: 269454 | P17: =SUM(G17:O17) -> 1327235 | Q17: =SUM(G17:O17) -> 1327235 | R17: =P17=Q17 -> TRUE
... A369: =A368+1 -> 44195 | B369: 1339068 | C369: =the_units -> USG (US gallons) | D369: =VLOOKUP(WEEKDAY(A369),[1]weekday!$A$2:$B$8,2,0) -> Wed | E369: 365 | F369: =F368+1 -> 44195 | G369: 871068 | H369: 0 | I369: 0 | J369: 0 | K369: 0 | L369: 468000 | M369: 0 | N369: 0 | O369: 0 | P369: =SUM(G369:O369) -> 1339068 | Q369: =SUM(G369:O369) -> 1339068 | R369: =P369=Q369 -> TRUE
A370: =IF(MOD(the_year,4),"",A369+1) -> 44196 | B370: 1154083 | C370: =IF(MOD(the_year,4),"",the_units) -> USG (US gallons) | D370: =VLOOKUP(WEEKDAY(A370),[1]weekday!$A$2:$B$8,2,0) -> Thu | E370: 366 | F370: =IF(MOD(the_year,4),"",F369+1) -> 44196 | G370: 926083 | H370: 0 | I370: 0 | J370: 0 | K370: 0 | L370: 228000 | M370: 0 | N370: 0 | O370: 0 | P370: =SUM(G370:O370) -> 1154083 | Q370: =SUM(G370:O370) -> 1154083 | R370: =P370=Q370 -> TRUE
O371: Total | P371: =SUM(P5:P370) -> 1633782959
